{"text_format":"2","workbook":"xlsx","n_sheets":9,"sheets":["WorkforceAnalysis","FlowDataAnalysis","Goals","ResultsWomen","ResultsAboriginalPeoples","ResultsPersonsDisabilities","ResultsVisibleMinorities","Drop-downLists","Efforts"],"not_rendered":{"charts":0,"images":0,"macros":0,"external_links":0,"defined_names":15,"comments":3,"pivot_tables":0},"unopened":[],"bounds":{"document_bytes":16777216,"sheet_cells":100000,"run_cost":"one","rows_first":2000,"rows_last":500,"rows_between":2000,"halvings":0,"cell_chars":16384,"cell_head_chars":4096},"cells_cut":0,"cells_raw":0,"read":"whole","date_system":"1900"}

{"sheet":"WorkforceAnalysis","index":0,"n_rows":130,"n_cols":9,"rows_kept":130,"cut":false,"hidden":false,"merged":[[76,0,76,1],[76,2,76,4],[76,6,76,8],[108,0,108,1],[108,2,108,4],[108,6,108,8],[77,0,80,1],[78,3,78,4],[78,7,78,8],[77,2,77,4],[77,6,77,8],[44,0,44,1],[44,2,44,4],[44,6,44,8],[12,2,12,4],[12,6,12,8],[33,2,33,4],[33,6,33,8],[34,2,34,4],[34,6,34,8],[37,2,37,4],[37,6,37,8],[128,2,128,4],[128,6,128,8],[129,2,129,4],[129,6,129,8],[40,2,40,4],[40,6,40,8],[72,2,72,4],[72,6,72,8],[104,2,104,4],[104,6,104,8],[97,2,97,4],[97,6,97,8],[98,2,98,4],[98,6,98,8],[101,2,101,4],[101,6,101,8],[109,0,112,1],[110,3,110,4],[110,7,110,8],[109,2,109,4],[109,6,109,8],[65,2,65,4],[65,6,65,8],[66,2,66,4],[66,6,66,8],[69,2,69,4],[69,6,69,8],[45,0,48,1],[46,3,46,4],[46,7,46,8],[45,2,45,4],[45,6,45,8],[8,2,8,4],[8,6,8,8],[13,0,16,1],[14,3,14,4],[14,7,14,8],[13,2,13,4],[13,6,13,8],[12,0,12,1],[0,0,0,8],[1,0,1,8],[2,0,2,8],[3,0,3,8],[5,2,5,4],[5,6,5,8]]}
["Federal Contractors Program Achievement Report"]
["Part 1: Workforce Analysis"]
["[Organization's Legal Name]"]
["YYYY-MM-DD"]
[]
[null,null,"Data from First/Previous Workforce Analysis",null,null,null,"Data from Subsequent/Current Workforce Analysis"]
[null,null,"i","i","i",null,"i","i","i"]
[]
[null,null,"Data from First/Previous Workforce Analysis",null,null,null,"Data from Subsequent/Current Workforce Analysis"]
[null,null,"YYYY","MM","DD",null,"YYYY","MM","DD"]
[]
[]
[null,null,"Table 1: Women",null,null,null,"Table 5: Women"]
["Employment Equity Occupational Group (EEOG)",null,"First/Previous Workforce Analysis",null,null,null,"Subsequent/Current Workforce Analysis"]
[null,null,"All Employees","Women",null,null,"All Employees","Women"]
[null,null,null,"Representation","Availability*",null,null,"Representation","Availability*"]
[null,null,"#","#","%",null,"#","#","%"]
["01","Senior Managers",0,0,0,null,0,0,0]
["02","Middle & Other Managers",0,0,0,null,0,0,0]
["03","Professionals",0,0,0,null,0,0,0]
["04","Semi-Professionals & Technicians ",0,0,0,null,0,0,0]
["05","Supervisors",0,0,0,null,0,0,0]
["06","Supervisors: Crafts & Trades",0,0,0,null,0,0,0]
["07","Administrative & Senior Clerical Personnel",0,0,0,null,0,0,0]
["08","Skilled Sales & Service Personnel ",0,0,0,null,0,0,0]
["09","Skilled Crafts & Trades Workers ",0,0,0,null,0,0,0]
["10","Clerical Personnel",0,0,0,null,0,0,0]
["11","Intermediate Sales & Service Personnel",0,0,0,null,0,0,0]
["12","Semi-Skilled Manual Workers",0,0,0,null,0,0,0]
["13","Other Sales & Service Personnel ",0,0,0,null,0,0,0]
["14","Other Manual Workers",0,0,0,null,0,0,0]
["Total",null,{"$f":"SUM(C18:C31)","v":0},{"$f":"SUM(D18:D31)","v":0},0,null,{"$f":"SUM(G18:G31)","v":0},{"$f":"SUM(H18:H31)","v":0},0]
[]
[null,null,"* Source:",null,null,null,"* Source:"]
[null,null,"2016 Census",null,null,null,"2021 Census"]
[]
[]
[null,null,"Data from First/Previous Workforce Analysis",null,null,null,"Data from Subsequent/Current Workforce Analysis"]
[null,null,"i","i","i",null,"i","i","i"]
[]
[null,null,"Data from First/Previous Workforce Analysis",null,null,null,"Data from Subsequent/Current Workforce Analysis"]
[null,null,"YYYY","MM","DD",null,"YYYY","MM","DD"]
[null,null,{"$f":"C$11","v":0},{"$f":"D$11","v":0},{"$f":"E$11","v":0},null,{"$f":"G$11","v":0},{"$f":"H$11","v":0},{"$f":"I$11","v":0}]
[]
[null,null,"Table 2: Aboriginal Peoples",null,null,null,"Table 6: Aboriginal Peoples"]
["Employment Equity Occupational Group (EEOG)",null,"First/Previous Workforce Analysis",null,null,null,"Subsequent/Current Workforce Analysis"]
[null,null,"All Employees","Aboriginal Peoples",null,null,"All Employees","Aboriginal Peoples"]
[null,null,null,"Representation","Availability*",null,null,"Representation","Availability*"]
[null,null,"#","#","%",null,"#","#","%"]
["01","Senior Managers",{"$f":"C$18","v":0},0,0,null,{"$f":"G$18","v":0},0,0]
["02","Middle & Other Managers",{"$f":"C$19","v":0},0,0,null,{"$f":"G$19","v":0},0,0]
["03","Professionals",{"$f":"C$20","v":0},0,0,null,{"$f":"G$20","v":0},0,0]
["04","Semi-Professionals & Technicians ",{"$f":"C$21","v":0},0,0,null,{"$f":"G$21","v":0},0,0]
["05","Supervisors",{"$f":"C$22","v":0},0,0,null,{"$f":"G$22","v":0},0,0]
["06","Supervisors: Crafts & Trades",{"$f":"C$23","v":0},0,0,null,{"$f":"G$23","v":0},0,0]
["07","Administrative & Senior Clerical Personnel",{"$f":"C$24","v":0},0,0,null,{"$f":"G$24","v":0},0,0]
["08","Skilled Sales & Service Personnel ",{"$f":"C$25","v":0},0,0,null,{"$f":"G$25","v":0},0,0]
["09","Skilled Crafts & Trades Workers ",{"$f":"C$26","v":0},0,0,null,{"$f":"G$26","v":0},0,0]
["10","Clerical Personnel",{"$f":"C$27","v":0},0,0,null,{"$f":"G$27","v":0},0,0]
["11","Intermediate Sales & Service Personnel",{"$f":"C$28","v":0},0,0,null,{"$f":"G$28","v":0},0,0]
["12","Semi-Skilled Manual Workers",{"$f":"C$29","v":0},0,0,null,{"$f":"G$29","v":0},0,0]
["13","Other Sales & Service Personnel ",{"$f":"C$30","v":0},0,0,null,{"$f":"G$30","v":0},0,0]
["14","Other Manual Workers",{"$f":"C$31","v":0},0,0,null,{"$f":"G$31","v":0},0,0]
["Total",null,{"$f":"SUM(C50:C63)","v":0},{"$f":"SUM(D50:D63)","v":0},0,null,{"$f":"SUM(G50:G63)","v":0},{"$f":"SUM(H50:H63)","v":0},0]
[]
[null,null,"* Source:",null,null,null,"* Source:"]
[null,null,{"$f":"C$35","v":"2016 Census"},null,null,null,{"$f":"G$35","v":"2021 Census"}]
[]
[]
[null,null,"Data from First/Previous Workforce Analysis",null,null,null,"Data from Subsequent/Current Workforce Analysis"]
[null,null,"i","i","i",null,"i","i","i"]
[]
[null,null,"Data from First/Previous Workforce Analysis",null,null,null,"Data from Subsequent/Current Workforce Analysis"]
[null,null,"YYYY","MM","DD",null,"YYYY","MM","DD"]
[null,null,{"$f":"C$11","v":0},{"$f":"D$11","v":0},{"$f":"E$11","v":0},null,{"$f":"G$11","v":0},{"$f":"H$11","v":0},{"$f":"I$11","v":0}]
[]
[null,null,"Table 3: Members of Visible Minorities",null,null,null,"Table 7: Members of Visible Minorities"]
["Employment Equity Occupational Group (EEOG)",null,"First/Previous Workforce Analysis",null,null,null,"Subsequent/Current Workforce Analysis"]
[null,null,"All Employees","Members of Visible Minorities",null,null,"All Employees","Members of Visible Minorities"]
[null,null,null,"Representation","Availability*",null,null,"Representation","Availability*"]
[null,null,"#","#","%",null,"#","#","%"]
["01","Senior Managers",{"$f":"C$18","v":0},0,0,null,{"$f":"G$18","v":0},0,0]
["02","Middle & Other Managers",{"$f":"C$19","v":0},0,0,null,{"$f":"G$19","v":0},0,0]
["03","Professionals",{"$f":"C$20","v":0},0,0,null,{"$f":"G$20","v":0},0,0]
["04","Semi-Professionals & Technicians ",{"$f":"C$21","v":0},0,0,null,{"$f":"G$21","v":0},0,0]
["05","Supervisors",{"$f":"C$22","v":0},0,0,null,{"$f":"G$22","v":0},0,0]
["06","Supervisors: Crafts & Trades",{"$f":"C$23","v":0},0,0,null,{"$f":"G$23","v":0},0,0]
["07","Administrative & Senior Clerical Personnel",{"$f":"C$24","v":0},0,0,null,{"$f":"G$24","v":0},0,0]
["08","Skilled Sales & Service Personnel ",{"$f":"C$25","v":0},0,0,null,{"$f":"G$25","v":0},0,0]
["09","Skilled Crafts & Trades Workers ",{"$f":"C$26","v":0},0,0,null,{"$f":"G$26","v":0},0,0]
["10","Clerical Personnel",{"$f":"C$27","v":0},0,0,null,{"$f":"G$27","v":0},0,0]
["11","Intermediate Sales & Service Personnel",{"$f":"C$28","v":0},0,0,null,{"$f":"G$28","v":0},0,0]
["12","Semi-Skilled Manual Workers",{"$f":"C$29","v":0},0,0,null,{"$f":"G$29","v":0},0,0]
["13","Other Sales & Service Personnel ",{"$f":"C$30","v":0},0,0,null,{"$f":"G$30","v":0},0,0]
["14","Other Manual Workers",{"$f":"C$31","v":0},0,0,null,{"$f":"G$31","v":0},0,0]
["Total",null,{"$f":"SUM(C82:C95)","v":0},{"$f":"SUM(D82:D95)","v":0},0,null,{"$f":"SUM(G82:G95)","v":0},{"$f":"SUM(H82:H95)","v":0},0]
[]
[null,null,"* Source:",null,null,null,"* Source:"]
[null,null,{"$f":"C$35","v":"2016 Census"},null,null,null,{"$f":"G$35","v":"2021 Census"}]
[]
[]
[null,null,"Data from First/Previous Workforce Analysis",null,null,null,"Data from Subsequent/Current Workforce Analysis"]
[null,null,"i","i","i",null,"i","i","i"]
[]
[null,null,"Data from First/Previous Workforce Analysis",null,null,null,"Data from Subsequent/Current Workforce Analysis"]
[null,null,"YYYY","MM","DD",null,"YYYY","MM","DD"]
[null,null,{"$f":"C$11","v":0},{"$f":"D$11","v":0},{"$f":"E$11","v":0},null,{"$f":"G$11","v":0},{"$f":"H$11","v":0},{"$f":"I$11","v":0}]
[]
[null,null,"Table 4: Persons with Disabilities",null,null,null,"Table 8: Persons with Disabilities"]
["Employment Equity Occupational Group (EEOG)",null,"First/Previous Workforce Analysis",null,null,null,"Subsequent/Current Workforce Analysis"]
[null,null,"All Employees","Persons with Disabilities",null,null,"All Employees","Persons with Disabilities"]
[null,null,null,"Representation","Availability*",null,null,"Representation","Availability*"]
[null,null,"#","#","%",null,"#","#","%"]
["01/02","Managers",{"$f":"C$18+C$19","v":0},0,0,null,{"$f":"G$18+G$19","v":0},0,0]
["03","Professionals",{"$f":"C$20","v":0},0,0,null,{"$f":"G$20","v":0},0,0]
["04","Semi-Professionals & Technicians ",{"$f":"C$21","v":0},0,0,null,{"$f":"G$21","v":0},0,0]
["05","Supervisors",{"$f":"C$22","v":0},0,0,null,{"$f":"G$22","v":0},0,0]
["06/09","Supervisors: Crafts & Trades / Skilled Crafts & Trades Workers ",{"$f":"C$23","v":0},0,0,null,{"$f":"G$23","v":0},0,0]
["07","Administrative & Senior Clerical Personnel",{"$f":"C$24","v":0},0,0,null,{"$f":"G$24","v":0},0,0]
["08","Skilled Sales & Service Personnel ",{"$f":"C$25","v":0},0,0,null,{"$f":"G$25","v":0},0,0]
["09","Skilled Crafts & Trades Workers ",{"$f":"C$26","v":0},0,0,null,{"$f":"G$26","v":0},0,0]
["10","Clerical Personnel",{"$f":"C$27","v":0},0,0,null,{"$f":"G$27","v":0},0,0]
["11","Intermediate Sales & Service Personnel",{"$f":"C$28","v":0},0,0,null,{"$f":"G$28","v":0},0,0]
["12","Semi-Skilled Manual Workers",{"$f":"C$29","v":0},0,0,null,{"$f":"G$29","v":0},0,0]
["13","Other Sales & Service Personnel ",{"$f":"C$30","v":0},0,0,null,{"$f":"G$30","v":0},0,0]
["14","Other Manual Workers",{"$f":"C$31","v":0},0,0,null,{"$f":"G$31","v":0},0,0]
["Total",null,{"$f":"SUM(C114:C126)","v":0},{"$f":"SUM(D114:D126)","v":0},0,null,{"$f":"SUM(G114:G126)","v":0},{"$f":"SUM(H114:H126)","v":0},0]
[]
[null,null,"* Source:",null,null,null,"* Source:"]
[null,null,"2017 Canadian Survey on Disability",null,null,null,"2022 Canadian Survey on Disability"]

{"sheet":"FlowDataAnalysis","index":1,"n_rows":111,"n_cols":16,"rows_kept":111,"cut":false,"hidden":false,"merged":[[65,0,65,1],[65,2,65,5],[65,7,65,10],[65,12,65,15],[92,0,92,1],[92,2,92,5],[92,7,92,10],[92,12,92,15],[90,12,90,15],[66,0,68,1],[66,4,66,5],[66,9,66,10],[66,12,66,13],[66,14,66,15],[86,3,86,5],[86,7,86,9],[38,0,38,1],[38,2,38,5],[38,7,38,10],[38,12,38,15],[32,3,32,5],[32,7,32,9],[36,2,36,5],[36,7,36,10],[0,0,0,15],[1,0,1,15],[2,0,2,15],[3,0,3,15],[12,12,12,13],[12,14,12,15],[12,0,14,1],[9,12,9,15],[9,2,9,5],[9,7,9,10],[5,3,5,5],[5,7,5,9],[11,0,11,1],[11,2,11,5],[11,7,11,10],[11,12,11,15],[93,12,93,13],[93,14,93,15],[12,2,12,3],[12,4,12,5],[12,7,12,8],[12,9,12,10],[36,12,36,15],[39,12,39,13],[39,14,39,15],[63,12,63,15],[66,7,66,8],[90,2,90,5],[90,7,90,10],[59,3,59,5],[59,7,59,9],[66,2,66,3],[93,0,95,1],[93,2,93,3],[93,4,93,5],[93,7,93,8],[93,9,93,10],[63,2,63,5],[63,7,63,10],[39,0,41,1],[39,2,39,3],[39,4,39,5],[39,7,39,8],[39,9,39,10]]}
["Federal Contractors Program Achievement Report"]
["Part 2: Flow Data Analysis"]
[{"$f":"WorkforceAnalysis!A3:I3","v":"[Organization's Legal Name]"}]
[{"$f":"WorkforceAnalysis!A4:I4","v":"YYYY-MM-DD"}]
[]
[null,null,null,"Start Date of Flow Data",null,null,null,"End Date of Flow Data"]
[null,null,null,"YYYY","MM","DD",null,"YYYY","MM","DD"]
[null,null,null,{"$f":"IF(ISBLANK(WorkforceAnalysis!C11)=TRUE,\"-\",WorkforceAnalysis!C11)","v":"-"},{"$f":"IF(ISBLANK(WorkforceAnalysis!D11)=TRUE,\"-\",WorkforceAnalysis!D11)","v":"-"},{"$f":"IF(ISBLANK(WorkforceAnalysis!E11)=TRUE,\"-\",WorkforceAnalysis!E11)","v":"-"},null,{"$f":"IF(ISBLANK(WorkforceAnalysis!G11)=TRUE,\"-\",WorkforceAnalysis!G11)","v":"-"},{"$f":"IF(ISBLANK(WorkforceAnalysis!H11)=TRUE,\"-\",WorkforceAnalysis!H11)","v":"-"},{"$f":"IF(ISBLANK(WorkforceAnalysis!I11)=TRUE,\"-\",WorkforceAnalysis!I11)","v":"-"}]
[]
[null,null,"Data from Form 4 - Employees             Hired",{"$nulls":4},"Data from Form 5 - Employees Promoted",{"$nulls":4},"Data from Form 6 - Employees Terminated"]
[null,null,"i","i","i","i",null,"i","i","i","i",null,"i","i","i","i"]
[null,null,"Table 1: Women",{"$nulls":4},"Table 5: Women",{"$nulls":4},"Table 9: Women"]
["Employment Equity Occupational Group (EEOG)",null,"Full-time / National",null,"Part-time / National",null,null,"Full-time / National",null,"Part-time / National",null,null,"Full-time / National",null,"Part-time / National"]
[null,null,"All Employees Hired","Women Hired","All Employees Hired","Women Hired",null,"All Employees Promoted","Women Promoted","All Employees Promoted","Women Promoted",null,"All Employees Terminated","Women Terminated","All Employees Terminated","Women Terminated"]
[null,null,"#","#","#","#",null,"#","#","#","#",null,"#","#","#","#"]
["01","Senior Managers",0,0,0,0,null,0,0,0,0,null,0,0,0,0]
["02","Middle & Other Managers",0,0,0,0,null,0,0,0,0,null,0,0,0,0]
["03","Professionals",0,0,0,0,null,0,0,0,0,null,0,0,0,0]
["04","Semi-Professionals & Technicians ",0,0,0,0,null,0,0,0,0,null,0,0,0,0]
["05","Supervisors",0,0,0,0,null,0,0,0,0,null,0,0,0,0]
["06","Supervisors: Crafts & Trades",0,0,0,0,null,0,0,0,0,null,0,0,0,0]
["07","Administrative & Senior Clerical Personnel",0,0,0,0,null,0,0,0,0,null,0,0,0,0]
["08","Skilled Sales & Service Personnel ",0,0,0,0,null,0,0,0,0,null,0,0,0,0]
["09","Skilled Crafts & Trades Workers ",0,0,0,0,null,0,0,0,0,null,0,0,0,0]
["10","Clerical Personnel",0,0,0,0,null,0,0,0,0,null,0,0,0,0]
["11","Intermediate Sales & Service Personnel",0,0,0,0,null,0,0,0,0,null,0,0,0,0]
["12","Semi-Skilled Manual Workers",0,0,0,0,null,0,0,0,0,null,0,0,0,0]
["13","Other Sales & Service Personnel ",0,0,0,0,null,0,0,0,0,null,0,0,0,0]
["14","Other Manual Workers",0,0,0,0,null,0,0,0,0,null,0,0,0,0]
["Total",null,{"$f":"SUM(C16:C29)","v":0},{"$f":"SUM(D16:D29)","v":0},{"$f":"SUM(E16:E29)","v":0},{"$f":"SUM(F16:F29)","v":0},null,{"$f":"SUM(H16:H29)","v":0},{"$f":"SUM(I16:I29)","v":0},{"$f":"SUM(J16:J29)","v":0},{"$f":"SUM(K16:K29)","v":0},null,{"$f":"SUM(M16:M29)","v":0},{"$f":"SUM(N16:N29)","v":0},{"$f":"SUM(O16:O29)","v":0},{"$f":"SUM(P16:P29)","v":0}]
[]
[]
[null,null,null,"Start Date of Flow Data",null,null,null,"End Date of Flow Data"]
[null,null,null,"YYYY","MM","DD",null,"YYYY","MM","DD"]
[null,null,null,{"$f":"D$8","v":"-"},{"$f":"E$8","v":"-"},{"$f":"F$8","v":"-"},null,{"$f":"H$8","v":"-"},{"$f":"I$8","v":"-"},{"$f":"J$8","v":"-"}]
[]
[null,null,"Data from Form 4 - Employees             Hired",{"$nulls":4},"Data from Form 5 - Employees Promoted",{"$nulls":4},"Data from Form 6 - Employees Terminated"]
[null,null,"i","i","i","i",null,"i","i","i","i",null,"i","i","i","i"]
[null,null,"Table 2: Aboriginal Peoples",{"$nulls":4},"Table 6: Aboriginal Peoples",{"$nulls":4},"Table 10: Aboriginal Peoples"]
["Employment Equity Occupational Group (EEOG)",null,"Full-time / National",null,"Part-time / National",null,null,"Full-time / National",null,"Part-time / National",null,null,"Full-time / National",null,"Part-time / National"]
[null,null,"All Employees Hired","Aboriginal Peoples Hired","All Employees Hired","Aboriginal Peoples Hired",null,"All Employees Promoted","Aboriginal Peoples Promoted","All Employees Promoted","Aboriginal Peoples Promoted",null,"All Employees Terminated","Aboriginal Peoples Terminated","All Employees Terminated","Aboriginal Peoples Terminated"]
[null,null,"#","#","#","#",null,"#","#","#","#",null,"#","#","#","#"]
["01","Senior Managers",{"$f":"C$16","v":0},0,{"$f":"E$16","v":0},0,null,{"$f":"H$16","v":0},0,{"$f":"J$16","v":0},0,null,{"$f":"M$16","v":0},0,{"$f":"O$16","v":0},0]
["02","Middle & Other Managers",{"$f":"C$17","v":0},0,{"$f":"E$17","v":0},0,null,{"$f":"H$17","v":0},0,{"$f":"J$17","v":0},0,null,{"$f":"M$17","v":0},0,{"$f":"O$17","v":0},0]
["03","Professionals",{"$f":"C$18","v":0},0,{"$f":"E$18","v":0},0,null,{"$f":"H$18","v":0},0,{"$f":"J$18","v":0},0,null,{"$f":"M$18","v":0},0,{"$f":"O$18","v":0},0]
["04","Semi-Professionals & Technicians ",{"$f":"C$19","v":0},0,{"$f":"E$19","v":0},0,null,{"$f":"H$19","v":0},0,{"$f":"J$19","v":0},0,null,{"$f":"M$19","v":0},0,{"$f":"O$19","v":0},0]
["05","Supervisors",{"$f":"C$20","v":0},0,{"$f":"E$20","v":0},0,null,{"$f":"H$20","v":0},0,{"$f":"J$20","v":0},0,null,{"$f":"M$20","v":0},0,{"$f":"O$20","v":0},0]
["06","Supervisors: Crafts & Trades",{"$f":"C$21","v":0},0,{"$f":"E$21","v":0},0,null,{"$f":"H$21","v":0},0,{"$f":"J$21","v":0},0,null,{"$f":"M$21","v":0},0,{"$f":"O$21","v":0},0]
["07","Administrative & Senior Clerical Personnel",{"$f":"C$22","v":0},0,{"$f":"E$22","v":0},0,null,{"$f":"H$22","v":0},0,{"$f":"J$22","v":0},0,null,{"$f":"M$22","v":0},0,{"$f":"O$22","v":0},0]
["08","Skilled Sales & Service Personnel ",{"$f":"C$23","v":0},0,{"$f":"E$23","v":0},0,null,{"$f":"H$23","v":0},0,{"$f":"J$23","v":0},0,null,{"$f":"M$23","v":0},0,{"$f":"O$23","v":0},0]
["09","Skilled Crafts & Trades Workers ",{"$f":"C$24","v":0},0,{"$f":"E$24","v":0},0,null,{"$f":"H$24","v":0},0,{"$f":"J$24","v":0},0,null,{"$f":"M$24","v":0},0,{"$f":"O$24","v":0},0]
["10","Clerical Personnel",{"$f":"C$25","v":0},0,{"$f":"E$25","v":0},0,null,{"$f":"H$25","v":0},0,{"$f":"J$25","v":0},0,null,{"$f":"M$25","v":0},0,{"$f":"O$25","v":0},0]
["11","Intermediate Sales & Service Personnel",{"$f":"C$26","v":0},0,{"$f":"E$26","v":0},0,null,{"$f":"H$26","v":0},0,{"$f":"J$26","v":0},0,null,{"$f":"M$26","v":0},0,{"$f":"O$26","v":0},0]
["12","Semi-Skilled Manual Workers",{"$f":"C$27","v":0},0,{"$f":"E$27","v":0},0,null,{"$f":"H$27","v":0},0,{"$f":"J$27","v":0},0,null,{"$f":"M$27","v":0},0,{"$f":"O$27","v":0},0]
["13","Other Sales & Service Personnel ",{"$f":"C$28","v":0},0,{"$f":"E$28","v":0},0,null,{"$f":"H$28","v":0},0,{"$f":"J$28","v":0},0,null,{"$f":"M$28","v":0},0,{"$f":"O$28","v":0},0]
["14","Other Manual Workers",{"$f":"C$29","v":0},0,{"$f":"E$29","v":0},0,null,{"$f":"H$29","v":0},0,{"$f":"J$29","v":0},0,null,{"$f":"M$29","v":0},0,{"$f":"O$29","v":0},0]
["Total",null,{"$f":"SUM(C43:C56)","v":0},{"$f":"SUM(D43:D56)","v":0},{"$f":"SUM(E43:E56)","v":0},{"$f":"SUM(F43:F56)","v":0},null,{"$f":"SUM(H43:H56)","v":0},{"$f":"SUM(I43:I56)","v":0},{"$f":"SUM(J43:J56)","v":0},{"$f":"SUM(K43:K56)","v":0},null,{"$f":"SUM(M43:M56)","v":0},{"$f":"SUM(N43:N56)","v":0},{"$f":"SUM(O43:O56)","v":0},{"$f":"SUM(P43:P56)","v":0}]
[]
[]
[null,null,null,"Start Date of Flow Data",null,null,null,"End Date of Flow Data"]
[null,null,null,"YYYY","MM","DD",null,"YYYY","MM","DD"]
[null,null,null,{"$f":"D$8","v":"-"},{"$f":"E$8","v":"-"},{"$f":"F$8","v":"-"},null,{"$f":"H$8","v":"-"},{"$f":"I$8","v":"-"},{"$f":"J$8","v":"-"}]
[]
[null,null,"Data from Form 4 - Employees             Hired",{"$nulls":4},"Data from Form 5 - Employees Promoted",{"$nulls":4},"Data from Form 6 - Employees Terminated"]
[null,null,"i","i","i","i",null,"i","i","i","i",null,"i","i","i","i"]
[null,null,"Table 3: Persons with Disabilities",{"$nulls":4},"Table 7: Persons with Disabilities",{"$nulls":4},"Table 11: Persons with Disabilities"]
["Employment Equity Occupational Group (EEOG)",null,"Full-time / National",null,"Part-time / National",null,null,"Full-time / National",null,"Part-time / National",null,null,"Full-time / National",null,"Part-time / National"]
[null,null,"All Employees Hired","Persons with Disabilities Hired","All Employees Hired","Persons with Disabilities Hired",null,"All Employees Promoted","Persons with Disabilities Promoted","All Employees Promoted","Persons with Disabilities Promoted",null,"All Employees Terminated","Persons with Disabilities Terminated","All Employees Terminated","Persons with Disabilities Terminated"]
[null,null,"#","#","#","#",null,"#","#","#","#",null,"#","#","#","#"]
["01/02","Managers",{"$f":"C$16","v":0},0,{"$f":"E$16","v":0},0,null,{"$f":"H$16","v":0},0,{"$f":"J$16","v":0},0,null,{"$f":"M$16","v":0},0,{"$f":"O$16","v":0},0]
["02","Middle & Other Managers",{"$f":"C$17","v":0},0,{"$f":"E$17","v":0},0,null,{"$f":"H$17","v":0},0,{"$f":"J$17","v":0},0,null,{"$f":"M$17","v":0},0,{"$f":"O$17","v":0},0]
["03","Professionals",{"$f":"C$18","v":0},0,{"$f":"E$18","v":0},0,null,{"$f":"H$18","v":0},0,{"$f":"J$18","v":0},0,null,{"$f":"M$18","v":0},0,{"$f":"O$18","v":0},0]
["04","Semi-Professionals & Technicians ",{"$f":"C$19","v":0},0,{"$f":"E$19","v":0},0,null,{"$f":"H$19","v":0},0,{"$f":"J$19","v":0},0,null,{"$f":"M$19","v":0},0,{"$f":"O$19","v":0},0]
["05","Supervisors",{"$f":"C$20","v":0},0,{"$f":"E$20","v":0},0,null,{"$f":"H$20","v":0},0,{"$f":"J$20","v":0},0,null,{"$f":"M$20","v":0},0,{"$f":"O$20","v":0},0]
["06","Supervisors: Crafts & Trades",{"$f":"C$21","v":0},0,{"$f":"E$21","v":0},0,null,{"$f":"H$21","v":0},0,{"$f":"J$21","v":0},0,null,{"$f":"M$21","v":0},0,{"$f":"O$21","v":0},0]
["07","Administrative & Senior Clerical Personnel",{"$f":"C$22","v":0},0,{"$f":"E$22","v":0},0,null,{"$f":"H$22","v":0},0,{"$f":"J$22","v":0},0,null,{"$f":"M$22","v":0},0,{"$f":"O$22","v":0},0]
["08","Skilled Sales & Service Personnel ",{"$f":"C$23","v":0},0,{"$f":"E$23","v":0},0,null,{"$f":"H$23","v":0},0,{"$f":"J$23","v":0},0,null,{"$f":"M$23","v":0},0,{"$f":"O$23","v":0},0]
["09","Skilled Crafts & Trades Workers ",{"$f":"C$24","v":0},0,{"$f":"E$24","v":0},0,null,{"$f":"H$24","v":0},0,{"$f":"J$24","v":0},0,null,{"$f":"M$24","v":0},0,{"$f":"O$24","v":0},0]
["10","Clerical Personnel",{"$f":"C$25","v":0},0,{"$f":"E$25","v":0},0,null,{"$f":"H$25","v":0},0,{"$f":"J$25","v":0},0,null,{"$f":"M$25","v":0},0,{"$f":"O$25","v":0},0]
["11","Intermediate Sales & Service Personnel",{"$f":"C$26","v":0},0,{"$f":"E$26","v":0},0,null,{"$f":"H$26","v":0},0,{"$f":"J$26","v":0},0,null,{"$f":"M$26","v":0},0,{"$f":"O$26","v":0},0]
["12","Semi-Skilled Manual Workers",{"$f":"C$27","v":0},0,{"$f":"E$27","v":0},0,null,{"$f":"H$27","v":0},0,{"$f":"J$27","v":0},0,null,{"$f":"M$27","v":0},0,{"$f":"O$27","v":0},0]
["13","Other Sales & Service Personnel ",{"$f":"C$28","v":0},0,{"$f":"E$28","v":0},0,null,{"$f":"H$28","v":0},0,{"$f":"J$28","v":0},0,null,{"$f":"M$28","v":0},0,{"$f":"O$28","v":0},0]
["14","Other Manual Workers",{"$f":"C$29","v":0},0,{"$f":"E$29","v":0},0,null,{"$f":"H$29","v":0},0,{"$f":"J$29","v":0},0,null,{"$f":"M$29","v":0},0,{"$f":"O$29","v":0},0]
["Total",null,{"$f":"SUM(C70:C83)","v":0},{"$f":"SUM(D70:D83)","v":0},{"$f":"SUM(E70:E83)","v":0},{"$f":"SUM(F70:F83)","v":0},null,{"$f":"SUM(H70:H83)","v":0},{"$f":"SUM(I70:I83)","v":0},{"$f":"SUM(J70:J83)","v":0},{"$f":"SUM(K70:K83)","v":0},null,{"$f":"SUM(M70:M83)","v":0},{"$f":"SUM(N70:N83)","v":0},{"$f":"SUM(O70:O83)","v":0},{"$f":"SUM(P70:P83)","v":0}]
[]
[]
[null,null,null,"Start Date of Flow Data",null,null,null,"End Date of Flow Data"]
[null,null,null,"YYYY","MM","DD",null,"YYYY","MM","DD"]
[null,null,null,{"$f":"D$8","v":"-"},{"$f":"E$8","v":"-"},{"$f":"F$8","v":"-"},null,{"$f":"H$8","v":"-"},{"$f":"I$8","v":"-"},{"$f":"J$8","v":"-"}]
[]
[null,null,"Data from Form 4 - Employees             Hired",{"$nulls":4},"Data from Form 5 - Employees Promoted",{"$nulls":4},"Data from Form 6 - Employees Terminated"]
[null,null,"i","i","i","i",null,"i","i","i","i",null,"i","i","i","i"]
[null,null,"Table 4: Members of Visible Minorities",{"$nulls":4},"Table 8: Members of Visible Minorities",{"$nulls":4},"Table 12: Members of Visible Minorities"]
["Employment Equity Occupational Group (EEOG)",null,"Full-time / National",null,"Part-time / National",null,null,"Full-time / National",null,"Part-time / National",null,null,"Full-time / National",null,"Part-time / National"]
[null,null,"All Employees Hired","Members of Visible Minorities Hired","All Employees Hired","Members of Visible Minorities Hired",null,"All Employees Promoted","Members of Visible Minorities Promoted","All Employees Promoted","Members of Visible Minorities Promoted",null,"All Employees Terminated","Members of Visible Minorities Terminated","All Employees Terminated","Members of Visible Minorities Terminated"]
[null,null,"#","#","#","#",null,"#","#","#","#",null,"#","#","#","#"]
["01","Senior Managers",{"$f":"C$16","v":0},0,{"$f":"E$16","v":0},0,null,{"$f":"H$16","v":0},0,{"$f":"J$16","v":0},0,null,{"$f":"M$16","v":0},0,{"$f":"O$16","v":0},0]
["02","Middle & Other Managers",{"$f":"C$17","v":0},0,{"$f":"E$17","v":0},0,null,{"$f":"H$17","v":0},0,{"$f":"J$17","v":0},0,null,{"$f":"M$17","v":0},0,{"$f":"O$17","v":0},0]
["03","Professionals",{"$f":"C$18","v":0},0,{"$f":"E$18","v":0},0,null,{"$f":"H$18","v":0},0,{"$f":"J$18","v":0},0,null,{"$f":"M$18","v":0},0,{"$f":"O$18","v":0},0]
["04","Semi-Professionals & Technicians ",{"$f":"C$19","v":0},0,{"$f":"E$19","v":0},0,null,{"$f":"H$19","v":0},0,{"$f":"J$19","v":0},0,null,{"$f":"M$19","v":0},0,{"$f":"O$19","v":0},0]
["05","Supervisors",{"$f":"C$20","v":0},0,{"$f":"E$20","v":0},0,null,{"$f":"H$20","v":0},0,{"$f":"J$20","v":0},0,null,{"$f":"M$20","v":0},0,{"$f":"O$20","v":0},0]
["06","Supervisors: Crafts & Trades",{"$f":"C$21","v":0},0,{"$f":"E$21","v":0},0,null,{"$f":"H$21","v":0},0,{"$f":"J$21","v":0},0,null,{"$f":"M$21","v":0},0,{"$f":"O$21","v":0},0]
["07","Administrative & Senior Clerical Personnel",{"$f":"C$22","v":0},0,{"$f":"E$22","v":0},0,null,{"$f":"H$22","v":0},0,{"$f":"J$22","v":0},0,null,{"$f":"M$22","v":0},0,{"$f":"O$22","v":0},0]
["08","Skilled Sales & Service Personnel ",{"$f":"C$23","v":0},0,{"$f":"E$23","v":0},0,null,{"$f":"H$23","v":0},0,{"$f":"J$23","v":0},0,null,{"$f":"M$23","v":0},0,{"$f":"O$23","v":0},0]
["09","Skilled Crafts & Trades Workers ",{"$f":"C$24","v":0},0,{"$f":"E$24","v":0},0,null,{"$f":"H$24","v":0},0,{"$f":"J$24","v":0},0,null,{"$f":"M$24","v":0},0,{"$f":"O$24","v":0},0]
["10","Clerical Personnel",{"$f":"C$25","v":0},0,{"$f":"E$25","v":0},0,null,{"$f":"H$25","v":0},0,{"$f":"J$25","v":0},0,null,{"$f":"M$25","v":0},0,{"$f":"O$25","v":0},0]
["11","Intermediate Sales & Service Personnel",{"$f":"C$26","v":0},0,{"$f":"E$26","v":0},0,null,{"$f":"H$26","v":0},0,{"$f":"J$26","v":0},0,null,{"$f":"M$26","v":0},0,{"$f":"O$26","v":0},0]
["12","Semi-Skilled Manual Workers",{"$f":"C$27","v":0},0,{"$f":"E$27","v":0},0,null,{"$f":"H$27","v":0},0,{"$f":"J$27","v":0},0,null,{"$f":"M$27","v":0},0,{"$f":"O$27","v":0},0]
["13","Other Sales & Service Personnel ",{"$f":"C$28","v":0},0,{"$f":"E$28","v":0},0,null,{"$f":"H$28","v":0},0,{"$f":"J$28","v":0},0,null,{"$f":"M$28","v":0},0,{"$f":"O$28","v":0},0]
["14","Other Manual Workers",{"$f":"C$29","v":0},0,{"$f":"E$29","v":0},0,null,{"$f":"H$29","v":0},0,{"$f":"J$29","v":0},0,null,{"$f":"M$29","v":0},0,{"$f":"O$29","v":0},0]
["Total",null,{"$f":"SUM(C97:C110)","v":0},{"$f":"SUM(D97:D110)","v":0},{"$f":"SUM(E97:E110)","v":0},{"$f":"SUM(F97:F110)","v":0},null,{"$f":"SUM(H97:H110)","v":0},{"$f":"SUM(I97:I110)","v":0},{"$f":"SUM(J97:J110)","v":0},{"$f":"SUM(K97:K110)","v":0},null,{"$f":"SUM(M97:M110)","v":0},{"$f":"SUM(N97:N110)","v":0},{"$f":"SUM(O97:O110)","v":0},{"$f":"SUM(P97:P110)","v":0}]

{"sheet":"Goals","index":2,"n_rows":433,"n_cols":21,"rows_kept":433,"cut":false,"hidden":false,"merged":[[72,14,72,15],[73,14,73,15],[126,14,126,15],[127,14,127,15],[179,14,179,15],[180,14,180,15],[233,14,233,15],[234,14,234,15],[287,14,287,15],[258,6,258,20],[259,6,259,20],[260,6,260,20],[261,6,261,20],[262,6,262,20],[263,6,263,20],[264,6,264,20],[265,6,265,20],[218,6,218,20],[209,6,209,20],[210,6,210,20],[211,6,211,20],[212,6,212,20],[213,6,213,20],[214,6,214,20],[429,6,429,20],[430,6,430,20],[431,6,431,20],[432,6,432,20],[420,6,420,20],[421,6,421,20],[422,6,422,20],[423,6,423,20],[424,6,424,20],[425,6,425,20],[426,6,426,20],[427,6,427,20],[428,6,428,20],[413,1,413,20],[414,2,414,20],[415,0,417,1],[415,2,415,5],[415,6,417,20],[416,2,416,3],[416,4,416,5],[418,6,418,20],[419,6,419,20],[389,0,389,1],[389,2,389,20],[390,2,390,20],[391,0,396,1],[391,2,391,9],[391,10,391,20],[392,2,393,2],[392,3,393,5],[392,6,393,8],[392,9,395,9],[392,10,393,10],[392,11,394,12],[392,13,395,13],[392,14,392,15],[392,16,395,16],[392,17,395,17],[392,18,395,18],[392,19,395,19],[392,20,395,20],[394,4,394,5],[394,7,394,8],[393,14,393,15],[394,14,394,15],[378,6,378,20],[361,2,361,20],[380,2,380,20],[384,0,387,1],[384,2,387,2],[384,3,387,3],[384,4,387,4],[384,5,387,5],[384,6,387,6],[384,7,387,7],[384,8,387,8],[384,9,387,9],[384,10,387,10],[384,11,387,11],[384,12,387,12],[384,13,387,13],[384,14,387,14],[384,15,387,15],[384,16,387,16],[384,17,387,17],[384,18,387,18],[384,19,387,19],[384,20,387,20],[369,6,369,20],[370,6,370,20],[371,6,371,20],[372,6,372,20],[373,6,373,20],[374,6,374,20],[375,6,375,20],[376,6,376,20],[377,6,377,20],[360,1,360,20],[362,2,362,5],[362,6,364,20],[365,6,365,20],[366,6,366,20],[367,6,367,20],[368,6,368,20],[361,0,361,1],[362,0,364,1],[363,2,363,3],[363,4,363,5],[324,6,324,20],[325,6,325,20],[326,6,326,20],[332,3,335,3],[332,6,335,6],[340,3,341,5],[340,6,341,8],[342,4,342,5],[342,7,342,8],[332,15,335,15],[332,16,335,16],[332,17,335,17],[332,18,335,18],[332,19,335,19],[332,20,335,20],[340,20,343,20],[328,2,328,20],[341,14,341,15],[342,14,342,15],[315,6,315,20],[316,6,316,20],[317,6,317,20],[318,6,318,20],[319,6,319,20],[320,6,320,20],[321,6,321,20],[322,6,322,20],[323,6,323,20],[307,1,307,20],[308,2,308,20],[309,2,309,5],[310,2,310,3],[310,4,310,5],[309,6,311,20],[312,6,312,20],[313,6,313,20],[314,6,314,20],[309,0,311,1],[278,3,281,3],[278,6,281,6],[266,6,266,20],[267,6,267,20],[268,6,268,20],[269,6,269,20],[270,6,270,20],[271,6,271,20],[272,6,272,20],[253,1,253,20],[254,2,254,20],[220,2,220,20],[224,0,227,1],[224,2,227,2],[224,4,227,4],[224,5,227,5],[224,7,227,7],[224,8,227,8],[224,9,227,9],[224,10,227,10],[224,11,227,11],[224,12,227,12],[224,13,227,13],[224,14,227,14],[224,15,227,15],[224,16,227,16],[224,17,227,17],[224,18,227,18],[224,19,227,19],[224,20,227,20],[229,0,229,1],[229,2,229,20],[230,2,230,20],[215,6,215,20],[216,6,216,20],[217,6,217,20],[202,2,202,3],[202,4,202,5],[201,2,201,5],[201,6,203,20],[204,6,204,20],[205,6,205,20],[206,6,206,20],[207,6,207,20],[208,6,208,20],[71,6,72,8],[73,7,73,8],[38,1,38,20],[338,2,338,20],[339,0,344,1],[339,2,339,9],[339,10,339,20],[340,2,341,2],[340,14,340,15],[340,16,343,16],[340,17,343,17],[340,18,343,18],[340,19,343,19],[340,9,343,9],[340,10,341,10],[340,11,342,12],[340,13,343,13],[124,2,124,9],[124,10,124,20],[125,2,126,2],[199,1,199,20],[200,2,200,20],[332,13,335,13],[332,14,335,14],[337,0,337,1],[337,2,337,20],[332,2,335,2],[332,4,335,4],[332,5,335,5],[332,7,335,7],[332,8,335,8],[332,9,335,9],[332,10,335,10],[332,11,335,11],[332,12,335,12],[332,0,335,1],[117,18,120,18],[117,19,120,19],[117,20,120,20],[122,0,122,1],[125,9,128,9],[125,10,126,10],[125,11,127,12],[125,13,128,13],[125,14,125,15],[125,16,128,16],[125,17,128,17],[117,9,120,9],[117,10,120,10],[117,11,120,11],[117,12,120,12],[117,13,120,13],[117,14,120,14],[117,15,120,15],[117,16,120,16],[117,17,120,17],[40,0,42,1],[63,19,66,19],[63,20,66,20],[68,0,68,1],[68,2,68,20],[59,2,59,20],[63,0,66,1],[63,2,66,2],[63,4,66,4],[63,5,66,5],[63,16,66,16],[63,17,66,17],[63,3,66,3],[63,6,66,6],[63,18,66,18],[63,7,66,7],[63,8,66,8],[63,9,66,9],[63,10,66,10],[63,11,66,11],[63,12,66,12],[63,13,66,13],[63,14,66,14],[63,15,66,15],[14,0,14,1],[14,2,14,20],[9,12,12,12],[9,13,12,13],[9,14,12,14],[9,15,12,15],[9,16,12,16],[39,0,39,1],[17,20,20,20],[9,3,12,3],[9,6,12,6],[17,6,18,8],[39,2,39,20],[18,14,18,15],[19,14,19,15],[5,2,5,20],[9,0,12,1],[9,2,12,2],[9,4,12,4],[9,5,12,5],[9,7,12,7],[9,8,12,8],[9,9,12,9],[9,10,12,10],[9,11,12,11],[9,20,12,20],[70,0,75,1],[70,2,70,9],[70,10,70,20],[71,2,72,2],[71,9,74,9],[71,10,72,10],[201,0,203,1],[200,0,200,1],[94,0,96,1],[71,20,74,20],[122,2,122,20],[123,2,123,20],[124,0,129,1],[125,18,128,18],[125,19,128,19],[125,20,128,20],[71,13,74,13],[71,14,71,15],[71,16,74,16],[71,17,74,17],[71,18,74,18],[71,19,74,19],[71,11,73,12],[170,13,173,13],[2,0,2,20],[3,0,3,20],[0,0,0,20],[1,0,1,20],[15,2,15,20],[16,0,21,1],[16,2,16,9],[16,10,16,20],[17,2,18,2],[17,9,20,9],[17,10,18,10],[17,11,19,12],[17,13,20,13],[17,14,17,15],[17,16,20,16],[17,17,20,17],[17,18,20,18],[17,19,20,19],[9,17,12,17],[9,18,12,18],[9,19,12,19],[19,4,19,5],[17,3,18,5],[19,7,19,8],[69,2,69,20],[71,3,72,5],[73,4,73,5],[146,0,146,1],[147,0,149,1],[175,2,175,20],[176,2,176,20],[177,0,182,1],[177,2,177,9],[177,10,177,20],[178,2,179,2],[178,19,181,19],[93,0,93,1],[166,2,166,20],[170,0,173,1],[170,2,173,2],[170,4,173,4],[170,5,173,5],[170,7,173,7],[170,8,173,8],[170,9,173,9],[170,10,173,10],[170,11,173,11],[170,12,173,12],[170,14,173,14],[170,15,173,15],[170,16,173,16],[170,17,173,17],[170,18,173,18],[170,19,173,19],[170,20,173,20],[175,0,175,1],[113,2,113,20],[117,3,120,3],[117,6,120,6],[125,3,126,5],[125,6,126,8],[127,4,127,5],[127,7,127,8],[145,1,145,20],[146,2,146,20],[147,2,147,5],[117,0,120,1],[117,2,120,2],[117,4,120,4],[117,5,120,5],[117,7,120,7],[117,8,120,8],[231,0,236,1],[231,2,231,9],[231,10,231,20],[232,2,233,2],[232,9,235,9],[232,10,233,10],[232,11,234,12],[232,13,235,13],[232,14,232,15],[232,16,235,16],[232,17,235,17],[232,18,235,18],[232,19,235,19],[232,20,235,20],[234,4,234,5],[234,7,234,8],[224,3,227,3],[224,6,227,6],[232,3,233,5],[232,6,233,8],[255,0,257,1],[274,2,274,20],[278,0,281,1],[278,2,281,2],[278,4,281,4],[278,5,281,5],[278,7,281,7],[278,8,281,8],[278,9,281,9],[278,10,281,10],[278,11,281,11],[278,12,281,12],[278,13,281,13],[278,14,281,14],[278,15,281,15],[278,16,281,16],[278,17,281,17],[278,18,281,18],[278,19,281,19],[278,20,281,20],[256,2,256,3],[256,4,256,5],[255,2,255,5],[255,6,257,20],[283,0,283,1],[283,2,283,20],[284,2,284,20],[285,0,290,1],[285,2,285,9],[285,10,285,20],[286,2,287,2],[286,9,289,9],[286,10,287,10],[286,11,288,12],[286,13,289,13],[286,14,286,15],[286,16,289,16],[286,17,289,17],[286,18,289,18],[286,19,289,19],[286,20,289,20],[286,3,287,5],[286,6,287,8],[288,4,288,5],[288,7,288,8],[288,14,288,15],[40,2,40,5],[41,4,41,5],[41,2,41,3],[40,6,42,20],[43,6,43,20],[44,6,44,20],[49,6,49,20],[50,6,50,20],[51,6,51,20],[52,6,52,20],[53,6,53,20],[54,6,54,20],[55,6,55,20],[56,6,56,20],[57,6,57,20],[45,6,45,20],[46,6,46,20],[47,6,47,20],[48,6,48,20],[92,1,92,20],[93,2,93,20],[97,6,97,20],[107,6,107,20],[108,6,108,20],[109,6,109,20],[110,6,110,20],[111,6,111,20],[94,2,94,5],[94,6,96,20],[95,2,95,3],[95,4,95,5],[98,6,98,20],[99,6,99,20],[100,6,100,20],[101,6,101,20],[102,6,102,20],[103,6,103,20],[104,6,104,20],[105,6,105,20],[106,6,106,20],[148,2,148,3],[148,4,148,5],[147,6,149,20],[150,6,150,20],[151,6,151,20],[152,6,152,20],[153,6,153,20],[154,6,154,20],[155,6,155,20],[170,3,173,3],[170,6,173,6],[178,3,179,5],[178,6,179,8],[180,4,180,5],[180,7,180,8],[156,6,156,20],[157,6,157,20],[158,6,158,20],[159,6,159,20],[160,6,160,20],[161,6,161,20],[162,6,162,20],[163,6,163,20],[164,6,164,20],[178,20,181,20],[178,9,181,9],[178,10,179,10],[178,11,180,12],[178,13,181,13],[178,14,178,15],[178,16,181,16],[178,17,181,17],[178,18,181,18]]}
["Federal Contractors Program Achievement Report"]
["Part 3: Goals"]
[{"$f":"WorkforceAnalysis!A3:I3","v":"[Organization's Legal Name]"}]
[{"$f":"WorkforceAnalysis!A4:I4","v":"YYYY-MM-DD"}]
[]
[null,null,"Data for First/Previous Goals"]
[]
["A","B","C","D","E","F","G","H","I","J","K","L","M","N","O","P","Q","R","S","T","U"]
[]
["Data sources:",null,"From Workforce Analysis","From Workforce Analysis†","Data Entry","C x E x 3","From Flow Data Analysis & Workforce Analysis‡","Data Entry","C x H x 3","F + I","From Workforce Analysis","Equivalent to H","K x L x 3","(F x Q) - R + M","J x P","Data Entry","From Workforce Analysis","From Workforce Analysis","(K - M + O) - ((C + F) x Q)","K ÷ C","(K - M + O) ÷ (C + F)"]
[]
[]
[]
[null,null,"i","i","i","i","i","i","i","i","i","i","i","i","i","i","i","i","i","i","i"]
[null,null,"Table 1: Women"]
[null,null,"First/Previous Short-term Goals"]
["Employment Equity Occupational Group (EEOG)",null,"All Employees",{"$nulls":7},"Women"]
[null,null,"Number","Growth (New Positions)",null,null,"Turnover (Replacement of Terminated Employees)",null,null,"Anticipated Hires Over 3 Years","Number","Turnover (Replacement of Terminated Employees)",null,"Hires Required Over 3 Years","3 Year Goals",null,"Present Availability","Present Gap","Projected Gap","Present Representation","Projected Representation in 3 Years"]
[{"$nulls":14},"From - To"]
[null,null,"YYYY-MM-DD","Actual","Projected",null,"Actual","Projected",null,null,"YYYY-MM-DD",null,null,null,"YYYY - YYYY"]
[null,null,{"$f":"WorkforceAnalysis!C11&\"-\"&WorkforceAnalysis!D11&\"-\"&WorkforceAnalysis!E11","v":"--"},"Annually","Annually","Over 3 Years","Annually","Annually","Over 3 Years",null,{"$f":"C21","v":"--"},"Annually","Over 3 Years",null,{"$f":"WorkforceAnalysis!C11","v":0},{"$f":"O21+3","v":3}]
[null,null,"#","%","%","#","%","%","#","#","#","%","#","#","#","%","%","#","#","%","%"]
["01","Senior Managers",{"$f":"WorkforceAnalysis!C18","v":0},{"$f":"IFERROR(((WorkforceAnalysis!G18/WorkforceAnalysis!C18)^(1/3))-1,0)","v":0},null,{"$f":"ROUND(C23*E23*3,0)","v":0},{"$f":"IFERROR((FlowDataAnalysis!M16+FlowDataAnalysis!O16)/((WorkforceAnalysis!C18+WorkforceAnalysis!G18)/2),0)","v":0},null,{"$f":"ROUND(C23*H23*3,0)","v":0},{"$f":"F23+I23","v":0},{"$f":"WorkforceAnalysis!D18","v":0},{"$f":"H23","v":0},{"$f":"ROUND(K23*L23*3,0)","v":0},{"$f":"(F23*Q23)-R23+M23","v":0},{"$f":"ROUND(J23*P23,0)","v":0},null,{"$f":"WorkforceAnalysis!E18/100","v":0},{"$f":"ResultsWomen!I18","v":0},{"$f":"(K23-M23+O23)-((C23+F23)*Q23)","v":0},{"$f":"K23/C23","v":{"$error":"#DIV/0!"}},{"$f":"(K23-M23+O23)/(C23+F23)","v":{"$error":"#DIV/0!"}}]
["02","Middle & Other Managers",{"$f":"WorkforceAnalysis!C19","v":0},{"$f":"IFERROR(((WorkforceAnalysis!G19/WorkforceAnalysis!C19)^(1/3))-1,0)","v":0},null,{"$f":"ROUND(C24*E24*3,0)","v":0},{"$f":"IFERROR((FlowDataAnalysis!M17+FlowDataAnalysis!O17)/((WorkforceAnalysis!C19+WorkforceAnalysis!G19)/2),0)","v":0},null,{"$f":"ROUND(C24*H24*3,0)","v":0},{"$f":"F24+I24","v":0},{"$f":"WorkforceAnalysis!D19","v":0},{"$f":"H24","v":0},{"$f":"ROUND(K24*L24*3,0)","v":0},{"$f":"(F24*Q24)-R24+M24","v":0},{"$f":"ROUND(J24*P24,0)","v":0},null,{"$f":"WorkforceAnalysis!E19/100","v":0},{"$f":"ResultsWomen!I20","v":0},{"$f":"(K24-M24+O24)-((C24+F24)*Q24)","v":0},{"$f":"K24/C24","v":{"$error":"#DIV/0!"}},{"$f":"(K24-M24+O24)/(C24+F24)","v":{"$error":"#DIV/0!"}}]
["03","Professionals",{"$f":"WorkforceAnalysis!C20","v":0},{"$f":"IFERROR(((WorkforceAnalysis!G20/WorkforceAnalysis!C20)^(1/3))-1,0)","v":0},null,0,{"$f":"IFERROR((FlowDataAnalysis!M18+FlowDataAnalysis!O18)/((WorkforceAnalysis!C20+WorkforceAnalysis!G20)/2),0)","v":0},null,0,0,{"$f":"WorkforceAnalysis!D20","v":0},0,0,0,0,null,{"$f":"WorkforceAnalysis!E20/100","v":0},{"$f":"ResultsWomen!I22","v":0},0,{"$error":"#DIV/0!"},{"$error":"#DIV/0!"}]
["04","Semi-Professionals & Tech",{"$f":"WorkforceAnalysis!C21","v":0},{"$f":"IFERROR(((WorkforceAnalysis!G21/WorkforceAnalysis!C21)^(1/3))-1,0)","v":0},null,0,{"$f":"IFERROR((FlowDataAnalysis!M19+FlowDataAnalysis!O19)/((WorkforceAnalysis!C21+WorkforceAnalysis!G21)/2),0)","v":0},null,0,0,{"$f":"WorkforceAnalysis!D21","v":0},0,0,0,0,null,{"$f":"WorkforceAnalysis!E21/100","v":0},{"$f":"ResultsWomen!I24","v":0},0,{"$error":"#DIV/0!"},{"$error":"#DIV/0!"}]
["05","Supervisors",{"$f":"WorkforceAnalysis!C22","v":0},{"$f":"IFERROR(((WorkforceAnalysis!G22/WorkforceAnalysis!C22)^(1/3))-1,0)","v":0},null,0,{"$f":"IFERROR((FlowDataAnalysis!M20+FlowDataAnalysis!O20)/((WorkforceAnalysis!C22+WorkforceAnalysis!G22)/2),0)","v":0},null,0,0,{"$f":"WorkforceAnalysis!D22","v":0},0,0,0,0,null,{"$f":"WorkforceAnalysis!E22/100","v":0},{"$f":"ResultsWomen!I26","v":0},0,{"$error":"#DIV/0!"},{"$error":"#DIV/0!"}]
["06","Supervisors: Crafts & Trades",{"$f":"WorkforceAnalysis!C23","v":0},{"$f":"IFERROR(((WorkforceAnalysis!G23/WorkforceAnalysis!C23)^(1/3))-1,0)","v":0},null,0,{"$f":"IFERROR((FlowDataAnalysis!M21+FlowDataAnalysis!O21)/((WorkforceAnalysis!C23+WorkforceAnalysis!G23)/2),0)","v":0},null,0,0,{"$f":"WorkforceAnalysis!D23","v":0},0,0,0,0,null,{"$f":"WorkforceAnalysis!E23/100","v":0},{"$f":"ResultsWomen!I28","v":0},0,{"$error":"#DIV/0!"},{"$error":"#DIV/0!"}]
["07","Administrative & Sr Clerical",{"$f":"WorkforceAnalysis!C24","v":0},{"$f":"IFERROR(((WorkforceAnalysis!G24/WorkforceAnalysis!C24)^(1/3))-1,0)","v":0},null,0,{"$f":"IFERROR((FlowDataAnalysis!M22+FlowDataAnalysis!O22)/((WorkforceAnalysis!C24+WorkforceAnalysis!G24)/2),0)","v":0},null,0,0,{"$f":"WorkforceAnalysis!D24","v":0},0,0,0,0,null,{"$f":"WorkforceAnalysis!E24/100","v":0},{"$f":"ResultsWomen!I67","v":0},0,{"$error":"#DIV/0!"},{"$error":"#DIV/0!"}]
["08","Skilled Sales & Service",{"$f":"WorkforceAnalysis!C25","v":0},{"$f":"IFERROR(((WorkforceAnalysis!G25/WorkforceAnalysis!C25)^(1/3))-1,0)","v":0},null,0,{"$f":"IFERROR((FlowDataAnalysis!M23+FlowDataAnalysis!O23)/((WorkforceAnalysis!C25+WorkforceAnalysis!G25)/2),0)","v":0},null,0,0,{"$f":"WorkforceAnalysis!D25","v":0},0,0,0,0,null,{"$f":"WorkforceAnalysis!E25/100","v":0},{"$f":"ResultsWomen!I69","v":0},0,{"$error":"#DIV/0!"},{"$error":"#DIV/0!"}]
["09","Skilled Crafts & Trades",{"$f":"WorkforceAnalysis!C26","v":0},{"$f":"IFERROR(((WorkforceAnalysis!G26/WorkforceAnalysis!C26)^(1/3))-1,0)","v":0},null,0,{"$f":"IFERROR((FlowDataAnalysis!M24+FlowDataAnalysis!O24)/((WorkforceAnalysis!C26+WorkforceAnalysis!G26)/2),0)","v":0},null,0,0,{"$f":"WorkforceAnalysis!D26","v":0},0,0,0,0,null,{"$f":"WorkforceAnalysis!E26/100","v":0},{"$f":"ResultsWomen!I71","v":0},0,{"$error":"#DIV/0!"},{"$error":"#DIV/0!"}]
["10","Clerical Personnel",{"$f":"WorkforceAnalysis!C27","v":0},{"$f":"IFERROR(((WorkforceAnalysis!G27/WorkforceAnalysis!C27)^(1/3))-1,0)","v":0},null,0,{"$f":"IFERROR((FlowDataAnalysis!M25+FlowDataAnalysis!O25)/((WorkforceAnalysis!C27+WorkforceAnalysis!G27)/2),0)","v":0},null,0,0,{"$f":"WorkforceAnalysis!D27","v":0},0,0,0,0,null,{"$f":"WorkforceAnalysis!E27/100","v":0},{"$f":"ResultsWomen!I73","v":0},0,{"$error":"#DIV/0!"},{"$error":"#DIV/0!"}]
["11","Intermediate Sales & Service",{"$f":"WorkforceAnalysis!C28","v":0},{"$f":"IFERROR(((WorkforceAnalysis!G28/WorkforceAnalysis!C28)^(1/3))-1,0)","v":0},null,0,{"$f":"IFERROR((FlowDataAnalysis!M26+FlowDataAnalysis!O26)/((WorkforceAnalysis!C28+WorkforceAnalysis!G28)/2),0)","v":0},null,0,0,{"$f":"WorkforceAnalysis!D28","v":0},0,0,0,0,null,{"$f":"WorkforceAnalysis!E28/100","v":0},{"$f":"ResultsWomen!I75","v":0},0,{"$error":"#DIV/0!"},{"$error":"#DIV/0!"}]
["12","Semi-Skilled Manual",{"$f":"WorkforceAnalysis!C29","v":0},{"$f":"IFERROR(((WorkforceAnalysis!G29/WorkforceAnalysis!C29)^(1/3))-1,0)","v":0},null,0,{"$f":"IFERROR((FlowDataAnalysis!M27+FlowDataAnalysis!O27)/((WorkforceAnalysis!C29+WorkforceAnalysis!G29)/2),0)","v":0},null,0,0,{"$f":"WorkforceAnalysis!D29","v":0},0,0,0,0,null,{"$f":"WorkforceAnalysis!E29/100","v":0},{"$f":"ResultsWomen!I77","v":0},0,{"$error":"#DIV/0!"},{"$error":"#DIV/0!"}]
["13","Other Sales & Service",{"$f":"WorkforceAnalysis!C30","v":0},{"$f":"IFERROR(((WorkforceAnalysis!G30/WorkforceAnalysis!C30)^(1/3))-1,0)","v":0},null,0,{"$f":"IFERROR((FlowDataAnalysis!M28+FlowDataAnalysis!O28)/((WorkforceAnalysis!C30+WorkforceAnalysis!G30)/2),0)","v":0},null,0,0,{"$f":"WorkforceAnalysis!D30","v":0},0,0,0,0,null,{"$f":"WorkforceAnalysis!E30/100","v":0},{"$f":"ResultsWomen!I116","v":0},0,{"$error":"#DIV/0!"},{"$error":"#DIV/0!"}]
["14","Other Manual Workers",{"$f":"WorkforceAnalysis!C31","v":0},{"$f":"IFERROR(((WorkforceAnalysis!G31/WorkforceAnalysis!C31)^(1/3))-1,0)","v":0},null,0,{"$f":"IFERROR((FlowDataAnalysis!M29+FlowDataAnalysis!O29)/((WorkforceAnalysis!C31+WorkforceAnalysis!G31)/2),0)","v":0},null,0,0,{"$f":"WorkforceAnalysis!D31","v":0},0,0,0,0,null,{"$f":"WorkforceAnalysis!E31/100","v":0},{"$f":"ResultsWomen!I118","v":0},0,{"$error":"#DIV/0!"},{"$error":"#DIV/0!"}]
["Total",null,{"$f":"WorkforceAnalysis!C32","v":0},{"$f":"IFERROR(((WorkforceAnalysis!G32/WorkforceAnalysis!C32)^(1/3))-1,0)","v":0},null,0,{"$f":"IFERROR((FlowDataAnalysis!M30+FlowDataAnalysis!O30)/((WorkforceAnalysis!C32+WorkforceAnalysis!G32)/2),0)","v":0},null,0,0,{"$f":"WorkforceAnalysis!D32","v":0},0,0,0,0,null,{"$f":"WorkforceAnalysis!E32/100","v":0},{"$f":"ResultsWomen!I120","v":0},0,{"$error":"#DIV/0!"},{"$error":"#DIV/0!"}]
["†","Calculated by using the following formula: ((Current number of employees from Workforce Analysis ÷ Previous number of employees from Workforce Analysis)1/3 - 1) x 100."]
["‡","Calculated by using the following formula: (Terminated full-time employees from Flow Data Analysis + Terminated part-time employees from Flow Data Analysis) ÷ ((Total number of employees from Previous Workforce Analysis + Total number of employees from Current Workforce Analysis) ÷ 2) x 100."]
[null,null,"Table 2: Women"]
["Employment Equity Occupational Group (EEOG)",null,"Women",null,null,null,"Comments"]
[null,null,"Short-term Goals",null,"Long-term Goals"]
[null,null,null,"%",null,"%"]
["01","Senior Managers",null,{"$f":"P23*100","v":0},null,0]
["02","Middle & Other Managers",null,0,null,0]
["03","Professionals",null,0,null,0]
["04","Semi-Professionals & Tech",null,0,null,0]
["05","Supervisors",null,0,null,0]
["06","Supervisors: Crafts & Trades",null,0,null,0]
["07","Administrative & Sr Clerical",null,0,null,0]
["08","Skilled Sales & Service",null,0,null,0]
["09","Skilled Crafts & Trades",null,0,null,0]
["10","Clerical Personnel",null,0,null,0]
["11","Intermediate Sales & Service",null,0,null,0]
["12","Semi-Skilled Manual",null,0,null,0]
["13","Other Sales & Service",null,0,null,0]
["14","Other Manual Workers",null,0,null,0]
["Total",null,null,0,null,0]
[]
[null,null,"Data for First/Previous Goals"]
[]
["A","B","C","D","E","F","G","H","I","J","K","L","M","N","O","P","Q","R","S","T","U"]
[]
["Data sources:",null,"From Workforce Analysis","From Workforce Analysis†","Data Entry","C x E x 3","From Flow Data Analysis & Workforce Analysis‡","Data Entry","C x H x 3","F + I","From Workforce Analysis","Equivalent to H","K x L x 3","(F x Q) - R + M","J x P","Data Entry","From Workforce Analysis","From Workforce Analysis","(K - M + O) - ((C + F) x Q)","K ÷ C","(K - M + O) ÷ (C + F)"]
[]
[]
[]
[null,null,"i","i","i","i","i","i","i","i","i","i","i","i","i","i","i","i","i","i","i"]
[null,null,"Table 3: Aboriginal Peoples"]
[null,null,"First/Previous Short-term Goals"]
["Employment Equity Occupational Group (EEOG)",null,"All Employees",{"$nulls":7},"Aboriginal Peoples"]
[null,null,"Number","Growth (New Positions)",null,null,"Turnover (Replacement of Terminated Employees)",null,null,"Anticipated Hires Over 3 Years","Number","Turnover (Replacement of Terminated Employees)",null,"Hires Required Over 3 Years","3 Year Goals",null,"Present Availability","Present Gap","Projected Gap","Present Representation","Projected Representation in 3 Years"]
[{"$nulls":14},"From - To"]
[null,null,"YYYY-MM-DD","Actual","Projected",null,"Actual","Projected",null,null,"YYYY-MM-DD",null,null,null,"YYYY - YYYY"]
[null,null,{"$f":"C21","v":"--"},"Annually","Annually","Over 3 Years","Annually","Annually","Over 3 Years",null,{"$f":"C21","v":"--"},"Annually","Over 3 Years",null,{"$f":"WorkforceAnalysis!C11","v":0},{"$f":"O75+3","v":3}]
[null,null,"#","%","%","#","%","%","#","#","#","%","#","#","#","%","%","#","#","%","%"]
["01","Senior Managers",{"$f":"C23","v":0},0,null,{"$f":"ROUND(C77*E77*3,0)","v":0},{"$f":"G23","v":0},null,{"$f":"ROUND(C77*H77*3,0)","v":0},{"$f":"F77+I77","v":0},{"$f":"WorkforceAnalysis!D50","v":0},{"$f":"H77","v":0},{"$f":"ROUND(K77*L77*3,0)","v":0},{"$f":"(F77*Q77)-R77+M77","v":0},{"$f":"ROUND(J77*P77,0)","v":0},null,{"$f":"WorkforceAnalysis!E50/100","v":0},{"$f":"ResultsAboriginalPeoples!I18","v":0},{"$f":"(K77-M77+O77)-((C77+F77)*Q77)","v":0},{"$f":"K77/C77","v":{"$error":"#DIV/0!"}},{"$f":"(K77-M77+O77)/(C77+F77)","v":{"$error":"#DIV/0!"}}]
["02","Middle & Other Managers",0,0,null,{"$f":"ROUND(C78*E78*3,0)","v":0},{"$f":"G24","v":0},null,{"$f":"ROUND(C78*H78*3,0)","v":0},{"$f":"F78+I78","v":0},{"$f":"WorkforceAnalysis!D51","v":0},{"$f":"H78","v":0},{"$f":"ROUND(K78*L78*3,0)","v":0},0,{"$f":"ROUND(J78*P78,0)","v":0},null,{"$f":"WorkforceAnalysis!E51/100","v":0},{"$f":"ResultsAboriginalPeoples!I20","v":0},{"$f":"(K78-M78+O78)-((C78+F78)*Q78)","v":0},{"$f":"K78/C78","v":{"$error":"#DIV/0!"}},{"$f":"(K78-M78+O78)/(C78+F78)","v":{"$error":"#DIV/0!"}}]
["03","Professionals",0,0,null,0,{"$f":"G25","v":0},null,0,0,{"$f":"WorkforceAnalysis!D52","v":0},0,0,0,0,null,{"$f":"WorkforceAnalysis!E52/100","v":0},{"$f":"ResultsAboriginalPeoples!I22","v":0},0,{"$error":"#DIV/0!"},{"$error":"#DIV/0!"}]
["04","Semi-Professionals & Tech",0,0,null,0,{"$f":"G26","v":0},null,0,0,{"$f":"WorkforceAnalysis!D53","v":0},0,0,0,0,null,{"$f":"WorkforceAnalysis!E53/100","v":0},{"$f":"ResultsAboriginalPeoples!I24","v":0},0,{"$error":"#DIV/0!"},{"$error":"#DIV/0!"}]
["05","Supervisors",0,0,null,0,{"$f":"G27","v":0},null,0,0,{"$f":"WorkforceAnalysis!D54","v":0},0,0,0,0,null,{"$f":"WorkforceAnalysis!E54/100","v":0},{"$f":"ResultsAboriginalPeoples!I26","v":0},0,{"$error":"#DIV/0!"},{"$error":"#DIV/0!"}]
["06","Supervisors: Crafts & Trades",0,0,null,0,{"$f":"G28","v":0},null,0,0,{"$f":"WorkforceAnalysis!D55","v":0},0,0,0,0,null,{"$f":"WorkforceAnalysis!E55/100","v":0},{"$f":"ResultsAboriginalPeoples!I28","v":0},0,{"$error":"#DIV/0!"},{"$error":"#DIV/0!"}]
["07","Administrative & Sr Clerical",0,0,null,0,{"$f":"G29","v":0},null,0,0,{"$f":"WorkforceAnalysis!D56","v":0},0,0,0,0,null,{"$f":"WorkforceAnalysis!E56/100","v":0},{"$f":"ResultsAboriginalPeoples!I67","v":0},0,{"$error":"#DIV/0!"},{"$error":"#DIV/0!"}]
["08","Skilled Sales & Service",0,0,null,0,{"$f":"G30","v":0},null,0,0,{"$f":"WorkforceAnalysis!D57","v":0},0,0,0,0,null,{"$f":"WorkforceAnalysis!E57/100","v":0},{"$f":"ResultsAboriginalPeoples!I69","v":0},0,{"$error":"#DIV/0!"},{"$error":"#DIV/0!"}]
["09","Skilled Crafts & Trades",0,0,null,0,{"$f":"G31","v":0},null,0,0,{"$f":"WorkforceAnalysis!D58","v":0},0,0,0,0,null,{"$f":"WorkforceAnalysis!E58/100","v":0},{"$f":"ResultsAboriginalPeoples!I71","v":0},0,{"$error":"#DIV/0!"},{"$error":"#DIV/0!"}]
["10","Clerical Personnel",0,0,null,0,{"$f":"G32","v":0},null,0,0,{"$f":"WorkforceAnalysis!D59","v":0},0,0,0,0,null,{"$f":"WorkforceAnalysis!E59/100","v":0},{"$f":"ResultsAboriginalPeoples!I73","v":0},0,{"$error":"#DIV/0!"},{"$error":"#DIV/0!"}]
["11","Intermediate Sales & Service",0,0,null,0,{"$f":"G33","v":0},null,0,0,{"$f":"WorkforceAnalysis!D60","v":0},0,0,0,0,null,{"$f":"WorkforceAnalysis!E60/100","v":0},{"$f":"ResultsAboriginalPeoples!I75","v":0},0,{"$error":"#DIV/0!"},{"$error":"#DIV/0!"}]
["12","Semi-Skilled Manual",0,0,null,0,{"$f":"G34","v":0},null,0,0,{"$f":"WorkforceAnalysis!D61","v":0},0,0,0,0,null,{"$f":"WorkforceAnalysis!E61/100","v":0},{"$f":"ResultsAboriginalPeoples!I77","v":0},0,{"$error":"#DIV/0!"},{"$error":"#DIV/0!"}]
["13","Other Sales & Service",0,0,null,0,{"$f":"G35","v":0},null,0,0,{"$f":"WorkforceAnalysis!D62","v":0},0,0,0,0,null,{"$f":"WorkforceAnalysis!E62/100","v":0},{"$f":"ResultsAboriginalPeoples!I116","v":0},0,{"$error":"#DIV/0!"},{"$error":"#DIV/0!"}]
["14","Other Manual Workers",0,0,null,0,{"$f":"G36","v":0},null,0,0,{"$f":"WorkforceAnalysis!D63","v":0},0,0,0,0,null,{"$f":"WorkforceAnalysis!E63/100","v":0},{"$f":"ResultsAboriginalPeoples!I118","v":0},0,{"$error":"#DIV/0!"},{"$error":"#DIV/0!"}]
["Total",null,0,0,null,0,{"$f":"G37","v":0},null,0,0,{"$f":"WorkforceAnalysis!D64","v":0},0,0,0,0,null,{"$f":"WorkforceAnalysis!E64/100","v":0},{"$f":"ResultsAboriginalPeoples!I120","v":0},0,{"$error":"#DIV/0!"},{"$error":"#DIV/0!"}]
["†","Calculated by using the following formula: ((Current number of employees from Workforce Analysis ÷ Previous number of employees from Workforce Analysis)1/3 - 1) x 100."]
["‡","Calculated by using the following formula: (Terminated full-time employees from Flow Data Analysis + Terminated part-time employees from Flow Data Analysis) ÷ ((Total number of employees from Previous Workforce Analysis + Total number of employees from Current Workforce Analysis) ÷ 2) x 100."]
[null,null,"Table 4: Aboriginal Peoples"]
["Employment Equity Occupational Group (EEOG)",null,"Aboriginal Peoples",null,null,null,"Comments"]
[null,null,"Short-term Goals",null,"Long-term Goals"]
[null,null,null,"%",null,"%"]
["01","Senior Managers",null,{"$f":"P77*100","v":0},null,0]
["02","Middle & Other Managers",null,0,null,0]
["03","Professionals",null,0,null,0]
["04","Semi-Professionals & Tech",null,0,null,0]
["05","Supervisors",null,0,null,0]
["06","Supervisors: Crafts & Trades",null,0,null,0]
["07","Administrative & Sr Clerical",null,0,null,0]
["08","Skilled Sales & Service",null,0,null,0]
["09","Skilled Crafts & Trades",null,0,null,0]
["10","Clerical Personnel",null,0,null,0]
["11","Intermediate Sales & Service",null,0,null,0]
["12","Semi-Skilled Manual",null,0,null,0]
["13","Other Sales & Service",null,0,null,0]
["14","Other Manual Workers",null,0,null,0]
["Total",null,null,0,null,0]
[]
[null,null,"Data for First/Previous Goals"]
[]
["A","B","C","D","E","F","G","H","I","J","K","L","M","N","O","P","Q","R","S","T","U"]
[]
["Data sources:",null,"From Workforce Analysis","From Workforce Analysis†","Data Entry","C x E x 3","From Flow Data Analysis & Workforce Analysis‡","Data Entry","C x H x 3","F + I","From Workforce Analysis","Equivalent to H","K x L x 3","(F x Q) - R + M","J x P","Data Entry","From Workforce Analysis","From Workforce Analysis","(K - M + O) - ((C + F) x Q)","K ÷ C","(K - M + O) ÷ (C + F)"]
[]
[]
[]
[null,null,"i","i","i","i","i","i","i","i","i","i","i","i","i","i","i","i","i","i","i"]
[null,null,"Table 5: Persons with Disabilities"]
[null,null,"First/Previous Short-term Goals"]
["Employment Equity Occupational Group (EEOG)",null,"All Employees",{"$nulls":7},"Persons with Disabilities"]
[null,null,"Number","Growth (New Positions)",null,null,"Turnover (Replacement of Terminated Employees)",null,null,"Anticipated Hires Over 3 Years","Number","Turnover (Replacement of Terminated Employees)",null,"Hires Required Over 3 Years","3 Year Goals",null,"Present Availability","Present Gap","Projected Gap","Present Representation","Projected Representation in 3 Years"]
[{"$nulls":14},"From - To"]
[null,null,"YYYY-MM-DD","Actual","Projected",null,"Actual","Projected",null,null,"YYYY-MM-DD",null,null,null,"YYYY - YYYY"]
[null,null,{"$f":"C75","v":"--"},"Annually","Annually","Over 3 Years","Annually","Annually","Over 3 Years",null,{"$f":"C75","v":"--"},"Annually","Over 3 Years",null,{"$f":"WorkforceAnalysis!C11","v":0},{"$f":"O129+3","v":3}]
[null,null,"#","%","%","#","%","%","#","#","#","%","#","#","#","%","%","#","#","%","%"]
["01/02","Managers",{"$f":"C23+C24","v":0},{"$f":"(D23+D24)/2","v":0},null,{"$f":"ROUND(C131*E131*3,0)","v":0},{"$f":"(G23+G24)/2","v":0},null,{"$f":"ROUND(C131*H131*3,0)","v":0},{"$f":"F131+I131","v":0},{"$f":"WorkforceAnalysis!D114","v":0},{"$f":"H131","v":0},{"$f":"ROUND(K131*L131*3,0)","v":0},{"$f":"(F131*Q131)-R131+M131","v":0},{"$f":"ROUND(J131*P131,0)","v":0},null,{"$f":"WorkforceAnalysis!E114/100","v":0},{"$f":"ResultsPersonsDisabilities!I18","v":0},{"$f":"(K131-M131+O131)-((C131+F131)*Q131)","v":0},{"$f":"K131/C131","v":{"$error":"#DIV/0!"}},{"$f":"(K131-M131+O131)/(C131+F131)","v":{"$error":"#DIV/0!"}}]
["03","Professionals",{"$f":"C25","v":0},{"$f":"D25","v":0},null,{"$f":"ROUND(C132*E132*3,0)","v":0},{"$f":"G25","v":0},null,{"$f":"ROUND(C132*H132*3,0)","v":0},{"$f":"F132+I132","v":0},{"$f":"WorkforceAnalysis!D115","v":0},{"$f":"H132","v":0},{"$f":"ROUND(K132*L132*3,0)","v":0},0,{"$f":"ROUND(J132*P132,0)","v":0},null,{"$f":"WorkforceAnalysis!E115/100","v":0},{"$f":"ResultsPersonsDisabilities!I20","v":0},{"$f":"(K132-M132+O132)-((C132+F132)*Q132)","v":0},{"$f":"K132/C132","v":{"$error":"#DIV/0!"}},{"$f":"(K132-M132+O132)/(C132+F132)","v":{"$error":"#DIV/0!"}}]
["04","Semi-Professionals & Tech",0,0,null,0,{"$f":"G26","v":0},null,0,0,{"$f":"WorkforceAnalysis!D116","v":0},0,0,0,0,null,{"$f":"WorkforceAnalysis!E116/100","v":0},{"$f":"ResultsPersonsDisabilities!I22","v":0},0,{"$error":"#DIV/0!"},{"$error":"#DIV/0!"}]
["05","Supervisors",0,0,null,0,0,null,0,0,{"$f":"WorkforceAnalysis!D117","v":0},0,0,0,0,null,{"$f":"WorkforceAnalysis!E117/100","v":0},{"$f":"ResultsPersonsDisabilities!I24","v":0},0,{"$error":"#DIV/0!"},{"$error":"#DIV/0!"}]
["06","Supervisors: Crafts & Trades",0,0,null,0,0,null,0,0,{"$f":"WorkforceAnalysis!D118","v":0},0,0,0,0,null,{"$f":"WorkforceAnalysis!E118/100","v":0},{"$f":"ResultsPersonsDisabilities!I26","v":0},0,{"$error":"#DIV/0!"},{"$error":"#DIV/0!"}]
["07","Administrative & Sr Clerical",0,0,null,0,0,null,0,0,{"$f":"WorkforceAnalysis!D119","v":0},0,0,0,0,null,{"$f":"WorkforceAnalysis!E119/100","v":0},{"$f":"ResultsPersonsDisabilities!I63","v":0},0,{"$error":"#DIV/0!"},{"$error":"#DIV/0!"}]
["08","Skilled Sales & Service",0,0,null,0,0,null,0,0,{"$f":"WorkforceAnalysis!D120","v":0},0,0,0,0,null,{"$f":"WorkforceAnalysis!E120/100","v":0},{"$f":"ResultsPersonsDisabilities!I65","v":0},0,{"$error":"#DIV/0!"},{"$error":"#DIV/0!"}]
["09","Skilled Crafts & Trades",0,0,null,0,0,null,0,0,{"$f":"WorkforceAnalysis!D121","v":0},0,0,0,0,null,{"$f":"WorkforceAnalysis!E121/100","v":0},{"$f":"ResultsPersonsDisabilities!I67","v":0},0,{"$error":"#DIV/0!"},{"$error":"#DIV/0!"}]
["10","Clerical Personnel",0,0,null,0,0,null,0,0,{"$f":"WorkforceAnalysis!D122","v":0},0,0,0,0,null,{"$f":"WorkforceAnalysis!E122/100","v":0},{"$f":"ResultsPersonsDisabilities!I69","v":0},0,{"$error":"#DIV/0!"},{"$error":"#DIV/0!"}]
["11","Intermediate Sales & Service",0,0,null,0,0,null,0,0,{"$f":"WorkforceAnalysis!D123","v":0},0,0,0,0,null,{"$f":"WorkforceAnalysis!E123/100","v":0},{"$f":"ResultsPersonsDisabilities!I71","v":0},0,{"$error":"#DIV/0!"},{"$error":"#DIV/0!"}]
["12","Semi-Skilled Manual",0,0,null,0,0,null,0,0,{"$f":"WorkforceAnalysis!D124","v":0},0,0,0,0,null,{"$f":"WorkforceAnalysis!E124/100","v":0},{"$f":"ResultsPersonsDisabilities!I73","v":0},0,{"$error":"#DIV/0!"},{"$error":"#DIV/0!"}]
["13","Other Sales & Service",0,0,null,0,0,null,0,0,{"$f":"WorkforceAnalysis!D125","v":0},0,0,0,0,null,{"$f":"WorkforceAnalysis!E125/100","v":0},{"$f":"ResultsPersonsDisabilities!I112","v":0},0,{"$error":"#DIV/0!"},{"$error":"#DIV/0!"}]
["14","Other Manual Workers",0,0,null,0,0,null,0,0,{"$f":"WorkforceAnalysis!D126","v":0},0,0,0,0,null,{"$f":"WorkforceAnalysis!E126/100","v":0},{"$f":"ResultsPersonsDisabilities!I114","v":0},0,{"$error":"#DIV/0!"},{"$error":"#DIV/0!"}]
["Total",null,0,0,null,0,0,null,0,0,{"$f":"WorkforceAnalysis!D127","v":0},0,0,0,0,null,{"$f":"WorkforceAnalysis!E127/100","v":0},{"$f":"ResultsPersonsDisabilities!I116","v":0},0,{"$error":"#DIV/0!"},{"$error":"#DIV/0!"}]
["†","Calculated by using the following formula: ((Current number of employees from Workforce Analysis ÷ Previous number of employees from Workforce Analysis)1/3 - 1) x 100."]
["‡","Calculated by using the following formula: (Terminated full-time employees from Flow Data Analysis + Terminated part-time employees from Flow Data Analysis) ÷ ((Total number of employees from Previous Workforce Analysis + Total number of employees from Current Workforce Analysis) ÷ 2) x 100."]
[null,null,"Table 6: Persons with Disabilities"]
["Employment Equity Occupational Group (EEOG)",null,"Persons with Disabilities",null,null,null,"Comments"]
[null,null,"Short-term Goals",null,"Long-term Goals"]
[null,null,null,"%",null,"%"]
["01/02","Managers",null,{"$f":"P131*100","v":0},null,0]
["03","Professionals",null,0,null,0]
["04","Semi-Professionals & Tech",null,0,null,0]
["05","Supervisors",null,0,null,0]
["06","Supervisors: Crafts & Trades",null,0,null,0]
["07","Administrative & Sr Clerical",null,0,null,0]
["08","Skilled Sales & Service",null,0,null,0]
["09","Skilled Crafts & Trades",null,0,null,0]
["10","Clerical Personnel",null,0,null,0]
["11","Intermediate Sales & Service",null,0,null,0]
["12","Semi-Skilled Manual",null,0,null,0]
["13","Other Sales & Service",null,0,null,0]
["14","Other Manual Workers",null,0,null,0]
["Total",null,null,0,null,0]
[]
[]
[null,null,"Data for First/Previous Goals"]
[]
["A","B","C","D","E","F","G","H","I","J","K","L","M","N","O","P","Q","R","S","T","U"]
[]
["Data sources:",null,"From Workforce Analysis","From Workforce Analysis†","Data Entry","C x E x 3","From Flow Data Analysis & Workforce Analysis‡","Data Entry","C x H x 3","F + I","From Workforce Analysis","Equivalent to H","K x L x 3","(F x Q) - R + M","J x P","Data Entry","From Workforce Analysis","From Workforce Analysis","(K - M + O) - ((C + F) x Q)","K ÷ C","(K - M + O) ÷ (C + F)"]
[]
[]
[]
[null,null,"i","i","i","i","i","i","i","i","i","i","i","i","i","i","i","i","i","i","i"]
[null,null,"Table 7: Members of Visible Minorities"]
[null,null,"First/Previous Short-term Goals"]
["Employment Equity Occupational Group (EEOG)",null,"All Employees",{"$nulls":7},"Members of Visible Minorities"]
[null,null,"Number","Growth (New Positions)",null,null,"Turnover (Replacement of Terminated Employees)",null,null,"Anticipated Hires Over 3 Years","Number","Turnover (Replacement of Terminated Employees)",null,"Hires Required Over 3 Years","3 Year Goals",null,"Present Availability","Present Gap","Projected Gap","Present Representation","Projected Representation in 3 Years"]
[{"$nulls":14},"From - To"]
[null,null,"YYYY-MM-DD","Actual","Projected",null,"Actual","Projected",null,null,"YYYY-MM-DD",null,null,null,"YYYY - YYYY"]
[null,null,{"$f":"C21","v":"--"},"Annually","Annually","Over 3 Years","Annually","Annually","Over 3 Years",null,{"$f":"C21","v":"--"},"Annually","Over 3 Years",null,{"$f":"WorkforceAnalysis!C11","v":0},{"$f":"O182+3","v":3}]
[null,null,"#","%","%","#","%","%","#","#","#","%","#","#","#","%","%","#","#","%","%"]
["01","Senior Managers",{"$f":"C23","v":0},{"$f":"D23","v":0},null,{"$f":"ROUND(C184*E184*3,0)","v":0},{"$f":"G23","v":0},null,{"$f":"ROUND(C184*H184*3,0)","v":0},{"$f":"F184+I184","v":0},{"$f":"WorkforceAnalysis!D82","v":0},{"$f":"H184","v":0},{"$f":"ROUND(K184*L184*3,0)","v":0},{"$f":"(F184*Q184)-R184+M184","v":0},{"$f":"ROUND(J184*P184,0)","v":0},null,{"$f":"WorkforceAnalysis!E82/100","v":0},{"$f":"ResultsVisibleMinorities!I18","v":0},{"$f":"(K184-M184+O184)-((C184+F184)*Q184)","v":0},{"$f":"K184/C184","v":{"$error":"#DIV/0!"}},{"$f":"(K184-M184+O184)/(C184+F184)","v":{"$error":"#DIV/0!"}}]
["02","Middle & Other Managers",0,0,null,{"$f":"ROUND(C185*E185*3,0)","v":0},{"$f":"G24","v":0},null,{"$f":"ROUND(C185*H185*3,0)","v":0},{"$f":"F185+I185","v":0},{"$f":"WorkforceAnalysis!D83","v":0},{"$f":"H185","v":0},{"$f":"ROUND(K185*L185*3,0)","v":0},0,{"$f":"ROUND(J185*P185,0)","v":0},null,{"$f":"WorkforceAnalysis!E83/100","v":0},{"$f":"ResultsVisibleMinorities!I20","v":0},{"$f":"(K185-M185+O185)-((C185+F185)*Q185)","v":0},{"$f":"K185/C185","v":{"$error":"#DIV/0!"}},{"$f":"(K185-M185+O185)/(C185+F185)","v":{"$error":"#DIV/0!"}}]
["03","Professionals",0,0,null,0,0,null,0,0,{"$f":"WorkforceAnalysis!D84","v":0},0,0,0,0,null,{"$f":"WorkforceAnalysis!E84/100","v":0},{"$f":"ResultsVisibleMinorities!I22","v":0},0,{"$error":"#DIV/0!"},{"$error":"#DIV/0!"}]
["04","Semi-Professionals & Tech",0,0,null,0,0,null,0,0,{"$f":"WorkforceAnalysis!D85","v":0},0,0,0,0,null,{"$f":"WorkforceAnalysis!E85/100","v":0},{"$f":"ResultsVisibleMinorities!I24","v":0},0,{"$error":"#DIV/0!"},{"$error":"#DIV/0!"}]
["05","Supervisors",0,0,null,0,0,null,0,0,{"$f":"WorkforceAnalysis!D86","v":0},0,0,0,0,null,{"$f":"WorkforceAnalysis!E86/100","v":0},{"$f":"ResultsVisibleMinorities!I26","v":0},0,{"$error":"#DIV/0!"},{"$error":"#DIV/0!"}]
["06","Supervisors: Crafts & Trades",0,0,null,0,0,null,0,0,{"$f":"WorkforceAnalysis!D87","v":0},0,0,0,0,null,{"$f":"WorkforceAnalysis!E87/100","v":0},{"$f":"ResultsVisibleMinorities!I28","v":0},0,{"$error":"#DIV/0!"},{"$error":"#DIV/0!"}]
["07","Administrative & Sr Clerical",0,0,null,0,0,null,0,0,{"$f":"WorkforceAnalysis!D88","v":0},0,0,0,0,null,{"$f":"WorkforceAnalysis!E88/100","v":0},{"$f":"ResultsVisibleMinorities!I67","v":0},0,{"$error":"#DIV/0!"},{"$error":"#DIV/0!"}]
["08","Skilled Sales & Service",0,0,null,0,0,null,0,0,{"$f":"WorkforceAnalysis!D89","v":0},0,0,0,0,null,{"$f":"WorkforceAnalysis!E89/100","v":0},{"$f":"ResultsVisibleMinorities!I69","v":0},0,{"$error":"#DIV/0!"},{"$error":"#DIV/0!"}]
["09","Skilled Crafts & Trades",0,0,null,0,0,null,0,0,{"$f":"WorkforceAnalysis!D90","v":0},0,0,0,0,null,{"$f":"WorkforceAnalysis!E90/100","v":0},{"$f":"ResultsVisibleMinorities!I71","v":0},0,{"$error":"#DIV/0!"},{"$error":"#DIV/0!"}]
["10","Clerical Personnel",0,0,null,0,0,null,0,0,{"$f":"WorkforceAnalysis!D91","v":0},0,0,0,0,null,{"$f":"WorkforceAnalysis!E91/100","v":0},{"$f":"ResultsVisibleMinorities!I73","v":0},0,{"$error":"#DIV/0!"},{"$error":"#DIV/0!"}]
["11","Intermediate Sales & Service",0,0,null,0,0,null,0,0,{"$f":"WorkforceAnalysis!D92","v":0},0,0,0,0,null,{"$f":"WorkforceAnalysis!E92/100","v":0},{"$f":"ResultsVisibleMinorities!I75","v":0},0,{"$error":"#DIV/0!"},{"$error":"#DIV/0!"}]
["12","Semi-Skilled Manual",0,0,null,0,0,null,0,0,{"$f":"WorkforceAnalysis!D93","v":0},0,0,0,0,null,{"$f":"WorkforceAnalysis!E93/100","v":0},{"$f":"ResultsVisibleMinorities!I77","v":0},0,{"$error":"#DIV/0!"},{"$error":"#DIV/0!"}]
["13","Other Sales & Service",0,0,null,0,0,null,0,0,{"$f":"WorkforceAnalysis!D94","v":0},0,0,0,0,null,{"$f":"WorkforceAnalysis!E94/100","v":0},{"$f":"ResultsVisibleMinorities!I116","v":0},0,{"$error":"#DIV/0!"},{"$error":"#DIV/0!"}]
["14","Other Manual Workers",0,0,null,0,0,null,0,0,{"$f":"WorkforceAnalysis!D95","v":0},0,0,0,0,null,{"$f":"WorkforceAnalysis!E95/100","v":0},{"$f":"ResultsVisibleMinorities!I118","v":0},0,{"$error":"#DIV/0!"},{"$error":"#DIV/0!"}]
["Total",null,0,0,null,0,0,null,0,0,{"$f":"WorkforceAnalysis!D96","v":0},0,0,0,0,null,{"$f":"WorkforceAnalysis!E96/100","v":0},{"$f":"ResultsVisibleMinorities!I120","v":0},0,{"$error":"#DIV/0!"},{"$error":"#DIV/0!"}]
["†","Calculated by using the following formula: ((Current number of employees from Workforce Analysis ÷ Previous number of employees from Workforce Analysis)1/3 - 1) x 100."]
["‡","Calculated by using the following formula: (Terminated full-time employees from Flow Data Analysis + Terminated part-time employees from Flow Data Analysis) ÷ ((Total number of employees from Previous Workforce Analysis + Total number of employees from Current Workforce Analysis) ÷ 2) x 100."]
[null,null,"Table 8: Members of Visible Minorities"]
["Employment Equity Occupational Group (EEOG)",null,"Members of Visible Minorities",null,null,null,"Comments"]
[null,null,"Short-term Goals",null,"Long-term Goals"]
[null,null,null,"%",null,"%"]
["01","Senior Managers",null,{"$f":"P184*100","v":0},null,0]
["02","Middle & Other Managers",null,0,null,0]
["03","Professionals",null,0,null,0]
["04","Semi-Professionals & Tech",null,0,null,0]
["05","Supervisors",null,0,null,0]
["06","Supervisors: Crafts & Trades",null,0,null,0]
["07","Administrative & Sr Clerical",null,0,null,0]
["08","Skilled Sales & Service",null,0,null,0]
["09","Skilled Crafts & Trades",null,0,null,0]
["10","Clerical Personnel",null,0,null,0]
["11","Intermediate Sales & Service",null,0,null,0]
["12","Semi-Skilled Manual",null,0,null,0]
["13","Other Sales & Service",null,0,null,0]
["14","Other Manual Workers",null,0,null,0]
["Total",null,null,0,null,0]
[]
[null,null,"Data for Subsequent/Current Goals"]
[]
["A","B","C","D","E","F","G","H","I","J","K","L","M","N","O","P","Q","R","S","T","U"]
[]
["Data sources:",null,"From Workforce Analysis","From Workforce Analysis†","Data Entry","C x E x 3","From Flow Data Analysis & Workforce Analysis‡","Data Entry","C x H x 3","F + I","From Workforce Analysis","Equivalent to H","K x L x 3","(F x Q) - R + M","J x P","Data Entry","From Workforce Analysis","From Workforce Analysis","(K - M + O) - ((C + F) x Q)","K ÷ C","(K - M + O) ÷ (C + F)"]
[]
[]
[]
[null,null,"i","i","i","i","i","i","i","i","i","i","i","i","i","i","i","i","i","i","i"]
[null,null,"Table 9: Women"]
[null,null,"Subsequent/Current Short-term Goals"]
["Employment Equity Occupational Group (EEOG)",null,"All Employees",{"$nulls":7},"Women"]
[null,null,"Number","Growth (New Positions)",null,null,"Turnover (Replacement of Terminated Employees)",null,null,"Anticipated Hires Over 3 Years","Number","Turnover (Replacement of Terminated Employees)",null,"Hires Required Over 3 Years","3 Year Goals",null,"Present Availability","Present Gap","Projected Gap","Present Representation","Projected Representation in 3 Years"]
[{"$nulls":14},"From - To"]
[null,null,"YYYY-MM-DD","Actual","Projected",null,"Actual","Projected",null,null,"YYYY-MM-DD",null,null,null,"YYYY - YYYY"]
[null,null,{"$f":"WorkforceAnalysis!G11&\"-\"&WorkforceAnalysis!H11&\"-\"&WorkforceAnalysis!I11","v":"--"},"Annually","Annually","Over 3 Years","Annually","Annually","Over 3 Years",null,{"$f":"C236","v":"--"},"Annually","Over 3 Years",null,{"$f":"WorkforceAnalysis!G11","v":0},{"$f":"O236+3","v":3}]
[null,null,"#","%","%","#","%","%","#","#","#","%","#","#","#","%","%","#","#","%","%"]
["01","Senior Managers",{"$f":"WorkforceAnalysis!G18","v":0},{"$f":"IFERROR(((WorkforceAnalysis!G18/WorkforceAnalysis!C18)^(1/3))-1,0)","v":0},null,{"$f":"ROUND(C238*E238*3,0)","v":0},{"$f":"IFERROR((FlowDataAnalysis!M16+FlowDataAnalysis!O16)/((WorkforceAnalysis!C18+WorkforceAnalysis!G18)/2),0)","v":0},null,{"$f":"ROUND(C238*H238*3,0)","v":0},{"$f":"F238+I238","v":0},{"$f":"WorkforceAnalysis!H18","v":0},{"$f":"H238","v":0},{"$f":"ROUND(K238*L238*3,0)","v":0},{"$f":"(F238*Q238)-R238+M238","v":0},{"$f":"ROUND(J238*P238,0)","v":0},null,{"$f":"WorkforceAnalysis!I18/100","v":0},{"$f":"ResultsWomen!I19","v":0},{"$f":"(K238-M238+O238)-((C238+F238)*Q238)","v":0},{"$f":"K238/C238","v":{"$error":"#DIV/0!"}},{"$f":"(K238-M238+O238)/(C238+F238)","v":{"$error":"#DIV/0!"}}]
["02","Middle & Other Managers",{"$f":"WorkforceAnalysis!G19","v":0},{"$f":"IFERROR(((WorkforceAnalysis!G19/WorkforceAnalysis!C19)^(1/3))-1,0)","v":0},null,{"$f":"ROUND(C239*E239*3,0)","v":0},{"$f":"IFERROR((FlowDataAnalysis!M17+FlowDataAnalysis!O17)/((WorkforceAnalysis!C19+WorkforceAnalysis!G19)/2),0)","v":0},null,{"$f":"ROUND(C239*H239*3,0)","v":0},{"$f":"F239+I239","v":0},{"$f":"WorkforceAnalysis!H19","v":0},{"$f":"H239","v":0},{"$f":"ROUND(K239*L239*3,0)","v":0},{"$f":"(F239*Q239)-R239+M239","v":0},{"$f":"ROUND(J239*P239,0)","v":0},null,{"$f":"WorkforceAnalysis!I19/100","v":0},{"$f":"ResultsWomen!I21","v":0},{"$f":"(K239-M239+O239)-((C239+F239)*Q239)","v":0},{"$f":"K239/C239","v":{"$error":"#DIV/0!"}},{"$f":"(K239-M239+O239)/(C239+F239)","v":{"$error":"#DIV/0!"}}]
["03","Professionals",{"$f":"WorkforceAnalysis!G20","v":0},{"$f":"IFERROR(((WorkforceAnalysis!G20/WorkforceAnalysis!C20)^(1/3))-1,0)","v":0},null,0,{"$f":"IFERROR((FlowDataAnalysis!M18+FlowDataAnalysis!O18)/((WorkforceAnalysis!C20+WorkforceAnalysis!G20)/2),0)","v":0},null,0,0,{"$f":"WorkforceAnalysis!H20","v":0},0,0,0,0,null,{"$f":"WorkforceAnalysis!I20/100","v":0},{"$f":"ResultsWomen!I23","v":0},0,{"$error":"#DIV/0!"},{"$error":"#DIV/0!"}]
["04","Semi-Professionals & Tech",{"$f":"WorkforceAnalysis!G21","v":0},{"$f":"IFERROR(((WorkforceAnalysis!G21/WorkforceAnalysis!C21)^(1/3))-1,0)","v":0},null,0,{"$f":"IFERROR((FlowDataAnalysis!M19+FlowDataAnalysis!O19)/((WorkforceAnalysis!C21+WorkforceAnalysis!G21)/2),0)","v":0},null,0,0,{"$f":"WorkforceAnalysis!H21","v":0},0,0,0,0,null,{"$f":"WorkforceAnalysis!I21/100","v":0},{"$f":"ResultsWomen!I25","v":0},0,{"$error":"#DIV/0!"},{"$error":"#DIV/0!"}]
["05","Supervisors",{"$f":"WorkforceAnalysis!G22","v":0},{"$f":"IFERROR(((WorkforceAnalysis!G22/WorkforceAnalysis!C22)^(1/3))-1,0)","v":0},null,0,{"$f":"IFERROR((FlowDataAnalysis!M20+FlowDataAnalysis!O20)/((WorkforceAnalysis!C22+WorkforceAnalysis!G22)/2),0)","v":0},null,0,0,{"$f":"WorkforceAnalysis!H22","v":0},0,0,0,0,null,{"$f":"WorkforceAnalysis!I22/100","v":0},{"$f":"ResultsWomen!I27","v":0},0,{"$error":"#DIV/0!"},{"$error":"#DIV/0!"}]
["06","Supervisors: Crafts & Trades",{"$f":"WorkforceAnalysis!G23","v":0},{"$f":"IFERROR(((WorkforceAnalysis!G23/WorkforceAnalysis!C23)^(1/3))-1,0)","v":0},null,0,{"$f":"IFERROR((FlowDataAnalysis!M21+FlowDataAnalysis!O21)/((WorkforceAnalysis!C23+WorkforceAnalysis!G23)/2),0)","v":0},null,0,0,{"$f":"WorkforceAnalysis!H23","v":0},0,0,0,0,null,{"$f":"WorkforceAnalysis!I23/100","v":0},{"$f":"ResultsWomen!I29","v":0},0,{"$error":"#DIV/0!"},{"$error":"#DIV/0!"}]
["07","Administrative & Sr Clerical",{"$f":"WorkforceAnalysis!G24","v":0},{"$f":"IFERROR(((WorkforceAnalysis!G24/WorkforceAnalysis!C24)^(1/3))-1,0)","v":0},null,0,{"$f":"IFERROR((FlowDataAnalysis!M22+FlowDataAnalysis!O22)/((WorkforceAnalysis!C24+WorkforceAnalysis!G24)/2),0)","v":0},null,0,0,{"$f":"WorkforceAnalysis!H24","v":0},0,0,0,0,null,{"$f":"WorkforceAnalysis!I24/100","v":0},{"$f":"ResultsWomen!I68","v":0},0,{"$error":"#DIV/0!"},{"$error":"#DIV/0!"}]
["08","Skilled Sales & Service",{"$f":"WorkforceAnalysis!G25","v":0},{"$f":"IFERROR(((WorkforceAnalysis!G25/WorkforceAnalysis!C25)^(1/3))-1,0)","v":0},null,0,{"$f":"IFERROR((FlowDataAnalysis!M23+FlowDataAnalysis!O23)/((WorkforceAnalysis!C25+WorkforceAnalysis!G25)/2),0)","v":0},null,0,0,{"$f":"WorkforceAnalysis!H25","v":0},0,0,0,0,null,{"$f":"WorkforceAnalysis!I25/100","v":0},{"$f":"ResultsWomen!I70","v":0},0,{"$error":"#DIV/0!"},{"$error":"#DIV/0!"}]
["09","Skilled Crafts & Trades",{"$f":"WorkforceAnalysis!G26","v":0},{"$f":"IFERROR(((WorkforceAnalysis!G26/WorkforceAnalysis!C26)^(1/3))-1,0)","v":0},null,0,{"$f":"IFERROR((FlowDataAnalysis!M24+FlowDataAnalysis!O24)/((WorkforceAnalysis!C26+WorkforceAnalysis!G26)/2),0)","v":0},null,0,0,{"$f":"WorkforceAnalysis!H26","v":0},0,0,0,0,null,{"$f":"WorkforceAnalysis!I26/100","v":0},{"$f":"ResultsWomen!I72","v":0},0,{"$error":"#DIV/0!"},{"$error":"#DIV/0!"}]
["10","Clerical Personnel",{"$f":"WorkforceAnalysis!G27","v":0},{"$f":"IFERROR(((WorkforceAnalysis!G27/WorkforceAnalysis!C27)^(1/3))-1,0)","v":0},null,0,{"$f":"IFERROR((FlowDataAnalysis!M25+FlowDataAnalysis!O25)/((WorkforceAnalysis!C27+WorkforceAnalysis!G27)/2),0)","v":0},null,0,0,{"$f":"WorkforceAnalysis!H27","v":0},0,0,0,0,null,{"$f":"WorkforceAnalysis!I27/100","v":0},{"$f":"ResultsWomen!I74","v":0},0,{"$error":"#DIV/0!"},{"$error":"#DIV/0!"}]
["11","Intermediate Sales & Service",{"$f":"WorkforceAnalysis!G28","v":0},{"$f":"IFERROR(((WorkforceAnalysis!G28/WorkforceAnalysis!C28)^(1/3))-1,0)","v":0},null,0,{"$f":"IFERROR((FlowDataAnalysis!M26+FlowDataAnalysis!O26)/((WorkforceAnalysis!C28+WorkforceAnalysis!G28)/2),0)","v":0},null,0,0,{"$f":"WorkforceAnalysis!H28","v":0},0,0,0,0,null,{"$f":"WorkforceAnalysis!I28/100","v":0},{"$f":"ResultsWomen!I76","v":0},0,{"$error":"#DIV/0!"},{"$error":"#DIV/0!"}]
["12","Semi-Skilled Manual",{"$f":"WorkforceAnalysis!G29","v":0},{"$f":"IFERROR(((WorkforceAnalysis!G29/WorkforceAnalysis!C29)^(1/3))-1,0)","v":0},null,0,{"$f":"IFERROR((FlowDataAnalysis!M27+FlowDataAnalysis!O27)/((WorkforceAnalysis!C29+WorkforceAnalysis!G29)/2),0)","v":0},null,0,0,{"$f":"WorkforceAnalysis!H29","v":0},0,0,0,0,null,{"$f":"WorkforceAnalysis!I29/100","v":0},{"$f":"ResultsWomen!I78","v":0},0,{"$error":"#DIV/0!"},{"$error":"#DIV/0!"}]
["13","Other Sales & Service",{"$f":"WorkforceAnalysis!G30","v":0},{"$f":"IFERROR(((WorkforceAnalysis!G30/WorkforceAnalysis!C30)^(1/3))-1,0)","v":0},null,0,{"$f":"IFERROR((FlowDataAnalysis!M28+FlowDataAnalysis!O28)/((WorkforceAnalysis!C30+WorkforceAnalysis!G30)/2),0)","v":0},null,0,0,{"$f":"WorkforceAnalysis!H30","v":0},0,0,0,0,null,{"$f":"WorkforceAnalysis!I30/100","v":0},{"$f":"ResultsWomen!I117","v":0},0,{"$error":"#DIV/0!"},{"$error":"#DIV/0!"}]
["14","Other Manual Workers",{"$f":"WorkforceAnalysis!G31","v":0},{"$f":"IFERROR(((WorkforceAnalysis!G31/WorkforceAnalysis!C31)^(1/3))-1,0)","v":0},null,0,{"$f":"IFERROR((FlowDataAnalysis!M29+FlowDataAnalysis!O29)/((WorkforceAnalysis!C31+WorkforceAnalysis!G31)/2),0)","v":0},null,0,0,{"$f":"WorkforceAnalysis!H31","v":0},0,0,0,0,null,{"$f":"WorkforceAnalysis!I31/100","v":0},{"$f":"ResultsWomen!I119","v":0},0,{"$error":"#DIV/0!"},{"$error":"#DIV/0!"}]
["Total",null,{"$f":"WorkforceAnalysis!G32","v":0},{"$f":"IFERROR(((WorkforceAnalysis!G32/WorkforceAnalysis!C32)^(1/3))-1,0)","v":0},null,0,{"$f":"IFERROR((FlowDataAnalysis!M30+FlowDataAnalysis!O30)/((WorkforceAnalysis!C32+WorkforceAnalysis!G32)/2),0)","v":0},null,0,0,{"$f":"WorkforceAnalysis!H32","v":0},0,0,0,0,null,{"$f":"WorkforceAnalysis!I32/100","v":0},{"$f":"ResultsWomen!I121","v":0},0,{"$error":"#DIV/0!"},{"$error":"#DIV/0!"}]
["†","Calculated by using the following formula: ((Current number of employees from Workforce Analysis ÷ Previous number of employees from Workforce Analysis)1/3 - 1) x 100."]
["‡","Calculated by using the following formula: (Terminated full-time employees from Flow Data Analysis + Terminated part-time employees from Flow Data Analysis) ÷ ((Total number of employees from Previous Workforce Analysis + Total number of employees from Current Workforce Analysis) ÷ 2) x 100."]
[null,null,"Table 10: Women"]
["Employment Equity Occupational Group (EEOG)",null,"Women",null,null,null,"Comments"]
[null,null,"Short-term Goals",null,"Long-term Goals"]
[null,null,null,"%",null,"%"]
["01","Senior Managers",null,{"$f":"P238*100","v":0},null,0]
["02","Middle & Other Managers",null,{"$f":"P239*100","v":0},null,0]
["03","Professionals",null,0,null,0]
["04","Semi-Professionals & Tech",null,0,null,0]
["05","Supervisors",null,0,null,0]
["06","Supervisors: Crafts & Trades",null,0,null,0]
["07","Administrative & Sr Clerical",null,0,null,0]
["08","Skilled Sales & Service",null,0,null,0]
["09","Skilled Crafts & Trades",null,0,null,0]
["10","Clerical Personnel",null,0,null,0]
["11","Intermediate Sales & Service",null,0,null,0]
["12","Semi-Skilled Manual",null,0,null,0]
["13","Other Sales & Service",null,0,null,0]
["14","Other Manual Workers",null,0,null,0]
["Total",null,null,0,null,0]
[]
[null,null,"Data for Subsequent/Current Goals"]
[]
["A","B","C","D","E","F","G","H","I","J","K","L","M","N","O","P","Q","R","S","T","U"]
[]
["Data sources:",null,"From Workforce Analysis","From Workforce Analysis†","Data Entry","C x E x 3","From Flow Data Analysis & Workforce Analysis‡","Data Entry","C x H x 3","F + I","From Workforce Analysis","Equivalent to H","K x L x 3","(F x Q) - R + M","J x P","Data Entry","From Workforce Analysis","From Workforce Analysis","(K - M + O) - ((C + F) x Q)","K ÷ C","(K - M + O) ÷ (C + F)"]
[]
[]
[]
[null,null,"i","i","i","i","i","i","i","i","i","i","i","i","i","i","i","i","i","i","i"]
[null,null,"Table 11: Aboriginal Peoples"]
[null,null,"Subsequent/Current Short-term Goals"]
["Employment Equity Occupational Group (EEOG)",null,"All Employees",{"$nulls":7},"Aboriginal Peoples"]
[null,null,"Number","Growth (New Positions)",null,null,"Turnover (Replacement of Terminated Employees)",null,null,"Anticipated Hires Over 3 Years","Number","Turnover (Replacement of Terminated Employees)",null,"Hires Required Over 3 Years","3 Year Goals",null,"Present Availability","Present Gap","Projected Gap","Present Representation","Projected Representation in 3 Years"]
[{"$nulls":14},"From - To"]
[null,null,"YYYY-MM-DD","Actual","Projected",null,"Actual","Projected",null,null,"YYYY-MM-DD",null,null,null,"YYYY - YYYY"]
[null,null,{"$f":"C236","v":"--"},"Annually","Annually","Over 3 Years","Annually","Annually","Over 3 Years",null,{"$f":"C290","v":"--"},"Annually","Over 3 Years",null,{"$f":"O236","v":0},{"$f":"O290+3","v":3}]
[null,null,"#","%","%","#","%","%","#","#","#","%","#","#","#","%","%","#","#","%","%"]
["01","Senior Managers",{"$f":"C238","v":0},{"$f":"D238","v":0},null,{"$f":"ROUND(C292*E292*3,0)","v":0},{"$f":"G238","v":0},null,{"$f":"ROUND(C292*H292*3,0)","v":0},{"$f":"F292+I292","v":0},{"$f":"WorkforceAnalysis!H50","v":0},{"$f":"H292","v":0},{"$f":"ROUND(K292*L292*3,0)","v":0},{"$f":"(F292*Q292)-R292+M292","v":0},{"$f":"ROUND(J292*P292,0)","v":0},null,{"$f":"WorkforceAnalysis!I50/100","v":0},{"$f":"ResultsAboriginalPeoples!I19","v":0},{"$f":"(K292-M292+O292)-((C292+F292)*Q292)","v":0},{"$f":"K292/C292","v":{"$error":"#DIV/0!"}},{"$f":"(K292-M292+O292)/(C292+F292)","v":{"$error":"#DIV/0!"}}]
["02","Middle & Other Managers",0,0,null,{"$f":"ROUND(C293*E293*3,0)","v":0},0,null,{"$f":"ROUND(C293*H293*3,0)","v":0},{"$f":"F293+I293","v":0},{"$f":"WorkforceAnalysis!H51","v":0},{"$f":"H293","v":0},{"$f":"ROUND(K293*L293*3,0)","v":0},0,{"$f":"ROUND(J293*P293,0)","v":0},null,{"$f":"WorkforceAnalysis!I51/100","v":0},{"$f":"ResultsAboriginalPeoples!I21","v":0},{"$f":"(K293-M293+O293)-((C293+F293)*Q293)","v":0},{"$f":"K293/C293","v":{"$error":"#DIV/0!"}},{"$f":"(K293-M293+O293)/(C293+F293)","v":{"$error":"#DIV/0!"}}]
["03","Professionals",0,0,null,0,0,null,0,0,{"$f":"WorkforceAnalysis!H52","v":0},0,0,0,0,null,{"$f":"WorkforceAnalysis!I52/100","v":0},{"$f":"ResultsAboriginalPeoples!I23","v":0},0,{"$error":"#DIV/0!"},{"$error":"#DIV/0!"}]
["04","Semi-Professionals & Tech",0,0,null,0,0,null,0,0,{"$f":"WorkforceAnalysis!H53","v":0},0,0,0,0,null,{"$f":"WorkforceAnalysis!I53/100","v":0},{"$f":"ResultsAboriginalPeoples!I25","v":0},0,{"$error":"#DIV/0!"},{"$error":"#DIV/0!"}]
["05","Supervisors",0,0,null,0,0,null,0,0,{"$f":"WorkforceAnalysis!H54","v":0},0,0,0,0,null,{"$f":"WorkforceAnalysis!I54/100","v":0},{"$f":"ResultsAboriginalPeoples!I27","v":0},0,{"$error":"#DIV/0!"},{"$error":"#DIV/0!"}]
["06","Supervisors: Crafts & Trades",0,0,null,0,0,null,0,0,{"$f":"WorkforceAnalysis!H55","v":0},0,0,0,0,null,{"$f":"WorkforceAnalysis!I55/100","v":0},{"$f":"ResultsAboriginalPeoples!I29","v":0},0,{"$error":"#DIV/0!"},{"$error":"#DIV/0!"}]
["07","Administrative & Sr Clerical",0,0,null,0,0,null,0,0,{"$f":"WorkforceAnalysis!H56","v":0},0,0,0,0,null,{"$f":"WorkforceAnalysis!I56/100","v":0},{"$f":"ResultsAboriginalPeoples!I68","v":0},0,{"$error":"#DIV/0!"},{"$error":"#DIV/0!"}]
["08","Skilled Sales & Service",0,0,null,0,0,null,0,0,{"$f":"WorkforceAnalysis!H57","v":0},0,0,0,0,null,{"$f":"WorkforceAnalysis!I57/100","v":0},{"$f":"ResultsAboriginalPeoples!I70","v":0},0,{"$error":"#DIV/0!"},{"$error":"#DIV/0!"}]
["09","Skilled Crafts & Trades",0,0,null,0,0,null,0,0,{"$f":"WorkforceAnalysis!H58","v":0},0,0,0,0,null,{"$f":"WorkforceAnalysis!I58/100","v":0},{"$f":"ResultsAboriginalPeoples!I72","v":0},0,{"$error":"#DIV/0!"},{"$error":"#DIV/0!"}]
["10","Clerical Personnel",0,0,null,0,0,null,0,0,{"$f":"WorkforceAnalysis!H59","v":0},0,0,0,0,null,{"$f":"WorkforceAnalysis!I59/100","v":0},{"$f":"ResultsAboriginalPeoples!I74","v":0},0,{"$error":"#DIV/0!"},{"$error":"#DIV/0!"}]
["11","Intermediate Sales & Service",0,0,null,0,0,null,0,0,{"$f":"WorkforceAnalysis!H60","v":0},0,0,0,0,null,{"$f":"WorkforceAnalysis!I60/100","v":0},{"$f":"ResultsAboriginalPeoples!I76","v":0},0,{"$error":"#DIV/0!"},{"$error":"#DIV/0!"}]
["12","Semi-Skilled Manual",0,0,null,0,0,null,0,0,{"$f":"WorkforceAnalysis!H61","v":0},0,0,0,0,null,{"$f":"WorkforceAnalysis!I61/100","v":0},{"$f":"ResultsAboriginalPeoples!I78","v":0},0,{"$error":"#DIV/0!"},{"$error":"#DIV/0!"}]
["13","Other Sales & Service",0,0,null,0,0,null,0,0,{"$f":"WorkforceAnalysis!H62","v":0},0,0,0,0,null,{"$f":"WorkforceAnalysis!I62/100","v":0},{"$f":"ResultsAboriginalPeoples!I117","v":0},0,{"$error":"#DIV/0!"},{"$error":"#DIV/0!"}]
["14","Other Manual Workers",0,0,null,0,0,null,0,0,{"$f":"WorkforceAnalysis!H63","v":0},0,0,0,0,null,{"$f":"WorkforceAnalysis!I63/100","v":0},{"$f":"ResultsAboriginalPeoples!I119","v":0},0,{"$error":"#DIV/0!"},{"$error":"#DIV/0!"}]
["Total",null,0,0,null,0,0,null,0,0,{"$f":"WorkforceAnalysis!H64","v":0},0,0,0,0,null,{"$f":"WorkforceAnalysis!I64/100","v":0},{"$f":"ResultsAboriginalPeoples!I121","v":0},0,{"$error":"#DIV/0!"},{"$error":"#DIV/0!"}]
["†","Calculated by using the following formula: ((Current number of employees from Workforce Analysis ÷ Previous number of employees from Workforce Analysis)1/3 - 1) x 100."]
["‡","Calculated by using the following formula: (Terminated full-time employees from Flow Data Analysis + Terminated part-time employees from Flow Data Analysis) ÷ ((Total number of employees from Previous Workforce Analysis + Total number of employees from Current Workforce Analysis) ÷ 2) x 100."]
[null,null,"Table 12: Aboriginal Peoples"]
["Employment Equity Occupational Group (EEOG)",null,"Aboriginal Peoples",null,null,null,"Comments"]
[null,null,"Short-term Goals",null,"Long-term Goals"]
[null,null,null,"%",null,"%"]
["01","Senior Managers",null,{"$f":"P292*100","v":0},null,0]
["02","Middle & Other Managers",null,{"$f":"P293*100","v":0},null,0]
["03","Professionals",null,0,null,0]
["04","Semi-Professionals & Tech",null,0,null,0]
["05","Supervisors",null,0,null,0]
["06","Supervisors: Crafts & Trades",null,0,null,0]
["07","Administrative & Sr Clerical",null,0,null,0]
["08","Skilled Sales & Service",null,0,null,0]
["09","Skilled Crafts & Trades",null,0,null,0]
["10","Clerical Personnel",null,0,null,0]
["11","Intermediate Sales & Service",null,0,null,0]
["12","Semi-Skilled Manual",null,0,null,0]
["13","Other Sales & Service",null,0,null,0]
["14","Other Manual Workers",null,0,null,0]
["Total",null,null,0,null,0]
[]
[null,null,"Data for Subsequent/Current Goals"]
[]
["A","B","C","D","E","F","G","H","I","J","K","L","M","N","O","P","Q","R","S","T","U"]
[]
["Data sources:",null,"From Workforce Analysis","From Workforce Analysis†","Data Entry","C x E x 3","From Flow Data Analysis & Workforce Analysis‡","Data Entry","C x H x 3","F + I","From Workforce Analysis","Equivalent to H","K x L x 3","(F x Q) - R + M","J x P","Data Entry","From Workforce Analysis","From Workforce Analysis","(K - M + O) - ((C + F) x Q)","K ÷ C","(K - M + O) ÷ (C + F)"]
[]
[]
[]
[null,null,"i","i","i","i","i","i","i","i","i","i","i","i","i","i","i","i","i","i","i"]
[null,null,"Table 13: Persons with Disabilities"]
[null,null,"Subsequent/Current Short-term Goals"]
["Employment Equity Occupational Group (EEOG)",null,"All Employees",{"$nulls":7},"Persons with Disabilities"]
[null,null,"Number","Growth (New Positions)",null,null,"Turnover (Replacement of Terminated Employees)",null,null,"Anticipated Hires Over 3 Years","Number","Turnover (Replacement of Terminated Employees)",null,"Hires Required Over 3 Years","3 Year Goals",null,"Present Availability","Present Gap","Projected Gap","Present Representation","Projected Representation in 3 Years"]
[{"$nulls":14},"From - To"]
[null,null,"YYYY-MM-DD","Actual","Projected",null,"Actual","Projected",null,null,"YYYY-MM-DD",null,null,null,"YYYY - YYYY"]
[null,null,{"$f":"C236","v":"--"},"Annually","Annually","Over 3 Years","Annually","Annually","Over 3 Years",null,{"$f":"C344","v":"--"},"Annually","Over 3 Years",null,{"$f":"O236","v":0},{"$f":"O344+3","v":3}]
[null,null,"#","%","%","#","%","%","#","#","#","%","#","#","#","%","%","#","#","%","%"]
["01/02","Managers",{"$f":"C238+C239","v":0},{"$f":"(D238+D239)/2","v":0},null,{"$f":"ROUND(C346*E346*3,0)","v":0},{"$f":"(G238+G239)/2","v":0},null,{"$f":"ROUND(C346*H346*3,0)","v":0},{"$f":"F346+I346","v":0},{"$f":"WorkforceAnalysis!H114","v":0},{"$f":"H346","v":0},{"$f":"ROUND(K346*L346*3,0)","v":0},{"$f":"(F346*Q346)-R346+M346","v":0},{"$f":"ROUND(J346*P346,0)","v":0},null,{"$f":"WorkforceAnalysis!I114/100","v":0},{"$f":"ResultsPersonsDisabilities!I19","v":0},{"$f":"(K346-M346+O346)-((C346+F346)*Q346)","v":0},{"$f":"K346/C346","v":{"$error":"#DIV/0!"}},{"$f":"(K346-M346+O346)/(C346+F346)","v":{"$error":"#DIV/0!"}}]
["03","Professionals",{"$f":"C240","v":0},{"$f":"D240","v":0},null,{"$f":"ROUND(C347*E347*3,0)","v":0},{"$f":"G240","v":0},null,{"$f":"ROUND(C347*H347*3,0)","v":0},{"$f":"F347+I347","v":0},{"$f":"WorkforceAnalysis!H115","v":0},{"$f":"H347","v":0},{"$f":"ROUND(K347*L347*3,0)","v":0},0,{"$f":"ROUND(J347*P347,0)","v":0},null,{"$f":"WorkforceAnalysis!I115/100","v":0},{"$f":"ResultsPersonsDisabilities!I21","v":0},{"$f":"(K347-M347+O347)-((C347+F347)*Q347)","v":0},{"$f":"K347/C347","v":{"$error":"#DIV/0!"}},{"$f":"(K347-M347+O347)/(C347+F347)","v":{"$error":"#DIV/0!"}}]
["04","Semi-Professionals & Tech",{"$f":"C241","v":0},0,null,0,{"$f":"G241","v":0},null,0,0,{"$f":"WorkforceAnalysis!H116","v":0},0,0,0,0,null,{"$f":"WorkforceAnalysis!I116/100","v":0},{"$f":"ResultsPersonsDisabilities!I23","v":0},0,{"$error":"#DIV/0!"},{"$error":"#DIV/0!"}]
["05","Supervisors",0,0,null,0,{"$f":"G242","v":0},null,0,0,{"$f":"WorkforceAnalysis!H117","v":0},0,0,0,0,null,{"$f":"WorkforceAnalysis!I117/100","v":0},{"$f":"ResultsPersonsDisabilities!I25","v":0},0,{"$error":"#DIV/0!"},{"$error":"#DIV/0!"}]
["06/09","Supervisors: Crafts & Trades - Skilled Crafts & Trades",0,0,null,0,{"$f":"G243","v":0},null,0,0,{"$f":"WorkforceAnalysis!H118","v":0},0,0,0,0,null,{"$f":"WorkforceAnalysis!I118/100","v":0},{"$f":"ResultsPersonsDisabilities!I27","v":0},0,{"$error":"#DIV/0!"},{"$error":"#DIV/0!"}]
["07","Administrative & Sr Clerical",0,0,null,0,{"$f":"G244","v":0},null,0,0,{"$f":"WorkforceAnalysis!H119","v":0},0,0,0,0,null,{"$f":"WorkforceAnalysis!I119/100","v":0},{"$f":"ResultsPersonsDisabilities!I64","v":0},0,{"$error":"#DIV/0!"},{"$error":"#DIV/0!"}]
["08","Skilled Sales & Service",0,0,null,0,{"$f":"G245","v":0},null,0,0,{"$f":"WorkforceAnalysis!H120","v":0},0,0,0,0,null,{"$f":"WorkforceAnalysis!I120/100","v":0},{"$f":"ResultsPersonsDisabilities!I66","v":0},0,{"$error":"#DIV/0!"},{"$error":"#DIV/0!"}]
["09","Skilled Crafts & Trades",0,0,null,0,{"$f":"G246","v":0},null,0,0,{"$f":"WorkforceAnalysis!H121","v":0},0,0,0,0,null,{"$f":"WorkforceAnalysis!I121/100","v":0},{"$f":"ResultsPersonsDisabilities!I68","v":0},0,{"$error":"#DIV/0!"},{"$error":"#DIV/0!"}]
["10","Clerical Personnel",0,0,null,0,{"$f":"G247","v":0},null,0,0,{"$f":"WorkforceAnalysis!H122","v":0},0,0,0,0,null,{"$f":"WorkforceAnalysis!I122/100","v":0},{"$f":"ResultsPersonsDisabilities!I70","v":0},0,{"$error":"#DIV/0!"},{"$error":"#DIV/0!"}]
["11","Intermediate Sales & Service",0,0,null,0,{"$f":"G248","v":0},null,0,0,{"$f":"WorkforceAnalysis!H123","v":0},0,0,0,0,null,{"$f":"WorkforceAnalysis!I123/100","v":0},{"$f":"ResultsPersonsDisabilities!I72","v":0},0,{"$error":"#DIV/0!"},{"$error":"#DIV/0!"}]
["12","Semi-Skilled Manual",0,0,null,0,{"$f":"G249","v":0},null,0,0,{"$f":"WorkforceAnalysis!H124","v":0},0,0,0,0,null,{"$f":"WorkforceAnalysis!I124/100","v":0},{"$f":"ResultsPersonsDisabilities!I74","v":0},0,{"$error":"#DIV/0!"},{"$error":"#DIV/0!"}]
["13","Other Sales & Service",0,0,null,0,{"$f":"G250","v":0},null,0,0,{"$f":"WorkforceAnalysis!H125","v":0},0,0,0,0,null,{"$f":"WorkforceAnalysis!I125/100","v":0},{"$f":"ResultsPersonsDisabilities!I113","v":0},0,{"$error":"#DIV/0!"},{"$error":"#DIV/0!"}]
["14","Other Manual Workers",0,0,null,0,{"$f":"G251","v":0},null,0,0,{"$f":"WorkforceAnalysis!H126","v":0},0,0,0,0,null,{"$f":"WorkforceAnalysis!I126/100","v":0},{"$f":"ResultsPersonsDisabilities!I115","v":0},0,{"$error":"#DIV/0!"},{"$error":"#DIV/0!"}]
["Total",null,0,0,null,0,{"$f":"G252","v":0},null,0,0,{"$f":"WorkforceAnalysis!H127","v":0},0,0,0,0,null,{"$f":"WorkforceAnalysis!I127/100","v":0},{"$f":"ResultsPersonsDisabilities!I117","v":0},0,{"$error":"#DIV/0!"},{"$error":"#DIV/0!"}]
["†","Calculated by using the following formula: ((Current number of employees from Workforce Analysis ÷ Previous number of employees from Workforce Analysis)1/3 - 1) x 100."]
["‡","Calculated by using the following formula: (Terminated full-time employees from Flow Data Analysis + Terminated part-time employees from Flow Data Analysis) ÷ ((Total number of employees from Previous Workforce Analysis + Total number of employees from Current Workforce Analysis) ÷ 2) x 100."]
[null,null,"Table 14: Persons with Disabilities"]
["Employment Equity Occupational Group (EEOG)",null,"Persons with Disabilities",null,null,null,"Comments"]
[null,null,"Short-term Goals",null,"Long-term Goals"]
[null,null,null,"%",null,"%"]
["01/02","Managers",null,{"$f":"P346*100","v":0},null,0]
["03","Professionals",null,{"$f":"P347*100","v":0},null,0]
["04","Semi-Professionals & Tech",null,0,null,0]
["05","Supervisors",null,0,null,0]
["06/09","Supervisors: Crafts & Trades - Skilled Crafts & Trades"," ",0,null,0]
["07","Administrative & Sr Clerical",null,0,null,0]
["08","Skilled Sales & Service",null,0,null,0]
["09","Skilled Crafts & Trades",null,0,null,0]
["10","Clerical Personnel",null,0,null,0]
["11","Intermediate Sales & Service",null,0,null,0]
["12","Semi-Skilled Manual",null,0,null,0]
["13","Other Sales & Service",null,0,null,0]
["14","Other Manual Workers",null,0,null,0]
["Total",null,null,0,null,0]
[]
[null,null,"Data for Subsequent/Current Goals"]
[]
["A","B","C","D","E","F","G","H","I","J","K","L","M","N","O","P","Q","R","S","T","U"]
[]
["Data sources:",null,"From Workforce Analysis","From Workforce Analysis†","Data Entry","C x E x 3","From Flow Data Analysis & Workforce Analysis‡","Data Entry","C x H x 3","F + I","From Workforce Analysis","Equivalent to H","K x L x 3","(F x Q) - R + M","J x P","Data Entry","From Workforce Analysis","From Workforce Analysis","(K - M + O) - ((C + F) x Q)","K ÷ C","(K - M + O) ÷ (C + F)"]
[]
[]
[]
[null,null,"i","i","i","i","i","i","i","i","i","i","i","i","i","i","i","i","i","i","i"]
[null,null,"Table 15: Members of Visible Minorities"]
[null,null,"Subsequent/Current Short-term Goals"]
["Employment Equity Occupational Group (EEOG)",null,"All Employees",{"$nulls":7},"Members of Visible Minorities"]
[null,null,"Number","Growth (New Positions)",null,null,"Turnover (Replacement of Terminated Employees)",null,null,"Anticipated Hires Over 3 Years","Number","Turnover (Replacement of Terminated Employees)",null,"Hires Required Over 3 Years","3 Year Goals",null,"Present Availability","Present Gap","Projected Gap","Present Representation","Projected Representation in 3 Years"]
[{"$nulls":14},"From - To"]
[null,null,"YYYY-MM-DD","Actual","Projected",null,"Actual","Projected",null,null,"YYYY-MM-DD",null,null,null,"YYYY - YYYY"]
[null,null,{"$f":"C236","v":"--"},"Annually","Annually","Over 3 Years","Annually","Annually","Over 3 Years",null,{"$f":"C396","v":"--"},"Annually","Over 3 Years",null,{"$f":"O236","v":0},{"$f":"O396+3","v":3}]
[null,null,"#","%","%","#","%","%","#","#","#","%","#","#","#","%","%","#","#","%","%"]
["01","Senior Managers",{"$f":"C238","v":0},{"$f":"D238","v":0},null,{"$f":"ROUND(C398*E398*3,0)","v":0},{"$f":"G238","v":0},null,{"$f":"ROUND(C398*H398*3,0)","v":0},{"$f":"F398+I398","v":0},{"$f":"WorkforceAnalysis!H82","v":0},{"$f":"H398","v":0},{"$f":"ROUND(K398*L398*3,0)","v":0},{"$f":"(F398*Q398)-R398+M398","v":0},{"$f":"ROUND(J398*P398,0)","v":0},null,{"$f":"WorkforceAnalysis!I82/100","v":0},{"$f":"ResultsVisibleMinorities!I19","v":0},{"$f":"(K398-M398+O398)-((C398+F398)*Q398)","v":0},{"$f":"K398/C398","v":{"$error":"#DIV/0!"}},{"$f":"(K398-M398+O398)/(C398+F398)","v":{"$error":"#DIV/0!"}}]
["02","Middle & Other Managers",{"$f":"C239","v":0},0,null,{"$f":"ROUND(C399*E399*3,0)","v":0},{"$f":"G239","v":0},null,{"$f":"ROUND(C399*H399*3,0)","v":0},{"$f":"F399+I399","v":0},{"$f":"WorkforceAnalysis!H83","v":0},{"$f":"H399","v":0},{"$f":"ROUND(K399*L399*3,0)","v":0},0,{"$f":"ROUND(J399*P399,0)","v":0},null,{"$f":"WorkforceAnalysis!I83/100","v":0},{"$f":"ResultsVisibleMinorities!I21","v":0},{"$f":"(K399-M399+O399)-((C399+F399)*Q399)","v":0},{"$f":"K399/C399","v":{"$error":"#DIV/0!"}},{"$f":"(K399-M399+O399)/(C399+F399)","v":{"$error":"#DIV/0!"}}]
["03","Professionals",0,0,null,0,{"$f":"G240","v":0},null,0,0,{"$f":"WorkforceAnalysis!H84","v":0},0,0,0,0,null,{"$f":"WorkforceAnalysis!I84/100","v":0},{"$f":"ResultsVisibleMinorities!I23","v":0},0,{"$error":"#DIV/0!"},{"$error":"#DIV/0!"}]
["04","Semi-Professionals & Tech",0,0,null,0,{"$f":"G241","v":0},null,0,0,{"$f":"WorkforceAnalysis!H85","v":0},0,0,0,0,null,{"$f":"WorkforceAnalysis!I85/100","v":0},{"$f":"ResultsVisibleMinorities!I25","v":0},0,{"$error":"#DIV/0!"},{"$error":"#DIV/0!"}]
["05","Supervisors",0,0,null,0,{"$f":"G242","v":0},null,0,0,{"$f":"WorkforceAnalysis!H86","v":0},0,0,0,0,null,{"$f":"WorkforceAnalysis!I86/100","v":0},{"$f":"ResultsVisibleMinorities!I27","v":0},0,{"$error":"#DIV/0!"},{"$error":"#DIV/0!"}]
["06","Supervisors: Crafts & Trades",0,0,null,0,{"$f":"G243","v":0},null,0,0,{"$f":"WorkforceAnalysis!H87","v":0},0,0,0,0,null,{"$f":"WorkforceAnalysis!I87/100","v":0},{"$f":"ResultsVisibleMinorities!I29","v":0},0,{"$error":"#DIV/0!"},{"$error":"#DIV/0!"}]
["07","Administrative & Sr Clerical",0,0,null,0,{"$f":"G244","v":0},null,0,0,{"$f":"WorkforceAnalysis!H88","v":0},0,0,0,0,null,{"$f":"WorkforceAnalysis!I88/100","v":0},{"$f":"ResultsVisibleMinorities!I68","v":0},0,{"$error":"#DIV/0!"},{"$error":"#DIV/0!"}]
["08","Skilled Sales & Service",0,0,null,0,{"$f":"G245","v":0},null,0,0,{"$f":"WorkforceAnalysis!H89","v":0},0,0,0,0,null,{"$f":"WorkforceAnalysis!I89/100","v":0},{"$f":"ResultsVisibleMinorities!I70","v":0},0,{"$error":"#DIV/0!"},{"$error":"#DIV/0!"}]
["09","Skilled Crafts & Trades",0,0,null,0,{"$f":"G246","v":0},null,0,0,{"$f":"WorkforceAnalysis!H90","v":0},0,0,0,0,null,{"$f":"WorkforceAnalysis!I90/100","v":0},{"$f":"ResultsVisibleMinorities!I72","v":0},0,{"$error":"#DIV/0!"},{"$error":"#DIV/0!"}]
["10","Clerical Personnel",0,0,null,0,{"$f":"G247","v":0},null,0,0,{"$f":"WorkforceAnalysis!H91","v":0},0,0,0,0,null,{"$f":"WorkforceAnalysis!I91/100","v":0},{"$f":"ResultsVisibleMinorities!I74","v":0},0,{"$error":"#DIV/0!"},{"$error":"#DIV/0!"}]
["11","Intermediate Sales & Service",0,0,null,0,{"$f":"G248","v":0},null,0,0,{"$f":"WorkforceAnalysis!H92","v":0},0,0,0,0,null,{"$f":"WorkforceAnalysis!I92/100","v":0},{"$f":"ResultsVisibleMinorities!I76","v":0},0,{"$error":"#DIV/0!"},{"$error":"#DIV/0!"}]
["12","Semi-Skilled Manual",0,0,null,0,{"$f":"G249","v":0},null,0,0,{"$f":"WorkforceAnalysis!H93","v":0},0,0,0,0,null,{"$f":"WorkforceAnalysis!I93/100","v":0},{"$f":"ResultsVisibleMinorities!I78","v":0},0,{"$error":"#DIV/0!"},{"$error":"#DIV/0!"}]
["13","Other Sales & Service",0,0,null,0,{"$f":"G250","v":0},null,0,0,{"$f":"WorkforceAnalysis!H94","v":0},0,0,0,0,null,{"$f":"WorkforceAnalysis!I94/100","v":0},{"$f":"ResultsVisibleMinorities!I117","v":0},0,{"$error":"#DIV/0!"},{"$error":"#DIV/0!"}]
["14","Other Manual Workers",0,0,null,0,{"$f":"G251","v":0},null,0,0,{"$f":"WorkforceAnalysis!H95","v":0},0,0,0,0,null,{"$f":"WorkforceAnalysis!I95/100","v":0},{"$f":"ResultsVisibleMinorities!I119","v":0},0,{"$error":"#DIV/0!"},{"$error":"#DIV/0!"}]
["Total",null,0,0,null,0,{"$f":"G252","v":0},null,0,0,{"$f":"WorkforceAnalysis!H96","v":0},0,0,0,0,null,{"$f":"WorkforceAnalysis!I96/100","v":0},{"$f":"ResultsVisibleMinorities!I121","v":0},0,{"$error":"#DIV/0!"},{"$error":"#DIV/0!"}]
["†","Calculated by using the following formula: ((Current number of employees from Workforce Analysis ÷ Previous number of employees from Workforce Analysis)1/3 - 1) x 100."]
["‡","Calculated by using the following formula: (Terminated full-time employees from Flow Data Analysis + Terminated part-time employees from Flow Data Analysis) ÷ ((Total number of employees from Previous Workforce Analysis + Total number of employees from Current Workforce Analysis) ÷ 2) x 100."]
[null,null,"Table 16: Members of Visible Minorities"]
["Employment Equity Occupational Group (EEOG)",null,"Members of Visible Minorities",null,null,null,"Comments"]
[null,null,"Short-term Goals",null,"Long-term Goals"]
[null,null,null,"%",null,"%"]
["01","Senior Managers",null,{"$f":"P398*100","v":0},null,0]
["02","Middle & Other Managers",null,{"$f":"P399*100","v":0},null,0]
["03","Professionals",null,0,null,0]
["04","Semi-Professionals & Tech",null,0,null,0]
["05","Supervisors",null,0,null,0]
["06","Supervisors: Crafts & Trades"," ",0,null,0]
["07","Administrative & Sr Clerical",null,0,null,0]
["08","Skilled Sales & Service",null,0,null,0]
["09","Skilled Crafts & Trades",null,0,null,0]
["10","Clerical Personnel",null,0,null,0]
["11","Intermediate Sales & Service",null,0,null,0]
["12","Semi-Skilled Manual",null,0,null,0]
["13","Other Sales & Service",null,0,null,0]
["14","Other Manual Workers",null,0,null,0]
["Total",null,null,0,null,0]

{"sheet":"ResultsWomen","index":3,"n_rows":138,"n_cols":25,"rows_kept":138,"cut":false,"hidden":false,"merged":[[134,0,135,0],[134,1,135,1],[136,0,137,1],[122,22,125,22],[122,23,125,23],[122,24,125,24],[127,0,131,1],[127,2,130,2],[127,3,127,5],[127,6,127,13],[128,3,128,5],[128,6,128,9],[128,10,128,13],[129,3,130,3],[129,4,129,5],[129,6,129,9],[129,10,129,13],[130,4,130,5],[122,15,125,15],[122,16,125,16],[122,17,125,17],[132,0,133,0],[132,1,133,1],[122,6,125,6],[122,7,125,7],[122,8,125,8],[122,9,125,9],[122,10,125,10],[122,11,125,11],[122,12,125,12],[117,0,118,0],[117,1,118,1],[122,0,125,1],[122,2,125,2],[122,3,125,3],[119,0,120,1],[122,4,125,4],[122,5,125,5],[122,13,125,13],[122,14,125,14],[105,11,108,11],[105,13,108,13],[105,14,108,14],[113,4,113,5],[113,6,113,7],[113,11,113,12],[110,10,110,24],[111,20,111,24],[105,8,108,8],[105,10,108,10],[105,24,108,24],[110,3,110,9],[111,3,111,9],[111,10,111,14],[111,15,111,19],[112,3,113,3],[112,4,112,9],[112,10,113,10],[112,11,112,14],[112,15,113,15],[112,16,112,19],[112,20,113,20],[115,0,116,0],[115,1,116,1],[105,2,108,2],[105,3,108,3],[105,4,108,4],[105,0,108,1],[95,0,96,0],[95,1,96,1],[105,6,108,6],[110,0,114,1],[110,2,113,2],[84,2,87,2],[84,3,84,5],[84,6,84,13],[85,3,85,5],[85,6,85,9],[79,4,82,4],[97,0,98,0],[97,1,98,1],[99,0,100,0],[99,1,100,1],[93,0,94,0],[93,1,94,1],[79,2,82,2],[79,3,82,3],[79,5,82,5],[79,6,82,6],[79,7,82,7],[79,8,82,8],[79,9,82,9],[79,10,82,10],[79,11,82,11],[61,10,61,24],[62,20,62,24],[56,23,59,23],[56,24,59,24],[85,10,85,13],[86,3,87,3],[86,4,86,5],[86,6,86,9],[86,10,86,13],[87,4,87,5],[79,13,82,13],[79,12,82,12],[56,14,59,14],[56,15,59,15],[56,16,59,16],[56,17,59,17],[56,18,59,18],[56,19,59,19],[56,20,59,20],[56,21,59,21],[56,22,59,22],[79,14,82,14],[79,15,82,15],[79,16,82,16],[79,17,82,17],[79,18,82,18],[79,19,82,19],[64,6,64,7],[64,11,64,12],[64,16,64,17],[63,10,64,10],[63,11,63,14],[63,15,64,15],[63,16,63,19],[61,0,65,1],[61,2,64,2],[61,3,61,9],[62,3,62,9],[62,10,62,14],[62,15,62,19],[63,3,64,3],[63,4,63,9],[46,14,47,24],[48,14,49,24],[50,14,51,24],[56,0,59,1],[56,2,59,2],[56,3,59,3],[56,4,59,4],[56,6,59,6],[56,8,59,8],[56,10,59,10],[56,11,59,11],[56,13,59,13],[63,20,64,20],[63,21,63,24],[64,4,64,5],[64,21,64,22],[21,0,22,0],[12,0,16,1],[14,4,14,9],[12,3,12,9],[13,3,13,9],[12,2,15,2],[14,3,15,3],[14,10,15,10],[14,15,15,15],[14,16,14,19],[14,21,14,24],[15,6,15,7],[15,4,15,5],[15,16,15,17],[40,14,41,24],[42,14,43,24],[38,4,38,5],[37,6,37,9],[37,10,37,13],[36,3,36,5],[35,0,39,1],[48,0,49,0],[48,1,49,1],[50,0,51,0],[50,1,51,1],[44,0,45,0],[44,1,45,1],[23,0,24,0],[23,1,24,1],[25,0,26,0],[25,1,26,1],[27,0,28,0],[27,1,28,1],[46,0,47,0],[46,1,47,1],[40,0,41,0],[40,1,41,1],[66,0,67,0],[66,1,67,1],[68,0,69,0],[68,1,69,1],[70,0,71,0],[70,1,71,1],[79,0,82,1],[91,0,92,0],[91,1,92,1],[72,0,73,0],[72,1,73,1],[74,0,75,0],[74,1,75,1],[76,0,77,0],[76,1,77,1],[89,0,90,0],[89,1,90,1],[84,0,88,1],[7,0,10,1],[7,10,10,10],[19,1,20,1],[19,0,20,0],[42,0,43,0],[42,1,43,1],[17,0,18,0],[17,1,18,1],[13,10,13,14],[30,14,33,14],[7,11,10,11],[7,13,10,13],[7,14,10,14],[7,2,10,2],[7,3,10,3],[21,1,22,1],[14,11,14,14],[35,2,38,2],[37,3,38,3],[15,11,15,12],[36,10,36,13],[35,3,35,5],[35,6,35,13],[37,4,37,5],[0,0,0,24],[1,0,1,24],[2,0,2,24],[3,0,3,24],[35,14,39,24],[12,10,12,24],[30,22,33,22],[30,23,33,23],[30,17,33,17],[30,18,33,18],[30,0,33,1],[30,2,33,2],[30,3,33,3],[30,4,33,4],[30,5,33,5],[30,6,33,6],[30,7,33,7],[30,8,33,8],[7,4,10,4],[7,23,10,23],[7,24,10,24],[30,10,33,10],[30,11,33,11],[30,15,33,15],[134,14,135,24],[136,14,137,24],[84,14,88,24],[127,14,131,24],[89,14,90,24],[91,14,92,24],[93,14,94,24],[95,14,96,24],[97,14,98,24],[99,14,100,24],[113,16,113,17],[113,21,113,22],[105,15,108,15],[105,16,108,16],[105,17,108,17],[105,18,108,18],[105,19,108,19],[105,20,108,20],[105,21,108,21],[105,22,108,22],[132,14,133,24],[79,22,82,22],[79,23,82,23],[79,24,82,24],[112,21,112,24],[105,23,108,23],[122,21,125,21],[122,18,125,18],[122,19,125,19],[122,20,125,20],[79,20,82,20],[79,21,82,21],[44,14,45,24],[7,6,10,6],[7,8,10,8],[30,19,33,19],[30,20,33,20],[30,21,33,21],[7,22,10,22],[13,20,13,24],[30,12,33,12],[30,13,33,13],[7,16,10,16],[7,17,10,17],[7,18,10,18],[7,20,10,20],[7,21,10,21],[30,24,33,24],[15,21,15,22],[13,15,13,19],[30,16,33,16],[7,19,10,19],[7,15,10,15],[30,9,33,9],[36,6,36,9],[14,20,15,20]]}
["Federal Contractors Program Achievement Report"]
["Part 4: Results - Women"]
[{"$f":"WorkforceAnalysis!A3:I3","v":"[Organization's Legal Name]"}]
[{"$f":"WorkforceAnalysis!A4:I4","v":"YYYY-MM-DD"}]
[]
["A","B","C","D","E","F","G","H","I","J","K","L","M","N","O","P","Q","R","S","T","U","V","W","X","Y"]
[]
["Data sources:",null,null,"Part 1: Workforce Analysis","Part 1: Workforce Analysis",null,"Part 1: Workforce Analysis",null,"E - H",null,"Part 2: Flow Data Analysis","Part 2: Flow Data Analysis",null,"K x G ÷ 100","L - N","Part 2: Flow Data Analysis","Part 2: Flow Data Analysis","Q ÷ P x 100 ","P x F ÷ 100","Q - S","Part 2: Flow Data Analysis","Part 2: Flow Data Analysis","V ÷ U x 100 ","U x F ÷ 100","V - X"]
[{"$nulls":5},"E ÷ D",null,"D x G",null,"E ÷ H",null,null,"L ÷ K"]
[{"$nulls":5},"x 100",null,"÷ 100",null,"x 100 ",null,null,"x 100 "]
[]
[null,null,null,"i","i","i","i","i","i","i","i","i","i","i","i","i","i","i","i","i","i","i","i","i","i"]
["Employment Equity Occupational Group (EEOG)",null,"Year","Workforce Analysis",{"$nulls":6},"Flow Data Analysis"]
[null,null,null,"Workforce",{"$nulls":6},"Hires",{"$nulls":4},"Promotions",{"$nulls":4},"Terminations"]
[null,null,null,"All Employees","Women",{"$nulls":5},"All Employees","Women",null,null,null,"All Employees","Women",null,null,null,"All Employees","Women"]
[{"$nulls":4},"Representation",null,"Availability",null,"Gap","EE Result",null,"Actual",null,"Expected","Difference",null,"Actual",null,"Expected","Difference",null,"Actual",null,"Expected","Difference"]
[null,null,"#","#","#","%","%","#","#","%","#","#","%","#","#","#","#","%","#","#","#","#","%","#","#"]
["01","Senior Managers",{"$f":"WorkforceAnalysis!C$11","v":0},{"$f":"WorkforceAnalysis!C18","v":0},{"$f":"WorkforceAnalysis!D18","v":0},{"$f":"IFERROR(E18/D18*100,0)","v":0},{"$f":"WorkforceAnalysis!E18","v":0},{"$f":"D18*G18/100","v":0},{"$f":"E18-H18","v":0},{"$f":"IFERROR(E18/H18*100,0)","v":0}]
[null,null,{"$f":"WorkforceAnalysis!G$11","v":0},{"$f":"WorkforceAnalysis!G18","v":0},{"$f":"WorkforceAnalysis!H18","v":0},{"$f":"IFERROR(E19/D19*100,0)","v":0},{"$f":"WorkforceAnalysis!I18","v":0},0,{"$f":"E19-H19","v":0},{"$f":"IFERROR(E19/H19*100,0)","v":0},{"$f":"FlowDataAnalysis!C16+FlowDataAnalysis!E16","v":0},{"$f":"FlowDataAnalysis!D16+FlowDataAnalysis!F16","v":0},{"$f":"IFERROR(L19/K19*100,0)","v":0},{"$f":"K19*G19/100","v":0},{"$f":"L19-N19","v":0},{"$f":"FlowDataAnalysis!H16+FlowDataAnalysis!J16","v":0},{"$f":"FlowDataAnalysis!I16+FlowDataAnalysis!K16","v":0},{"$f":"IFERROR(Q19/P19*100,0)","v":0},{"$f":"P19*$F$18/100","v":0},{"$f":"Q19-S19","v":0},{"$f":"FlowDataAnalysis!M16+FlowDataAnalysis!O16","v":0},{"$f":"FlowDataAnalysis!N16+FlowDataAnalysis!P16","v":0},{"$f":"IFERROR(V19/U19*100,0)","v":0},{"$f":"U19*$F$18/100","v":0},{"$f":"V19-X19","v":0}]
["02","Middle & Other Managers",{"$f":"WorkforceAnalysis!C$11","v":0},{"$f":"WorkforceAnalysis!C19","v":0},{"$f":"WorkforceAnalysis!D19","v":0},{"$f":"IFERROR(E20/D20*100,0)","v":0},{"$f":"WorkforceAnalysis!E19","v":0},0,{"$f":"E20-H20","v":0},0]
[null,null,{"$f":"WorkforceAnalysis!G$11","v":0},{"$f":"WorkforceAnalysis!G19","v":0},{"$f":"WorkforceAnalysis!H19","v":0},0,{"$f":"WorkforceAnalysis!I19","v":0},0,0,0,{"$f":"FlowDataAnalysis!C17+FlowDataAnalysis!E17","v":0},{"$f":"FlowDataAnalysis!D17+FlowDataAnalysis!F17","v":0},{"$f":"IFERROR(L21/K21*100,0)","v":0},{"$f":"K21*G21/100","v":0},{"$f":"L21-N21","v":0},{"$f":"FlowDataAnalysis!H17+FlowDataAnalysis!J17","v":0},{"$f":"FlowDataAnalysis!I17+FlowDataAnalysis!K17","v":0},{"$f":"IFERROR(Q21/P21*100,0)","v":0},{"$f":"P21*$F$20/100","v":0},{"$f":"Q21-S21","v":0},{"$f":"FlowDataAnalysis!M17+FlowDataAnalysis!O17","v":0},{"$f":"FlowDataAnalysis!N17+FlowDataAnalysis!P17","v":0},{"$f":"IFERROR(V21/U21*100,0)","v":0},{"$f":"U21*$F$20/100","v":0},{"$f":"V21-X21","v":0}]
["03","Professionals",{"$f":"WorkforceAnalysis!C$11","v":0},{"$f":"WorkforceAnalysis!C20","v":0},{"$f":"WorkforceAnalysis!D20","v":0},0,{"$f":"WorkforceAnalysis!E20","v":0},0,{"$f":"E22-H22","v":0},0]
[null,null,{"$f":"WorkforceAnalysis!G$11","v":0},{"$f":"WorkforceAnalysis!G20","v":0},{"$f":"WorkforceAnalysis!H20","v":0},0,{"$f":"WorkforceAnalysis!I20","v":0},0,0,0,{"$f":"FlowDataAnalysis!C18+FlowDataAnalysis!E18","v":0},{"$f":"FlowDataAnalysis!D18+FlowDataAnalysis!F18","v":0},{"$f":"IFERROR(L23/K23*100,0)","v":0},{"$f":"K23*G23/100","v":0},{"$f":"L23-N23","v":0},{"$f":"FlowDataAnalysis!H18+FlowDataAnalysis!J18","v":0},{"$f":"FlowDataAnalysis!I18+FlowDataAnalysis!K18","v":0},{"$f":"IFERROR(Q23/P23*100,0)","v":0},{"$f":"P23*$F$22/100","v":0},{"$f":"Q23-S23","v":0},{"$f":"FlowDataAnalysis!M18+FlowDataAnalysis!O18","v":0},{"$f":"FlowDataAnalysis!N18+FlowDataAnalysis!P18","v":0},{"$f":"IFERROR(V23/U23*100,0)","v":0},{"$f":"U23*$F$22/100","v":0},{"$f":"V23-X23","v":0}]
["04","Semi-Professionals & Technicians",{"$f":"WorkforceAnalysis!C$11","v":0},{"$f":"WorkforceAnalysis!C21","v":0},{"$f":"WorkforceAnalysis!D21","v":0},{"$f":"IFERROR(E24/D24*100,0)","v":0},{"$f":"WorkforceAnalysis!E21","v":0},{"$f":"D24*G24/100","v":0},{"$f":"E24-H24","v":0},{"$f":"IFERROR(E24/H24*100,0)","v":0}]
[null,null,{"$f":"WorkforceAnalysis!G$11","v":0},{"$f":"WorkforceAnalysis!G21","v":0},{"$f":"WorkforceAnalysis!H21","v":0},{"$f":"IFERROR(E25/D25*100,0)","v":0},{"$f":"WorkforceAnalysis!I21","v":0},{"$f":"D25*G25/100","v":0},{"$f":"E25-H25","v":0},{"$f":"IFERROR(E25/H25*100,0)","v":0},{"$f":"FlowDataAnalysis!C19+FlowDataAnalysis!E19","v":0},{"$f":"FlowDataAnalysis!D19+FlowDataAnalysis!F19","v":0},{"$f":"IFERROR(L25/K25*100,0)","v":0},{"$f":"K25*G25/100","v":0},{"$f":"L25-N25","v":0},{"$f":"FlowDataAnalysis!H19+FlowDataAnalysis!J19","v":0},{"$f":"FlowDataAnalysis!I19+FlowDataAnalysis!K19","v":0},{"$f":"IFERROR(Q25/P25*100,0)","v":0},{"$f":"P25*$F$24/100","v":0},{"$f":"Q25-S25","v":0},{"$f":"FlowDataAnalysis!M19+FlowDataAnalysis!O19","v":0},{"$f":"FlowDataAnalysis!N19+FlowDataAnalysis!P19","v":0},{"$f":"IFERROR(V25/U25*100,0)","v":0},{"$f":"U25*$F$24/100","v":0},{"$f":"V25-X25","v":0}]
["05","Supervisors",{"$f":"WorkforceAnalysis!C$11","v":0},{"$f":"WorkforceAnalysis!C22","v":0},{"$f":"WorkforceAnalysis!D22","v":0},{"$f":"IFERROR(E26/D26*100,0)","v":0},{"$f":"WorkforceAnalysis!E22","v":0},{"$f":"D26*G26/100","v":0},{"$f":"E26-H26","v":0},{"$f":"IFERROR(E26/H26*100,0)","v":0}]
[null,null,{"$f":"WorkforceAnalysis!G$11","v":0},{"$f":"WorkforceAnalysis!G22","v":0},{"$f":"WorkforceAnalysis!H22","v":0},{"$f":"IFERROR(E27/D27*100,0)","v":0},{"$f":"WorkforceAnalysis!I22","v":0},{"$f":"D27*G27/100","v":0},{"$f":"E27-H27","v":0},{"$f":"IFERROR(E27/H27*100,0)","v":0},{"$f":"FlowDataAnalysis!C20+FlowDataAnalysis!E20","v":0},{"$f":"FlowDataAnalysis!D20+FlowDataAnalysis!F20","v":0},{"$f":"IFERROR(L27/K27*100,0)","v":0},{"$f":"K27*G27/100","v":0},{"$f":"L27-N27","v":0},{"$f":"FlowDataAnalysis!H20+FlowDataAnalysis!J20","v":0},{"$f":"FlowDataAnalysis!I20+FlowDataAnalysis!K20","v":0},{"$f":"IFERROR(Q27/P27*100,0)","v":0},{"$f":"P27*$F$26/100","v":0},{"$f":"Q27-S27","v":0},{"$f":"FlowDataAnalysis!M20+FlowDataAnalysis!O20","v":0},{"$f":"FlowDataAnalysis!N20+FlowDataAnalysis!P20","v":0},{"$f":"IFERROR(V27/U27*100,0)","v":0},{"$f":"U27*$F$26/100","v":0},{"$f":"V27-X27","v":0}]
["06","Supervisors: Crafts & Trades",{"$f":"WorkforceAnalysis!C$11","v":0},{"$f":"WorkforceAnalysis!C23","v":0},{"$f":"WorkforceAnalysis!D23","v":0},{"$f":"IFERROR(E28/D28*100,0)","v":0},{"$f":"WorkforceAnalysis!E23","v":0},{"$f":"D28*G28/100","v":0},{"$f":"E28-H28","v":0},{"$f":"IFERROR(E28/H28*100,0)","v":0}]
[null,null,{"$f":"WorkforceAnalysis!G$11","v":0},{"$f":"WorkforceAnalysis!G23","v":0},{"$f":"WorkforceAnalysis!H23","v":0},0,{"$f":"WorkforceAnalysis!I23","v":0},0,{"$f":"E29-H29","v":0},0,{"$f":"FlowDataAnalysis!C21+FlowDataAnalysis!E21","v":0},{"$f":"FlowDataAnalysis!D21+FlowDataAnalysis!F21","v":0},{"$f":"IFERROR(L29/K29*100,0)","v":0},{"$f":"K29*G29/100","v":0},{"$f":"L29-N29","v":0},{"$f":"FlowDataAnalysis!H21+FlowDataAnalysis!J21","v":0},{"$f":"FlowDataAnalysis!I21+FlowDataAnalysis!K21","v":0},{"$f":"IFERROR(Q29/P29*100,0)","v":0},{"$f":"P29*$F$28/100","v":0},{"$f":"Q29-S29","v":0},{"$f":"FlowDataAnalysis!M21+FlowDataAnalysis!O21","v":0},{"$f":"FlowDataAnalysis!N21+FlowDataAnalysis!P21","v":0},{"$f":"IFERROR(V29/U29*100,0)","v":0},{"$f":"U29*$F$28/100","v":0},{"$f":"V29-X29","v":0}]
[]
["Data sources:",null,null,"Part 2: Flow Data Analysis","Part 2: Flow Data Analysis","E ÷ D x 100","Part 3: Goals","E ÷ G x 100","Part 3: Goals","F ÷ I x 100 ","Part 3: Goals","E ÷ K x 100","Part 3: Goals","F ÷ M x 100 "]
[]
[]
[]
[null,null,null,"i","i","i","i","i","i","i","i","i","i","i"]
["Employment Equity Occupational Group (EEOG)",null,"Year","New Entrants",null,null,"Goals",{"$nulls":7},"Comments"]
[null,null,null,"Flow Data",null,null,"Short-term Goals",null,null,null,"Long-term Goals"]
[null,null,null,"All Employees","Women",null,"Women",null,null,null,"Women"]
[{"$nulls":4},"Actual",null,"Goal","Percent of Goal Met","Goal","Percent of Goal Met","Goal","Percent of Goal Met","Goal","Percent of Goal Met"]
[null,null,"#","#","#","%","#","%","%","%","#","%","%","%"]
["01","Senior Managers",{"$f":"WorkforceAnalysis!G$11","v":0},{"$f":"K19+P19","v":0},{"$f":"L19+Q19","v":0},{"$f":"IFERROR(E41/D41*100,0)","v":0},{"$f":"Goals!C44","v":0},{"$f":"IFERROR(E41/G41*100,0)","v":0},{"$f":"Goals!D44","v":0},{"$f":"IFERROR(F41/I41*100,0)","v":0},{"$f":"Goals!E44","v":0},{"$f":"IFERROR(E41/K41*100,0)","v":0},{"$f":"Goals!F44","v":0},{"$f":"IFERROR(F41/M41*100,0)","v":0}]
[null,null,{"$f":"WorkforceAnalysis!G$11+3","v":3},{"$f":"D41","v":0},{"$f":"E41","v":0},{"$f":"IFERROR(E42/D42*100,0)","v":0},null,null,{"$f":"Goals!D259","v":0},{"$f":"IFERROR(F42/I42*100,0)","v":0},null,null,{"$f":"Goals!F259","v":0},{"$f":"IFERROR(F42/M42*100,0)","v":0}]
["02","Middle & Other Managers",{"$f":"WorkforceAnalysis!G$11","v":0},{"$f":"K21+P21","v":0},{"$f":"L21+Q21","v":0},0,{"$f":"Goals!C45","v":0},{"$f":"IFERROR(E43/G43*100,0)","v":0},{"$f":"Goals!D45","v":0},0,{"$f":"Goals!E45","v":0},{"$f":"IFERROR(E43/K43*100,0)","v":0},{"$f":"Goals!F45","v":0},0]
[null,null,{"$f":"WorkforceAnalysis!G$11+3","v":3},{"$f":"D43","v":0},{"$f":"E43","v":0},0,null,null,{"$f":"Goals!D260","v":0},0,null,null,{"$f":"Goals!F260","v":0},0]
["03","Professionals",{"$f":"WorkforceAnalysis!G$11","v":0},{"$f":"K23+P23","v":0},{"$f":"L23+Q23","v":0},0,{"$f":"Goals!C46","v":0},0,{"$f":"Goals!D46","v":0},0,{"$f":"Goals!E46","v":0},0,{"$f":"Goals!F46","v":0},0]
[null,null,{"$f":"WorkforceAnalysis!G$11+3","v":3},{"$f":"D45","v":0},{"$f":"E45","v":0},0,null,null,{"$f":"Goals!D261","v":0},0,null,null,{"$f":"Goals!F261","v":0},0]
["04","Semi-Professionals & Technicians",{"$f":"WorkforceAnalysis!G$11","v":0},{"$f":"K25+P25","v":0},{"$f":"L25+Q25","v":0},{"$f":"IFERROR(E47/D47*100,0)","v":0},{"$f":"Goals!C47","v":0},{"$f":"IFERROR(E47/G47*100,0)","v":0},{"$f":"Goals!D47","v":0},{"$f":"IFERROR(F47/I47*100,0)","v":0},{"$f":"Goals!E47","v":0},{"$f":"IFERROR(E47/K47*100,0)","v":0},{"$f":"Goals!F47","v":0},{"$f":"IFERROR(F47/M47*100,0)","v":0}]
[null,null,{"$f":"WorkforceAnalysis!G$11+3","v":3},{"$f":"D47","v":0},{"$f":"E47","v":0},{"$f":"IFERROR(E48/D48*100,0)","v":0},null,null,{"$f":"Goals!D262","v":0},{"$f":"IFERROR(F48/I48*100,0)","v":0},null,null,{"$f":"Goals!F262","v":0},{"$f":"IFERROR(F48/M48*100,0)","v":0}]
["05","Supervisors",{"$f":"WorkforceAnalysis!G$11","v":0},{"$f":"K27+P27","v":0},{"$f":"L27+Q27","v":0},{"$f":"IFERROR(E49/D49*100,0)","v":0},{"$f":"Goals!C48","v":0},{"$f":"IFERROR(E49/G49*100,0)","v":0},{"$f":"Goals!D48","v":0},{"$f":"IFERROR(F49/I49*100,0)","v":0},{"$f":"Goals!E48","v":0},{"$f":"IFERROR(E49/K49*100,0)","v":0},{"$f":"Goals!F48","v":0},{"$f":"IFERROR(F49/M49*100,0)","v":0}]
[null,null,{"$f":"WorkforceAnalysis!G$11+3","v":3},{"$f":"D49","v":0},{"$f":"E49","v":0},{"$f":"IFERROR(E50/D50*100,0)","v":0},null,null,{"$f":"Goals!D263","v":0},{"$f":"IFERROR(F50/I50*100,0)","v":0},null,null,{"$f":"Goals!F263","v":0},{"$f":"IFERROR(F50/M50*100,0)","v":0}]
["06","Supervisors: Crafts & Trades",{"$f":"WorkforceAnalysis!G$11","v":0},{"$f":"K29+P29","v":0},{"$f":"L29+Q29","v":0},{"$f":"IFERROR(E51/D51*100,0)","v":0},{"$f":"Goals!C49","v":0},{"$f":"IFERROR(E51/G51*100,0)","v":0},{"$f":"Goals!D49","v":0},{"$f":"IFERROR(F51/I51*100,0)","v":0},{"$f":"Goals!E49","v":0},{"$f":"IFERROR(E51/K51*100,0)","v":0},{"$f":"Goals!F49","v":0},{"$f":"IFERROR(F51/M51*100,0)","v":0}]
[null,null,{"$f":"WorkforceAnalysis!G$11+3","v":3},{"$f":"D51","v":0},{"$f":"E51","v":0},0,null,null,{"$f":"Goals!D264","v":0},0,null,null,{"$f":"Goals!F264","v":0},0]
[]
[]
["A","B","C","D","E","F","G","H","I","J","K","L","M","N","O","P","Q","R","S","T","U","V","W","X","Y"]
[]
["Data sources:",null,null,"Part 1: Workforce Analysis","Part 1: Workforce Analysis",null,"Part 1: Workforce Analysis",null,"E - H",null,"Part 2: Flow Data Analysis","Part 2: Flow Data Analysis",null,"K x G ÷ 100","L - N","Part 2: Flow Data Analysis","Part 2: Flow Data Analysis","Q ÷ P x 100 ","P x F ÷ 100","Q - S","Part 2: Flow Data Analysis","Part 2: Flow Data Analysis","V ÷ U x 100 ","U x F ÷ 100","V - X"]
[{"$nulls":5},"E ÷ D",null,"D x G",null,"E ÷ H",null,null,"L ÷ K"]
[{"$nulls":5},"x 100",null,"÷ 100",null,"x 100 ",null,null,"x 100 "]
[]
[null,null,null,"i","i","i","i","i","i","i","i","i","i","i","i","i","i","i","i","i","i","i","i","i","i"]
["Employment Equity Occupational Group (EEOG)",null,"Year","Workforce Analysis",{"$nulls":6},"Flow Data Analysis"]
[null,null,null,"Workforce",{"$nulls":6},"Hires",{"$nulls":4},"Promotions",{"$nulls":4},"Terminations"]
[null,null,null,"All Employees","Women",{"$nulls":5},"All Employees","Women",null,null,null,"All Employees","Women",null,null,null,"All Employees","Women"]
[{"$nulls":4},"Representation",null,"Availability",null,"Gap","EE Result",null,"Actual",null,"Expected","Difference",null,"Actual",null,"Expected","Difference",null,"Actual",null,"Expected","Difference"]
[null,null,"#","#","#","%","%","#","#","%","#","#","%","#","#","#","#","%","#","#","#","#","%","#","#"]
["07","Administrative & Senior Clerical",{"$f":"WorkforceAnalysis!C$11","v":0},{"$f":"WorkforceAnalysis!C24","v":0},{"$f":"WorkforceAnalysis!D24","v":0},{"$f":"IFERROR(E67/D67*100,0)","v":0},{"$f":"WorkforceAnalysis!E24","v":0},{"$f":"D67*G67/100","v":0},{"$f":"E67-H67","v":0},{"$f":"IFERROR(E67/H67*100,0)","v":0}]
[null,null,{"$f":"WorkforceAnalysis!G$11","v":0},{"$f":"WorkforceAnalysis!G24","v":0},{"$f":"WorkforceAnalysis!H24","v":0},{"$f":"IFERROR(E68/D68*100,0)","v":0},{"$f":"WorkforceAnalysis!I24","v":0},0,{"$f":"E68-H68","v":0},{"$f":"IFERROR(E68/H68*100,0)","v":0},{"$f":"FlowDataAnalysis!C22+FlowDataAnalysis!E22","v":0},{"$f":"FlowDataAnalysis!D22+FlowDataAnalysis!F22","v":0},{"$f":"IFERROR(L68/K68*100,0)","v":0},{"$f":"K68*G68/100","v":0},{"$f":"L68-N68","v":0},{"$f":"FlowDataAnalysis!H22+FlowDataAnalysis!J22","v":0},{"$f":"FlowDataAnalysis!I22+FlowDataAnalysis!K22","v":0},{"$f":"IFERROR(Q68/P68*100,0)","v":0},{"$f":"P68*$F$67/100","v":0},{"$f":"Q68-S68","v":0},{"$f":"FlowDataAnalysis!M22+FlowDataAnalysis!O22","v":0},{"$f":"FlowDataAnalysis!N22+FlowDataAnalysis!P22","v":0},{"$f":"IFERROR(V68/U68*100,0)","v":0},{"$f":"U68*$F$67/100","v":0},{"$f":"V68-X68","v":0}]
["08","Skilled Sales & Service Personnel ",{"$f":"WorkforceAnalysis!C$11","v":0},{"$f":"WorkforceAnalysis!C25","v":0},{"$f":"WorkforceAnalysis!D25","v":0},0,{"$f":"WorkforceAnalysis!E25","v":0},0,{"$f":"E69-H69","v":0},0]
[null,null,{"$f":"WorkforceAnalysis!G$11","v":0},{"$f":"WorkforceAnalysis!G25","v":0},{"$f":"WorkforceAnalysis!H25","v":0},0,{"$f":"WorkforceAnalysis!I25","v":0},0,{"$f":"E70-H70","v":0},0,{"$f":"FlowDataAnalysis!C23+FlowDataAnalysis!E23","v":0},{"$f":"FlowDataAnalysis!D23+FlowDataAnalysis!F23","v":0},{"$f":"IFERROR(L70/K70*100,0)","v":0},{"$f":"K70*G70/100","v":0},{"$f":"L70-N70","v":0},{"$f":"FlowDataAnalysis!H23+FlowDataAnalysis!J23","v":0},{"$f":"FlowDataAnalysis!I23+FlowDataAnalysis!K23","v":0},{"$f":"IFERROR(Q70/P70*100,0)","v":0},{"$f":"P70*$F$69/100","v":0},{"$f":"Q70-S70","v":0},{"$f":"FlowDataAnalysis!M23+FlowDataAnalysis!O23","v":0},{"$f":"FlowDataAnalysis!N23+FlowDataAnalysis!P23","v":0},{"$f":"IFERROR(V70/U70*100,0)","v":0},{"$f":"U70*$F$69/100","v":0},{"$f":"V70-X70","v":0}]
["09","Skilled Crafts & Trades Workers ",{"$f":"WorkforceAnalysis!C$11","v":0},{"$f":"WorkforceAnalysis!C26","v":0},{"$f":"WorkforceAnalysis!D26","v":0},0,{"$f":"WorkforceAnalysis!E26","v":0},0,{"$f":"E71-H71","v":0},0]
[null,null,{"$f":"WorkforceAnalysis!G$11","v":0},{"$f":"WorkforceAnalysis!G26","v":0},{"$f":"WorkforceAnalysis!H26","v":0},0,{"$f":"WorkforceAnalysis!I26","v":0},0,{"$f":"E72-H72","v":0},0,{"$f":"FlowDataAnalysis!C24+FlowDataAnalysis!E24","v":0},{"$f":"FlowDataAnalysis!D24+FlowDataAnalysis!F24","v":0},{"$f":"IFERROR(L72/K72*100,0)","v":0},{"$f":"K72*G72/100","v":0},{"$f":"L72-N72","v":0},{"$f":"FlowDataAnalysis!H24+FlowDataAnalysis!J24","v":0},{"$f":"FlowDataAnalysis!I24+FlowDataAnalysis!K24","v":0},{"$f":"IFERROR(Q72/P72*100,0)","v":0},{"$f":"P72*$F$71/100","v":0},{"$f":"Q72-S72","v":0},{"$f":"FlowDataAnalysis!M24+FlowDataAnalysis!O24","v":0},{"$f":"FlowDataAnalysis!N24+FlowDataAnalysis!P24","v":0},{"$f":"IFERROR(V72/U72*100,0)","v":0},{"$f":"U72*$F$71/100","v":0},{"$f":"V72-X72","v":0}]
[10,"Clerical Personnel",{"$f":"WorkforceAnalysis!C$11","v":0},{"$f":"WorkforceAnalysis!C27","v":0},{"$f":"WorkforceAnalysis!D27","v":0},{"$f":"IFERROR(E73/D73*100,0)","v":0},{"$f":"WorkforceAnalysis!E27","v":0},{"$f":"D73*G73/100","v":0},{"$f":"E73-H73","v":0},{"$f":"IFERROR(E73/H73*100,0)","v":0}]
[null,null,{"$f":"WorkforceAnalysis!G$11","v":0},{"$f":"WorkforceAnalysis!G27","v":0},{"$f":"WorkforceAnalysis!H27","v":0},{"$f":"IFERROR(E74/D74*100,0)","v":0},{"$f":"WorkforceAnalysis!I27","v":0},0,{"$f":"E74-H74","v":0},{"$f":"IFERROR(E74/H74*100,0)","v":0},{"$f":"FlowDataAnalysis!C25+FlowDataAnalysis!E25","v":0},{"$f":"FlowDataAnalysis!D25+FlowDataAnalysis!F25","v":0},{"$f":"IFERROR(L74/K74*100,0)","v":0},{"$f":"K74*G74/100","v":0},{"$f":"L74-N74","v":0},{"$f":"FlowDataAnalysis!H25+FlowDataAnalysis!J25","v":0},{"$f":"FlowDataAnalysis!I25+FlowDataAnalysis!K25","v":0},{"$f":"IFERROR(Q74/P74*100,0)","v":0},{"$f":"P74*$F$73/100","v":0},{"$f":"Q74-S74","v":0},{"$f":"FlowDataAnalysis!M25+FlowDataAnalysis!O25","v":0},{"$f":"FlowDataAnalysis!N25+FlowDataAnalysis!P25","v":0},{"$f":"IFERROR(V74/U74*100,0)","v":0},{"$f":"U74*$F$73/100","v":0},{"$f":"V74-X74","v":0}]
[11,"Intermediate Sales & Service Personnel",{"$f":"WorkforceAnalysis!C$11","v":0},{"$f":"WorkforceAnalysis!C28","v":0},{"$f":"WorkforceAnalysis!D28","v":0},0,{"$f":"WorkforceAnalysis!E28","v":0},0,{"$f":"E75-H75","v":0},0]
[null,null,{"$f":"WorkforceAnalysis!G$11","v":0},{"$f":"WorkforceAnalysis!G28","v":0},{"$f":"WorkforceAnalysis!H28","v":0},0,{"$f":"WorkforceAnalysis!I28","v":0},0,{"$f":"E76-H76","v":0},0,{"$f":"FlowDataAnalysis!C26+FlowDataAnalysis!E26","v":0},{"$f":"FlowDataAnalysis!D26+FlowDataAnalysis!F26","v":0},{"$f":"IFERROR(L76/K76*100,0)","v":0},{"$f":"K76*G76/100","v":0},{"$f":"L76-N76","v":0},{"$f":"FlowDataAnalysis!H26+FlowDataAnalysis!J26","v":0},{"$f":"FlowDataAnalysis!I26+FlowDataAnalysis!K26","v":0},{"$f":"IFERROR(Q76/P76*100,0)","v":0},{"$f":"P76*$F$75/100","v":0},{"$f":"Q76-S76","v":0},{"$f":"FlowDataAnalysis!M26+FlowDataAnalysis!O26","v":0},{"$f":"FlowDataAnalysis!N26+FlowDataAnalysis!P26","v":0},{"$f":"IFERROR(V76/U76*100,0)","v":0},{"$f":"U76*$F$75/100","v":0},{"$f":"V76-X76","v":0}]
[12,"Semi-Skilled Manual Workers",{"$f":"WorkforceAnalysis!C$11","v":0},{"$f":"WorkforceAnalysis!C29","v":0},{"$f":"WorkforceAnalysis!D29","v":0},0,{"$f":"WorkforceAnalysis!E29","v":0},0,{"$f":"E77-H77","v":0},0]
[null,null,{"$f":"WorkforceAnalysis!G$11","v":0},{"$f":"WorkforceAnalysis!G29","v":0},{"$f":"WorkforceAnalysis!H29","v":0},0,{"$f":"WorkforceAnalysis!I29","v":0},0,{"$f":"E78-H78","v":0},0,{"$f":"FlowDataAnalysis!C27+FlowDataAnalysis!E27","v":0},{"$f":"FlowDataAnalysis!D27+FlowDataAnalysis!F27","v":0},{"$f":"IFERROR(L78/K78*100,0)","v":0},{"$f":"K78*G78/100","v":0},{"$f":"L78-N78","v":0},{"$f":"FlowDataAnalysis!H27+FlowDataAnalysis!J27","v":0},{"$f":"FlowDataAnalysis!I27+FlowDataAnalysis!K27","v":0},{"$f":"IFERROR(Q78/P78*100,0)","v":0},{"$f":"P78*$F$77/100","v":0},{"$f":"Q78-S78","v":0},{"$f":"FlowDataAnalysis!M27+FlowDataAnalysis!O27","v":0},{"$f":"FlowDataAnalysis!N27+FlowDataAnalysis!P27","v":0},{"$f":"IFERROR(V78/U78*100,0)","v":0},{"$f":"U78*$F$77/100","v":0},{"$f":"V78-X78","v":0}]
[]
["Data sources:",null,null,"Part 2: Flow Data Analysis","Part 2: Flow Data Analysis","E ÷ D x 100","Part 3: Goals","E ÷ G x 100","Part 3: Goals","F ÷ I x 100 ","Part 3: Goals","E ÷ K x 100","Part 3: Goals","F ÷ M x 100 "]
[]
[]
[]
[null,null,null,"i","i","i","i","i","i","i","i","i","i","i"]
["Employment Equity Occupational Group (EEOG)",null,"Year","New Entrants",null,null,"Goals",{"$nulls":7},"Comments"]
[null,null,null,"Flow Data",null,null,"Short-term Goals",null,null,null,"Long-term Goals"]
[null,null,null,"All Employees","Women",null,"Women",null,null,null,"Women"]
[{"$nulls":4},"Actual",null,"Goal","Percent of Goal Met","Goal","Percent of Goal Met","Goal","Percent of Goal Met","Goal","Percent of Goal Met"]
[null,null,"#","#","#","%","#","%","%","%","#","%","%","%"]
["07","Administrative & Senior Clerical",{"$f":"WorkforceAnalysis!G$11","v":0},{"$f":"K68+P68","v":0},{"$f":"L68+Q68","v":0},{"$f":"IFERROR(E90/D90*100,0)","v":0},{"$f":"Goals!C50","v":0},{"$f":"IFERROR(E90/G90*100,0)","v":0},{"$f":"Goals!D50","v":0},{"$f":"IFERROR(F90/I90*100,0)","v":0},{"$f":"Goals!E50","v":0},{"$f":"IFERROR(E90/K90*100,0)","v":0},{"$f":"Goals!F50","v":0},{"$f":"IFERROR(F90/M90*100,0)","v":0}]
[null,null,{"$f":"WorkforceAnalysis!G$11+3","v":3},{"$f":"D90","v":0},{"$f":"E90","v":0},{"$f":"IFERROR(E91/D91*100,0)","v":0},null,null,{"$f":"Goals!D265","v":0},{"$f":"IFERROR(F91/I91*100,0)","v":0},null,null,{"$f":"Goals!F265","v":0},{"$f":"IFERROR(F91/M91*100,0)","v":0}]
["08","Skilled Sales & Service Personnel ",{"$f":"WorkforceAnalysis!G$11","v":0},{"$f":"K70+P70","v":0},{"$f":"L70+Q70","v":0},0,{"$f":"Goals!C51","v":0},{"$f":"IFERROR(E92/G92*100,0)","v":0},{"$f":"Goals!D51","v":0},0,{"$f":"Goals!E51","v":0},{"$f":"IFERROR(E92/K92*100,0)","v":0},{"$f":"Goals!F51","v":0},0]
[null,null,{"$f":"WorkforceAnalysis!G$11+3","v":3},{"$f":"D92","v":0},{"$f":"E92","v":0},0,null,null,{"$f":"Goals!D266","v":0},0,null,null,{"$f":"Goals!F266","v":0},0]
["09","Skilled Crafts & Trades Workers ",{"$f":"WorkforceAnalysis!G$11","v":0},{"$f":"K72+P72","v":0},{"$f":"L72+Q72","v":0},0,{"$f":"Goals!C52","v":0},0,{"$f":"Goals!D52","v":0},0,{"$f":"Goals!E52","v":0},0,{"$f":"Goals!F52","v":0},0]
[null,null,{"$f":"WorkforceAnalysis!G$11+3","v":3},{"$f":"D94","v":0},{"$f":"E94","v":0},0,null,null,{"$f":"Goals!D267","v":0},0,null,null,{"$f":"Goals!F267","v":0},0]
[10,"Clerical Personnel",{"$f":"WorkforceAnalysis!G$11","v":0},{"$f":"K74+P74","v":0},{"$f":"L74+Q74","v":0},{"$f":"IFERROR(E96/D96*100,0)","v":0},{"$f":"Goals!C53","v":0},{"$f":"IFERROR(E96/G96*100,0)","v":0},{"$f":"Goals!D53","v":0},{"$f":"IFERROR(F96/I96*100,0)","v":0},{"$f":"Goals!E53","v":0},{"$f":"IFERROR(E96/K96*100,0)","v":0},{"$f":"Goals!F53","v":0},{"$f":"IFERROR(F96/M96*100,0)","v":0}]
[null,null,{"$f":"WorkforceAnalysis!G$11+3","v":3},{"$f":"D96","v":0},{"$f":"E96","v":0},{"$f":"IFERROR(E97/D97*100,0)","v":0},null,null,{"$f":"Goals!D268","v":0},{"$f":"IFERROR(F97/I97*100,0)","v":0},null,null,{"$f":"Goals!F268","v":0},{"$f":"IFERROR(F97/M97*100,0)","v":0}]
[11,"Intermediate Sales & Service Personnel",{"$f":"WorkforceAnalysis!G$11","v":0},{"$f":"K76+P76","v":0},{"$f":"L76+Q76","v":0},0,{"$f":"Goals!C54","v":0},{"$f":"IFERROR(E98/G98*100,0)","v":0},{"$f":"Goals!D54","v":0},0,{"$f":"Goals!E54","v":0},{"$f":"IFERROR(E98/K98*100,0)","v":0},{"$f":"Goals!F54","v":0},0]
[null,null,{"$f":"WorkforceAnalysis!G$11+3","v":3},{"$f":"D98","v":0},{"$f":"E98","v":0},0,null,null,{"$f":"Goals!D269","v":0},0,null,null,{"$f":"Goals!F269","v":0},0]
[12,"Semi-Skilled Manual Workers",{"$f":"WorkforceAnalysis!G$11","v":0},{"$f":"K78+P78","v":0},{"$f":"L78+Q78","v":0},0,{"$f":"Goals!C55","v":0},0,{"$f":"Goals!D55","v":0},0,{"$f":"Goals!E55","v":0},0,{"$f":"Goals!F55","v":0},0]
[null,null,{"$f":"WorkforceAnalysis!G$11+3","v":3},{"$f":"D100","v":0},{"$f":"E100","v":0},0,null,null,{"$f":"Goals!D270","v":0},0,null,null,{"$f":"Goals!F270","v":0},0]
[]
[]
["A","B","C","D","E","F","G","H","I","J","K","L","M","N","O","P","Q","R","S","T","U","V","W","X","Y"]
[]
["Data sources:",null,null,"Part 1: Workforce Analysis","Part 1: Workforce Analysis",null,"Part 1: Workforce Analysis",null,"E - H",null,"Part 2: Flow Data Analysis","Part 2: Flow Data Analysis",null,"K x G ÷ 100","L - N","Part 2: Flow Data Analysis","Part 2: Flow Data Analysis","Q ÷ P x 100 ","P x F ÷ 100","Q - S","Part 2: Flow Data Analysis","Part 2: Flow Data Analysis","V ÷ U x 100 ","U x F ÷ 100","V - X"]
[{"$nulls":5},"E ÷ D",null,"D x G",null,"E ÷ H",null,null,"L ÷ K"]
[{"$nulls":5},"x 100",null,"÷ 100",null,"x 100 ",null,null,"x 100 "]
[]
[null,null,null,"i","i","i","i","i","i","i","i","i","i","i","i","i","i","i","i","i","i","i","i","i","i"]
["Employment Equity Occupational Group (EEOG)",null,"Year","Workforce Analysis",{"$nulls":6},"Flow Data Analysis"]
[null,null,null,"Workforce",{"$nulls":6},"Hires",{"$nulls":4},"Promotions",{"$nulls":4},"Terminations"]
[null,null,null,"All Employees","Women",{"$nulls":5},"All Employees","Women",null,null,null,"All Employees","Women",null,null,null,"All Employees","Women"]
[{"$nulls":4},"Representation",null,"Availability",null,"Gap","EE Result",null,"Actual",null,"Expected","Difference",null,"Actual",null,"Expected","Difference",null,"Actual",null,"Expected","Difference"]
[null,null,"#","#","#","%","%","#","#","%","#","#","%","#","#","#","#","%","#","#","#","#","%","#","#"]
[13,"Other Sales & Service Personnel ",{"$f":"WorkforceAnalysis!C$11","v":0},{"$f":"WorkforceAnalysis!C30","v":0},{"$f":"WorkforceAnalysis!D30","v":0},{"$f":"IFERROR(E116/D116*100,0)","v":0},{"$f":"WorkforceAnalysis!E30","v":0},{"$f":"D116*G116/100","v":0},{"$f":"E116-H116","v":0},{"$f":"IFERROR(E116/H116*100,0)","v":0}]
[null,null,{"$f":"WorkforceAnalysis!G$11","v":0},{"$f":"WorkforceAnalysis!G30","v":0},{"$f":"WorkforceAnalysis!H30","v":0},{"$f":"IFERROR(E117/D117*100,0)","v":0},{"$f":"WorkforceAnalysis!I30","v":0},0,{"$f":"E117-H117","v":0},{"$f":"IFERROR(E117/H117*100,0)","v":0},{"$f":"FlowDataAnalysis!C28+FlowDataAnalysis!E28","v":0},{"$f":"FlowDataAnalysis!D28+FlowDataAnalysis!F28","v":0},{"$f":"IFERROR(L117/K117*100,0)","v":0},{"$f":"K117*G117/100","v":0},{"$f":"L117-N117","v":0},{"$f":"FlowDataAnalysis!H28+FlowDataAnalysis!J28","v":0},{"$f":"FlowDataAnalysis!I28+FlowDataAnalysis!K28","v":0},{"$f":"IFERROR(Q117/P117*100,0)","v":0},{"$f":"P117*$F$116/100","v":0},{"$f":"Q117-S117","v":0},{"$f":"FlowDataAnalysis!M28+FlowDataAnalysis!O28","v":0},{"$f":"FlowDataAnalysis!N28+FlowDataAnalysis!P28","v":0},{"$f":"IFERROR(V117/U117*100,0)","v":0},{"$f":"U117*$F$116/100","v":0},{"$f":"V117-X117","v":0}]
[14,"Other Manual Workers",{"$f":"WorkforceAnalysis!C$11","v":0},{"$f":"WorkforceAnalysis!C31","v":0},{"$f":"WorkforceAnalysis!D31","v":0},0,{"$f":"WorkforceAnalysis!E31","v":0},0,{"$f":"E118-H118","v":0},0]
[null,null,{"$f":"WorkforceAnalysis!G$11","v":0},{"$f":"WorkforceAnalysis!G31","v":0},{"$f":"WorkforceAnalysis!H31","v":0},0,{"$f":"WorkforceAnalysis!I31","v":0},0,{"$f":"E119-H119","v":0},0,{"$f":"FlowDataAnalysis!C29+FlowDataAnalysis!E29","v":0},{"$f":"FlowDataAnalysis!D29+FlowDataAnalysis!F29","v":0},{"$f":"IFERROR(L119/K119*100,0)","v":0},{"$f":"K119*G119/100","v":0},{"$f":"L119-N119","v":0},{"$f":"FlowDataAnalysis!H29+FlowDataAnalysis!J29","v":0},{"$f":"FlowDataAnalysis!I29+FlowDataAnalysis!K29","v":0},{"$f":"IFERROR(Q119/P119*100,0)","v":0},{"$f":"P119*$F$118/100","v":0},{"$f":"Q119-S119","v":0},{"$f":"FlowDataAnalysis!M29+FlowDataAnalysis!O29","v":0},{"$f":"FlowDataAnalysis!N29+FlowDataAnalysis!P29","v":0},{"$f":"IFERROR(V119/U119*100,0)","v":0},{"$f":"U119*$F$118/100","v":0},{"$f":"V119-X119","v":0}]
["Total",null,{"$f":"WorkforceAnalysis!C$11","v":0},{"$f":"WorkforceAnalysis!C32","v":0},{"$f":"WorkforceAnalysis!D32","v":0},0,{"$f":"WorkforceAnalysis!E32","v":0},0,{"$f":"E120-H120","v":0},0]
[null,null,{"$f":"WorkforceAnalysis!G$11","v":0},{"$f":"WorkforceAnalysis!G32","v":0},{"$f":"WorkforceAnalysis!H32","v":0},0,{"$f":"WorkforceAnalysis!I32","v":0},0,{"$f":"E121-H121","v":0},0,{"$f":"FlowDataAnalysis!C30+FlowDataAnalysis!E30","v":0},{"$f":"FlowDataAnalysis!D30+FlowDataAnalysis!F30","v":0},{"$f":"IFERROR(L121/K121*100,0)","v":0},{"$f":"K121*G121/100","v":0},{"$f":"L121-N121","v":0},{"$f":"FlowDataAnalysis!H30+FlowDataAnalysis!J30","v":0},{"$f":"FlowDataAnalysis!I30+FlowDataAnalysis!K30","v":0},{"$f":"IFERROR(Q121/P121*100,0)","v":0},{"$f":"P121*$F$120/100","v":0},{"$f":"Q121-S121","v":0},{"$f":"FlowDataAnalysis!M30+FlowDataAnalysis!O30","v":0},{"$f":"FlowDataAnalysis!N30+FlowDataAnalysis!P30","v":0},{"$f":"IFERROR(V121/U121*100,0)","v":0},{"$f":"U121*$F$120/100","v":0},{"$f":"V121-X121","v":0}]
[]
["Data sources:",null,null,"Part 2: Flow Data Analysis","Part 2: Flow Data Analysis","E ÷ D x 100","Part 3: Goals","E ÷ G x 100","Part 3: Goals","F ÷ I x 100 ","Part 3: Goals","E ÷ K x 100","Part 3: Goals","F ÷ M x 100 "]
[]
[]
[]
[null,null,null,"i","i","i","i","i","i","i","i","i","i","i"]
["Employment Equity Occupational Group (EEOG)",null,"Year","New Entrants",null,null,"Goals",{"$nulls":7},"Comments"]
[null,null,null,"Flow Data",null,null,"Short-term Goals",null,null,null,"Long-term Goals"]
[null,null,null,"All Employees","Women",null,"Women",null,null,null,"Women"]
[{"$nulls":4},"Actual",null,"Goal","Percent of Goal Met","Goal","Percent of Goal Met","Goal","Percent of Goal Met","Goal","Percent of Goal Met"]
[null,null,"#","#","#","%","#","%","%","%","#","%","%","%"]
[13,"Other Sales & Service Personnel ",{"$f":"WorkforceAnalysis!G$11","v":0},{"$f":"K117+P117","v":0},{"$f":"L117+Q117","v":0},{"$f":"IFERROR(E133/D133*100,0)","v":0},{"$f":"Goals!C56","v":0},{"$f":"IFERROR(E133/G133*100,0)","v":0},{"$f":"Goals!D56","v":0},{"$f":"IFERROR(F133/I133*100,0)","v":0},{"$f":"Goals!E56","v":0},{"$f":"IFERROR(E133/K133*100,0)","v":0},{"$f":"Goals!F56","v":0},{"$f":"IFERROR(F133/M133*100,0)","v":0}]
[null,null,{"$f":"WorkforceAnalysis!G$11+3","v":3},{"$f":"D133","v":0},{"$f":"E133","v":0},{"$f":"IFERROR(E134/D134*100,0)","v":0},null,null,{"$f":"Goals!D271","v":0},{"$f":"IFERROR(F134/I134*100,0)","v":0},null,null,{"$f":"Goals!F271","v":0},{"$f":"IFERROR(F134/M134*100,0)","v":0}]
[14,"Other Manual Workers",{"$f":"WorkforceAnalysis!G$11","v":0},{"$f":"K119+P119","v":0},{"$f":"L119+Q119","v":0},0,{"$f":"Goals!C57","v":0},{"$f":"IFERROR(E135/G135*100,0)","v":0},{"$f":"Goals!D57","v":0},0,{"$f":"Goals!E57","v":0},{"$f":"IFERROR(E135/K135*100,0)","v":0},{"$f":"Goals!F57","v":0},0]
[null,null,{"$f":"WorkforceAnalysis!G$11+3","v":3},{"$f":"D135","v":0},{"$f":"E135","v":0},0,null,null,{"$f":"Goals!D272","v":0},0,null,null,{"$f":"Goals!F272","v":0},0]
["Total",null,{"$f":"WorkforceAnalysis!G$11","v":0},{"$f":"K121+P121","v":0},{"$f":"L121+Q121","v":0},0,{"$f":"Goals!C58","v":0},0,{"$f":"Goals!D58","v":0},0,{"$f":"Goals!E58","v":0},0,{"$f":"Goals!F58","v":0},0]
[null,null,{"$f":"WorkforceAnalysis!G$11+3","v":3},{"$f":"D137","v":0},{"$f":"E137","v":0},0,null,null,{"$f":"Goals!D273","v":0},0,null,null,{"$f":"Goals!F273","v":0},0]

{"sheet":"ResultsAboriginalPeoples","index":4,"n_rows":138,"n_cols":25,"rows_kept":138,"cut":false,"hidden":false,"merged":[[132,14,133,24],[134,14,135,24],[136,14,137,24],[136,0,137,1],[132,0,133,0],[132,1,133,1],[134,0,135,0],[134,1,135,1],[128,3,128,5],[128,6,128,9],[128,10,128,13],[129,3,130,3],[129,4,129,5],[129,6,129,9],[129,10,129,13],[130,4,130,5],[122,20,125,20],[122,21,125,21],[122,22,125,22],[122,23,125,23],[122,24,125,24],[127,0,131,1],[127,2,130,2],[127,3,127,5],[127,6,127,13],[122,14,125,14],[122,15,125,15],[122,16,125,16],[122,17,125,17],[122,18,125,18],[122,19,125,19],[122,8,125,8],[122,9,125,9],[122,10,125,10],[122,11,125,11],[122,12,125,12],[122,13,125,13],[122,2,125,2],[122,3,125,3],[127,14,131,24],[122,4,125,4],[122,5,125,5],[122,6,125,6],[122,7,125,7],[115,0,116,0],[115,1,116,1],[117,0,118,0],[117,1,118,1],[119,0,120,1],[122,0,125,1],[112,20,113,20],[112,21,112,24],[113,4,113,5],[113,6,113,7],[113,11,113,12],[113,16,113,17],[113,21,113,22],[112,3,113,3],[112,4,112,9],[112,10,113,10],[112,11,112,14],[112,15,113,15],[112,16,112,19],[105,21,108,21],[105,22,108,22],[105,10,108,10],[105,11,108,11],[105,13,108,13],[105,14,108,14],[105,15,108,15],[105,16,108,16],[105,0,108,1],[105,2,108,2],[110,0,114,1],[110,2,113,2],[110,3,110,9],[111,3,111,9],[111,10,111,14],[111,15,111,19],[105,17,108,17],[105,18,108,18],[105,19,108,19],[95,0,96,0],[95,1,96,1],[105,3,108,3],[105,4,108,4],[105,6,108,6],[105,8,108,8],[97,0,98,0],[97,1,98,1],[99,0,100,0],[99,1,100,1],[91,0,92,0],[91,1,92,1],[93,0,94,0],[93,1,94,1],[72,0,73,0],[72,1,73,1],[74,0,75,0],[74,1,75,1],[76,0,77,0],[76,1,77,1],[86,6,86,9],[86,10,86,13],[87,4,87,5],[89,0,90,0],[89,1,90,1],[84,0,88,1],[84,2,87,2],[84,3,84,5],[84,6,84,13],[85,3,85,5],[85,6,85,9],[85,10,85,13],[86,3,87,3],[86,4,86,5],[79,7,82,7],[79,8,82,8],[79,9,82,9],[79,10,82,10],[79,11,82,11],[79,12,82,12],[79,0,82,1],[79,2,82,2],[79,3,82,3],[79,4,82,4],[79,5,82,5],[79,6,82,6],[56,16,59,16],[66,0,67,0],[66,1,67,1],[68,0,69,0],[68,1,69,1],[70,0,71,0],[70,1,71,1],[63,20,64,20],[63,21,63,24],[64,4,64,5],[64,6,64,7],[64,11,64,12],[64,16,64,17],[64,21,64,22],[63,3,64,3],[63,4,63,9],[63,10,64,10],[63,11,63,14],[63,15,64,15],[63,16,63,19],[61,0,65,1],[61,2,64,2],[61,3,61,9],[62,3,62,9],[56,2,59,2],[56,3,59,3],[56,4,59,4],[56,6,59,6],[56,8,59,8],[48,0,49,0],[48,1,49,1],[50,0,51,0],[50,1,51,1],[23,0,24,0],[23,1,24,1],[25,0,26,0],[25,1,26,1],[27,0,28,0],[27,1,28,1],[46,0,47,0],[46,1,47,1],[56,0,59,1],[42,0,43,0],[42,1,43,1],[44,0,45,0],[44,1,45,1],[37,6,37,9],[37,10,37,13],[38,4,38,5],[40,0,41,0],[40,1,41,1],[35,0,39,1],[35,2,38,2],[35,3,35,5],[35,6,35,13],[36,3,36,5],[36,6,36,9],[36,10,36,13],[37,3,38,3],[37,4,37,5],[30,19,33,19],[30,20,33,20],[30,21,33,21],[30,22,33,22],[30,23,33,23],[30,24,33,24],[30,13,33,13],[30,14,33,14],[30,15,33,15],[30,16,33,16],[30,17,33,17],[30,18,33,18],[30,7,33,7],[30,8,33,8],[30,9,33,9],[30,10,33,10],[30,11,33,11],[30,12,33,12],[30,0,33,1],[30,2,33,2],[30,3,33,3],[30,4,33,4],[30,5,33,5],[30,6,33,6],[14,20,15,20],[14,21,14,24],[15,4,15,5],[15,6,15,7],[15,11,15,12],[15,16,15,17],[15,21,15,22],[14,3,15,3],[14,4,14,9],[14,10,15,10],[14,11,14,14],[14,15,15,15],[14,16,14,19],[7,13,10,13],[7,14,10,14],[7,15,10,15],[7,16,10,16],[17,0,18,0],[17,1,18,1],[19,0,20,0],[19,1,20,1],[21,0,22,0],[21,1,22,1],[12,0,16,1],[12,2,15,2],[12,3,12,9],[13,3,13,9],[0,0,0,24],[1,0,1,24],[2,0,2,24],[3,0,3,24],[12,10,12,24],[13,20,13,24],[7,0,10,1],[7,2,10,2],[7,3,10,3],[7,4,10,4],[7,6,10,6],[7,8,10,8],[7,23,10,23],[7,24,10,24],[13,10,13,14],[13,15,13,19],[7,17,10,17],[7,18,10,18],[7,19,10,19],[7,20,10,20],[7,21,10,21],[7,22,10,22],[7,10,10,10],[7,11,10,11],[35,14,39,24],[40,14,41,24],[42,14,43,24],[44,14,45,24],[46,14,47,24],[48,14,49,24],[50,14,51,24],[84,14,88,24],[89,14,90,24],[56,23,59,23],[56,24,59,24],[62,10,62,14],[62,15,62,19],[56,17,59,17],[56,18,59,18],[56,19,59,19],[56,20,59,20],[56,21,59,21],[56,22,59,22],[56,10,59,10],[56,11,59,11],[56,13,59,13],[56,14,59,14],[56,15,59,15],[91,14,92,24],[93,14,94,24],[95,14,96,24],[97,14,98,24],[99,14,100,24],[110,10,110,24],[111,20,111,24],[61,10,61,24],[62,20,62,24],[79,19,82,19],[79,20,82,20],[79,21,82,21],[79,22,82,22],[79,23,82,23],[79,24,82,24],[79,13,82,13],[79,14,82,14],[79,15,82,15],[79,16,82,16],[79,17,82,17],[79,18,82,18],[105,23,108,23],[105,24,108,24],[105,20,108,20]]}
["Federal Contractors Program Achievement Report"]
["Part 5: Results - Aboriginal Peoples"]
[{"$f":"WorkforceAnalysis!A3:I3","v":"[Organization's Legal Name]"}]
[{"$f":"WorkforceAnalysis!A4:I4","v":"YYYY-MM-DD"}]
[]
["A","B","C","D","E","F","G","H","I","J","K","L","M","N","O","P","Q","R","S","T","U","V","W","X","Y"]
[]
["Data sources:",null,null,"Part 1: Workforce Analysis","Part 1: Workforce Analysis",null,"Part 1: Workforce Analysis",null,"E - H",null,"Part 2: Flow Data Analysis","Part 2: Flow Data Analysis",null,"K x G ÷ 100","L - N","Part 2: Flow Data Analysis","Part 2: Flow Data Analysis","Q ÷ P x 100 ","P x F ÷ 100","Q - S","Part 2: Flow Data Analysis","Part 2: Flow Data Analysis","V ÷ U x 100 ","U x F ÷ 100","V - X"]
[{"$nulls":5},"E ÷ D",null,"D x G",null,"E ÷ H",null,null,"L ÷ K"]
[{"$nulls":5},"x 100",null,"÷ 100",null,"x 100 ",null,null,"x 100 "]
[]
[null,null,null,"i","i","i","i","i","i","i","i","i","i","i","i","i","i","i","i","i","i","i","i","i","i"]
["Employment Equity Occupational Group (EEOG)",null,"Year","Workforce Analysis",{"$nulls":6},"Flow Data Analysis"]
[null,null,null,"Workforce",{"$nulls":6},"Hires",{"$nulls":4},"Promotions",{"$nulls":4},"Terminations"]
[null,null,null,"All Employees","Aboriginal Peoples",{"$nulls":5},"All Employees","Aboriginal Peoples",null,null,null,"All Employees","Aboriginal Peoples",null,null,null,"All Employees","Aboriginal Peoples"]
[{"$nulls":4},"Representation",null,"Availability",null,"Gap","EE Result",null,"Actual",null,"Expected","Difference",null,"Actual",null,"Expected","Difference",null,"Actual",null,"Expected","Difference"]
[null,null,"#","#","#","%","%","#","#","%","#","#","%","#","#","#","#","%","#","#","#","#","%","#","#"]
["01","Senior Managers",{"$f":"WorkforceAnalysis!C$11","v":0},{"$f":"WorkforceAnalysis!C18","v":0},{"$f":"WorkforceAnalysis!D50","v":0},{"$f":"IFERROR(E18/D18*100,0)","v":0},{"$f":"WorkforceAnalysis!E50","v":0},{"$f":"D18*G18/100","v":0},{"$f":"E18-H18","v":0},{"$f":"IFERROR(E18/H18*100,0)","v":0}]
[null,null,{"$f":"WorkforceAnalysis!G$11","v":0},{"$f":"WorkforceAnalysis!G18","v":0},{"$f":"WorkforceAnalysis!H50","v":0},0,{"$f":"WorkforceAnalysis!I50","v":0},0,{"$f":"E19-H19","v":0},0,{"$f":"FlowDataAnalysis!C16+FlowDataAnalysis!E16","v":0},{"$f":"FlowDataAnalysis!D43+FlowDataAnalysis!F43","v":0},{"$f":"IFERROR(L19/K19*100,0)","v":0},{"$f":"K19*G19/100","v":0},{"$f":"L19-N19","v":0},{"$f":"FlowDataAnalysis!H16+FlowDataAnalysis!J16","v":0},{"$f":"FlowDataAnalysis!I43+FlowDataAnalysis!K43","v":0},{"$f":"IFERROR(Q19/P19*100,0)","v":0},{"$f":"P19*$F$18/100","v":0},{"$f":"Q19-S19","v":0},{"$f":"FlowDataAnalysis!M16+FlowDataAnalysis!O16","v":0},{"$f":"FlowDataAnalysis!N43+FlowDataAnalysis!P43","v":0},{"$f":"IFERROR(V19/U19*100,0)","v":0},{"$f":"U19*$F$18/100","v":0},{"$f":"V19-X19","v":0}]
["02","Middle & Other Managers",{"$f":"WorkforceAnalysis!C$11","v":0},{"$f":"WorkforceAnalysis!C19","v":0},{"$f":"WorkforceAnalysis!D51","v":0},0,{"$f":"WorkforceAnalysis!E51","v":0},0,{"$f":"E20-H20","v":0},0]
[null,null,{"$f":"WorkforceAnalysis!G$11","v":0},{"$f":"WorkforceAnalysis!G19","v":0},{"$f":"WorkforceAnalysis!H51","v":0},0,{"$f":"WorkforceAnalysis!I51","v":0},0,0,0,{"$f":"FlowDataAnalysis!C17+FlowDataAnalysis!E17","v":0},{"$f":"FlowDataAnalysis!D44+FlowDataAnalysis!F44","v":0},{"$f":"IFERROR(L21/K21*100,0)","v":0},{"$f":"K21*G21/100","v":0},{"$f":"L21-N21","v":0},{"$f":"FlowDataAnalysis!H17+FlowDataAnalysis!J17","v":0},{"$f":"FlowDataAnalysis!I44+FlowDataAnalysis!K44","v":0},{"$f":"IFERROR(Q21/P21*100,0)","v":0},{"$f":"P21*$F$20/100","v":0},{"$f":"Q21-S21","v":0},{"$f":"FlowDataAnalysis!M17+FlowDataAnalysis!O17","v":0},{"$f":"FlowDataAnalysis!N44+FlowDataAnalysis!P44","v":0},{"$f":"IFERROR(V21/U21*100,0)","v":0},{"$f":"U21*$F$20/100","v":0},{"$f":"V21-X21","v":0}]
["03","Professionals",{"$f":"WorkforceAnalysis!C$11","v":0},{"$f":"WorkforceAnalysis!C20","v":0},{"$f":"WorkforceAnalysis!D52","v":0},0,{"$f":"WorkforceAnalysis!E52","v":0},0,{"$f":"E22-H22","v":0},0]
[null,null,{"$f":"WorkforceAnalysis!G$11","v":0},{"$f":"WorkforceAnalysis!G20","v":0},{"$f":"WorkforceAnalysis!H52","v":0},0,{"$f":"WorkforceAnalysis!I52","v":0},0,0,0,{"$f":"FlowDataAnalysis!C18+FlowDataAnalysis!E18","v":0},{"$f":"FlowDataAnalysis!D45+FlowDataAnalysis!F45","v":0},{"$f":"IFERROR(L23/K23*100,0)","v":0},{"$f":"K23*G23/100","v":0},{"$f":"L23-N23","v":0},{"$f":"FlowDataAnalysis!H18+FlowDataAnalysis!J18","v":0},{"$f":"FlowDataAnalysis!I45+FlowDataAnalysis!K45","v":0},{"$f":"IFERROR(Q23/P23*100,0)","v":0},{"$f":"P23*$F$22/100","v":0},{"$f":"Q23-S23","v":0},{"$f":"FlowDataAnalysis!M18+FlowDataAnalysis!O18","v":0},{"$f":"FlowDataAnalysis!N45+FlowDataAnalysis!P45","v":0},{"$f":"IFERROR(V23/U23*100,0)","v":0},{"$f":"U23*$F$22/100","v":0},{"$f":"V23-X23","v":0}]
["04","Semi-Professionals & Technicians",{"$f":"WorkforceAnalysis!C$11","v":0},{"$f":"WorkforceAnalysis!C21","v":0},{"$f":"WorkforceAnalysis!D53","v":0},{"$f":"IFERROR(E24/D24*100,0)","v":0},{"$f":"WorkforceAnalysis!E53","v":0},{"$f":"D24*G24/100","v":0},{"$f":"E24-H24","v":0},{"$f":"IFERROR(E24/H24*100,0)","v":0}]
[null,null,{"$f":"WorkforceAnalysis!G$11","v":0},{"$f":"WorkforceAnalysis!G21","v":0},{"$f":"WorkforceAnalysis!H53","v":0},0,{"$f":"WorkforceAnalysis!I53","v":0},0,{"$f":"E25-H25","v":0},0,{"$f":"FlowDataAnalysis!C19+FlowDataAnalysis!E19","v":0},{"$f":"FlowDataAnalysis!D46+FlowDataAnalysis!F46","v":0},{"$f":"IFERROR(L25/K25*100,0)","v":0},{"$f":"K25*G25/100","v":0},{"$f":"L25-N25","v":0},{"$f":"FlowDataAnalysis!H19+FlowDataAnalysis!J19","v":0},{"$f":"FlowDataAnalysis!I46+FlowDataAnalysis!K46","v":0},{"$f":"IFERROR(Q25/P25*100,0)","v":0},{"$f":"P25*$F$24/100","v":0},{"$f":"Q25-S25","v":0},{"$f":"FlowDataAnalysis!M19+FlowDataAnalysis!O19","v":0},{"$f":"FlowDataAnalysis!N46+FlowDataAnalysis!P46","v":0},{"$f":"IFERROR(V25/U25*100,0)","v":0},{"$f":"U25*$F$24/100","v":0},{"$f":"V25-X25","v":0}]
["05","Supervisors",{"$f":"WorkforceAnalysis!C$11","v":0},{"$f":"WorkforceAnalysis!C22","v":0},{"$f":"WorkforceAnalysis!D54","v":0},0,{"$f":"WorkforceAnalysis!E54","v":0},0,{"$f":"E26-H26","v":0},0]
[null,null,{"$f":"WorkforceAnalysis!G$11","v":0},{"$f":"WorkforceAnalysis!G22","v":0},{"$f":"WorkforceAnalysis!H54","v":0},0,{"$f":"WorkforceAnalysis!I54","v":0},0,{"$f":"E27-H27","v":0},0,{"$f":"FlowDataAnalysis!C20+FlowDataAnalysis!E20","v":0},{"$f":"FlowDataAnalysis!D47+FlowDataAnalysis!F47","v":0},{"$f":"IFERROR(L27/K27*100,0)","v":0},{"$f":"K27*G27/100","v":0},{"$f":"L27-N27","v":0},{"$f":"FlowDataAnalysis!H20+FlowDataAnalysis!J20","v":0},{"$f":"FlowDataAnalysis!I47+FlowDataAnalysis!K47","v":0},{"$f":"IFERROR(Q27/P27*100,0)","v":0},{"$f":"P27*$F$26/100","v":0},{"$f":"Q27-S27","v":0},{"$f":"FlowDataAnalysis!M20+FlowDataAnalysis!O20","v":0},{"$f":"FlowDataAnalysis!N47+FlowDataAnalysis!P47","v":0},{"$f":"IFERROR(V27/U27*100,0)","v":0},{"$f":"U27*$F$26/100","v":0},{"$f":"V27-X27","v":0}]
["06","Supervisors: Crafts & Trades",{"$f":"WorkforceAnalysis!C$11","v":0},{"$f":"WorkforceAnalysis!C23","v":0},{"$f":"WorkforceAnalysis!D55","v":0},0,{"$f":"WorkforceAnalysis!E55","v":0},0,{"$f":"E28-H28","v":0},0]
[null,null,{"$f":"WorkforceAnalysis!G$11","v":0},{"$f":"WorkforceAnalysis!G23","v":0},{"$f":"WorkforceAnalysis!H55","v":0},0,{"$f":"WorkforceAnalysis!I55","v":0},0,{"$f":"E29-H29","v":0},0,{"$f":"FlowDataAnalysis!C21+FlowDataAnalysis!E21","v":0},{"$f":"FlowDataAnalysis!D48+FlowDataAnalysis!F48","v":0},{"$f":"IFERROR(L29/K29*100,0)","v":0},{"$f":"K29*G29/100","v":0},{"$f":"L29-N29","v":0},{"$f":"FlowDataAnalysis!H21+FlowDataAnalysis!J21","v":0},{"$f":"FlowDataAnalysis!I48+FlowDataAnalysis!K48","v":0},{"$f":"IFERROR(Q29/P29*100,0)","v":0},{"$f":"P29*$F$28/100","v":0},{"$f":"Q29-S29","v":0},{"$f":"FlowDataAnalysis!M21+FlowDataAnalysis!O21","v":0},{"$f":"FlowDataAnalysis!N48+FlowDataAnalysis!P48","v":0},{"$f":"IFERROR(V29/U29*100,0)","v":0},{"$f":"U29*$F$28/100","v":0},{"$f":"V29-X29","v":0}]
[]
["Data sources:",null,null,"Part 2: Flow Data Analysis","Part 2: Flow Data Analysis","E ÷ D x 100","Part 3: Goals","E ÷ G x 100","Part 3: Goals","F ÷ I x 100 ","Part 3: Goals","E ÷ K x 100","Part 3: Goals","F ÷ M x 100 "]
[]
[]
[]
[null,null,null,"i","i","i","i","i","i","i","i","i","i","i"]
["Employment Equity Occupational Group (EEOG)",null,"Year","New Entrants",null,null,"Goals",{"$nulls":7},"Comments"]
[null,null,null,"Flow Data",null,null,"Short-term Goals",null,null,null,"Long-term Goals"]
[null,null,null,"All Employees","Aboriginal Peoples",null,"Aboriginal Peoples",null,null,null,"Aboriginal Peoples"]
[{"$nulls":4},"Actual",null,"Goal","Percent of Goal Met","Goal","Percent of Goal Met","Goal","Percent of Goal Met","Goal","Percent of Goal Met"]
[null,null,"#","#","#","%","#","%","%","%","#","%","%","%"]
["01","Senior Managers",{"$f":"WorkforceAnalysis!G$11","v":0},{"$f":"K19+P19","v":0},{"$f":"L19+Q19","v":0},{"$f":"IFERROR(E41/D41*100,0)","v":0},{"$f":"Goals!C98","v":0},{"$f":"IFERROR(E41/G41*100,0)","v":0},{"$f":"Goals!D98","v":0},{"$f":"IFERROR(F41/I41*100,0)","v":0},{"$f":"Goals!E98","v":0},{"$f":"IFERROR(E41/K41*100,0)","v":0},{"$f":"Goals!F98","v":0},{"$f":"IFERROR(F41/M41*100,0)","v":0}]
[null,null,{"$f":"WorkforceAnalysis!G$11+3","v":3},{"$f":"D41","v":0},{"$f":"E41","v":0},{"$f":"IFERROR(E42/D42*100,0)","v":0},null,null,{"$f":"Goals!D313","v":0},{"$f":"IFERROR(F42/I42*100,0)","v":0},null,null,{"$f":"Goals!F313","v":0},{"$f":"IFERROR(F42/M42*100,0)","v":0}]
["02","Middle & Other Managers",{"$f":"WorkforceAnalysis!G$11","v":0},{"$f":"K21+P21","v":0},{"$f":"L21+Q21","v":0},0,{"$f":"Goals!C99","v":0},{"$f":"IFERROR(E43/G43*100,0)","v":0},{"$f":"Goals!D99","v":0},0,{"$f":"Goals!E99","v":0},{"$f":"IFERROR(E43/K43*100,0)","v":0},{"$f":"Goals!F99","v":0},0]
[null,null,{"$f":"WorkforceAnalysis!G$11+3","v":3},{"$f":"D43","v":0},{"$f":"E43","v":0},0,null,null,{"$f":"Goals!D314","v":0},0,null,null,{"$f":"Goals!F314","v":0},0]
["03","Professionals",{"$f":"WorkforceAnalysis!G$11","v":0},{"$f":"K23+P23","v":0},{"$f":"L23+Q23","v":0},0,{"$f":"Goals!C100","v":0},0,{"$f":"Goals!D100","v":0},0,{"$f":"Goals!E100","v":0},0,{"$f":"Goals!F100","v":0},0]
[null,null,{"$f":"WorkforceAnalysis!G$11+3","v":3},{"$f":"D45","v":0},{"$f":"E45","v":0},0,null,null,{"$f":"Goals!D315","v":0},0,null,null,{"$f":"Goals!F315","v":0},0]
["04","Semi-Professionals & Technicians",{"$f":"WorkforceAnalysis!G$11","v":0},{"$f":"K25+P25","v":0},{"$f":"L25+Q25","v":0},{"$f":"IFERROR(E47/D47*100,0)","v":0},{"$f":"Goals!C101","v":0},{"$f":"IFERROR(E47/G47*100,0)","v":0},{"$f":"Goals!D101","v":0},{"$f":"IFERROR(F47/I47*100,0)","v":0},{"$f":"Goals!E101","v":0},{"$f":"IFERROR(E47/K47*100,0)","v":0},{"$f":"Goals!F101","v":0},{"$f":"IFERROR(F47/M47*100,0)","v":0}]
[null,null,{"$f":"WorkforceAnalysis!G$11+3","v":3},{"$f":"D47","v":0},{"$f":"E47","v":0},{"$f":"IFERROR(E48/D48*100,0)","v":0},null,null,{"$f":"Goals!D316","v":0},{"$f":"IFERROR(F48/I48*100,0)","v":0},null,null,{"$f":"Goals!F316","v":0},{"$f":"IFERROR(F48/M48*100,0)","v":0}]
["05","Supervisors",{"$f":"WorkforceAnalysis!G$11","v":0},{"$f":"K27+P27","v":0},{"$f":"L27+Q27","v":0},{"$f":"IFERROR(E49/D49*100,0)","v":0},{"$f":"Goals!C102","v":0},{"$f":"IFERROR(E49/G49*100,0)","v":0},{"$f":"Goals!D102","v":0},{"$f":"IFERROR(F49/I49*100,0)","v":0},{"$f":"Goals!E102","v":0},{"$f":"IFERROR(E49/K49*100,0)","v":0},{"$f":"Goals!F102","v":0},{"$f":"IFERROR(F49/M49*100,0)","v":0}]
[null,null,{"$f":"WorkforceAnalysis!G$11+3","v":3},{"$f":"D49","v":0},{"$f":"E49","v":0},{"$f":"IFERROR(E50/D50*100,0)","v":0},null,null,{"$f":"Goals!D317","v":0},{"$f":"IFERROR(F50/I50*100,0)","v":0},null,null,{"$f":"Goals!F317","v":0},{"$f":"IFERROR(F50/M50*100,0)","v":0}]
["06","Supervisors: Crafts & Trades",{"$f":"WorkforceAnalysis!G$11","v":0},{"$f":"K29+P29","v":0},{"$f":"L29+Q29","v":0},{"$f":"IFERROR(E51/D51*100,0)","v":0},{"$f":"Goals!C103","v":0},{"$f":"IFERROR(E51/G51*100,0)","v":0},{"$f":"Goals!D103","v":0},{"$f":"IFERROR(F51/I51*100,0)","v":0},{"$f":"Goals!E103","v":0},{"$f":"IFERROR(E51/K51*100,0)","v":0},{"$f":"Goals!F103","v":0},{"$f":"IFERROR(F51/M51*100,0)","v":0}]
[null,null,{"$f":"WorkforceAnalysis!G$11+3","v":3},{"$f":"D51","v":0},{"$f":"E51","v":0},0,null,null,{"$f":"Goals!D318","v":0},0,null,null,{"$f":"Goals!F318","v":0},0]
[]
[]
["A","B","C","D","E","F","G","H","I","J","K","L","M","N","O","P","Q","R","S","T","U","V","W","X","Y"]
[]
["Data sources:",null,null,"Part 1: Workforce Analysis","Part 1: Workforce Analysis",null,"Part 1: Workforce Analysis",null,"E - H",null,"Part 2: Flow Data Analysis","Part 2: Flow Data Analysis",null,"K x G ÷ 100","L - N","Part 2: Flow Data Analysis","Part 2: Flow Data Analysis","Q ÷ P x 100 ","P x F ÷ 100","Q - S","Part 2: Flow Data Analysis","Part 2: Flow Data Analysis","V ÷ U x 100 ","U x F ÷ 100","V - X"]
[{"$nulls":5},"E ÷ D",null,"D x G",null,"E ÷ H",null,null,"L ÷ K"]
[{"$nulls":5},"x 100",null,"÷ 100",null,"x 100 ",null,null,"x 100 "]
[]
[null,null,null,"i","i","i","i","i","i","i","i","i","i","i","i","i","i","i","i","i","i","i","i","i","i"]
["Employment Equity Occupational Group (EEOG)",null,"Year","Workforce Analysis",{"$nulls":6},"Flow Data Analysis"]
[null,null,null,"Workforce",{"$nulls":6},"Hires",{"$nulls":4},"Promotions",{"$nulls":4},"Terminations"]
[null,null,null,"All Employees","Aboriginal Peoples",{"$nulls":5},"All Employees","Aboriginal Peoples",null,null,null,"All Employees","Aboriginal Peoples",null,null,null,"All Employees","Aboriginal Peoples"]
[{"$nulls":4},"Representation",null,"Availability",null,"Gap","EE Result",null,"Actual",null,"Expected","Difference",null,"Actual",null,"Expected","Difference",null,"Actual",null,"Expected","Difference"]
[null,null,"#","#","#","%","%","#","#","%","#","#","%","#","#","#","#","%","#","#","#","#","%","#","#"]
["07","Administrative & Senior Clerical",{"$f":"WorkforceAnalysis!C$11","v":0},{"$f":"WorkforceAnalysis!C24","v":0},{"$f":"WorkforceAnalysis!D56","v":0},{"$f":"IFERROR(E67/D67*100,0)","v":0},{"$f":"WorkforceAnalysis!E56","v":0},{"$f":"D67*G67/100","v":0},{"$f":"E67-H67","v":0},{"$f":"IFERROR(E67/H67*100,0)","v":0}]
[null,null,{"$f":"WorkforceAnalysis!G$11","v":0},{"$f":"WorkforceAnalysis!G24","v":0},{"$f":"WorkforceAnalysis!H56","v":0},0,{"$f":"WorkforceAnalysis!I56","v":0},0,{"$f":"E68-H68","v":0},0,{"$f":"FlowDataAnalysis!C22+FlowDataAnalysis!E22","v":0},{"$f":"FlowDataAnalysis!D49+FlowDataAnalysis!F49","v":0},{"$f":"IFERROR(L68/K68*100,0)","v":0},{"$f":"K68*G68/100","v":0},{"$f":"L68-N68","v":0},{"$f":"FlowDataAnalysis!H22+FlowDataAnalysis!J22","v":0},{"$f":"FlowDataAnalysis!I49+FlowDataAnalysis!K49","v":0},{"$f":"IFERROR(Q68/P68*100,0)","v":0},{"$f":"P68*$F$67/100","v":0},{"$f":"Q68-S68","v":0},{"$f":"FlowDataAnalysis!M22+FlowDataAnalysis!O22","v":0},{"$f":"FlowDataAnalysis!N49+FlowDataAnalysis!P49","v":0},{"$f":"IFERROR(V68/U68*100,0)","v":0},{"$f":"U68*$F$67/100","v":0},{"$f":"V68-X68","v":0}]
["08","Skilled Sales & Service Personnel ",{"$f":"WorkforceAnalysis!C$11","v":0},{"$f":"WorkforceAnalysis!C25","v":0},{"$f":"WorkforceAnalysis!D57","v":0},0,{"$f":"WorkforceAnalysis!E57","v":0},0,{"$f":"E69-H69","v":0},0]
[null,null,{"$f":"WorkforceAnalysis!G$11","v":0},{"$f":"WorkforceAnalysis!G25","v":0},{"$f":"WorkforceAnalysis!H57","v":0},0,{"$f":"WorkforceAnalysis!I57","v":0},0,{"$f":"E70-H70","v":0},0,{"$f":"FlowDataAnalysis!C23+FlowDataAnalysis!E23","v":0},{"$f":"FlowDataAnalysis!D50+FlowDataAnalysis!F50","v":0},{"$f":"IFERROR(L70/K70*100,0)","v":0},{"$f":"K70*G70/100","v":0},{"$f":"L70-N70","v":0},{"$f":"FlowDataAnalysis!H23+FlowDataAnalysis!J23","v":0},{"$f":"FlowDataAnalysis!I50+FlowDataAnalysis!K50","v":0},{"$f":"IFERROR(Q70/P70*100,0)","v":0},{"$f":"P70*$F$69/100","v":0},{"$f":"Q70-S70","v":0},{"$f":"FlowDataAnalysis!M23+FlowDataAnalysis!O23","v":0},{"$f":"FlowDataAnalysis!N50+FlowDataAnalysis!P50","v":0},{"$f":"IFERROR(V70/U70*100,0)","v":0},{"$f":"U70*$F$69/100","v":0},{"$f":"V70-X70","v":0}]
["09","Skilled Crafts & Trades Workers ",{"$f":"WorkforceAnalysis!C$11","v":0},{"$f":"WorkforceAnalysis!C26","v":0},{"$f":"WorkforceAnalysis!D58","v":0},0,{"$f":"WorkforceAnalysis!E58","v":0},0,{"$f":"E71-H71","v":0},0]
[null,null,{"$f":"WorkforceAnalysis!G$11","v":0},{"$f":"WorkforceAnalysis!G26","v":0},{"$f":"WorkforceAnalysis!H58","v":0},0,{"$f":"WorkforceAnalysis!I58","v":0},0,{"$f":"E72-H72","v":0},0,{"$f":"FlowDataAnalysis!C24+FlowDataAnalysis!E24","v":0},{"$f":"FlowDataAnalysis!D51+FlowDataAnalysis!F51","v":0},{"$f":"IFERROR(L72/K72*100,0)","v":0},{"$f":"K72*G72/100","v":0},{"$f":"L72-N72","v":0},{"$f":"FlowDataAnalysis!H24+FlowDataAnalysis!J24","v":0},{"$f":"FlowDataAnalysis!I51+FlowDataAnalysis!K51","v":0},{"$f":"IFERROR(Q72/P72*100,0)","v":0},{"$f":"P72*$F$71/100","v":0},{"$f":"Q72-S72","v":0},{"$f":"FlowDataAnalysis!M24+FlowDataAnalysis!O24","v":0},{"$f":"FlowDataAnalysis!N51+FlowDataAnalysis!P51","v":0},{"$f":"IFERROR(V72/U72*100,0)","v":0},{"$f":"U72*$F$71/100","v":0},{"$f":"V72-X72","v":0}]
[10,"Clerical Personnel",{"$f":"WorkforceAnalysis!C$11","v":0},{"$f":"WorkforceAnalysis!C27","v":0},{"$f":"WorkforceAnalysis!D59","v":0},{"$f":"IFERROR(E73/D73*100,0)","v":0},{"$f":"WorkforceAnalysis!E59","v":0},{"$f":"D73*G73/100","v":0},{"$f":"E73-H73","v":0},{"$f":"IFERROR(E73/H73*100,0)","v":0}]
[null,null,{"$f":"WorkforceAnalysis!G$11","v":0},{"$f":"WorkforceAnalysis!G27","v":0},{"$f":"WorkforceAnalysis!H59","v":0},0,{"$f":"WorkforceAnalysis!I59","v":0},0,{"$f":"E74-H74","v":0},0,{"$f":"FlowDataAnalysis!C25+FlowDataAnalysis!E25","v":0},{"$f":"FlowDataAnalysis!D52+FlowDataAnalysis!F52","v":0},{"$f":"IFERROR(L74/K74*100,0)","v":0},{"$f":"K74*G74/100","v":0},{"$f":"L74-N74","v":0},{"$f":"FlowDataAnalysis!H25+FlowDataAnalysis!J25","v":0},{"$f":"FlowDataAnalysis!I52+FlowDataAnalysis!K52","v":0},{"$f":"IFERROR(Q74/P74*100,0)","v":0},{"$f":"P74*$F$73/100","v":0},{"$f":"Q74-S74","v":0},{"$f":"FlowDataAnalysis!M25+FlowDataAnalysis!O25","v":0},{"$f":"FlowDataAnalysis!N52+FlowDataAnalysis!P52","v":0},{"$f":"IFERROR(V74/U74*100,0)","v":0},{"$f":"U74*$F$73/100","v":0},{"$f":"V74-X74","v":0}]
[11,"Intermediate Sales & Service Personnel",{"$f":"WorkforceAnalysis!C$11","v":0},{"$f":"WorkforceAnalysis!C28","v":0},{"$f":"WorkforceAnalysis!D60","v":0},0,{"$f":"WorkforceAnalysis!E60","v":0},0,{"$f":"E75-H75","v":0},0]
[null,null,{"$f":"WorkforceAnalysis!G$11","v":0},{"$f":"WorkforceAnalysis!G28","v":0},{"$f":"WorkforceAnalysis!H60","v":0},0,{"$f":"WorkforceAnalysis!I60","v":0},0,{"$f":"E76-H76","v":0},0,{"$f":"FlowDataAnalysis!C26+FlowDataAnalysis!E26","v":0},{"$f":"FlowDataAnalysis!D53+FlowDataAnalysis!F53","v":0},{"$f":"IFERROR(L76/K76*100,0)","v":0},{"$f":"K76*G76/100","v":0},{"$f":"L76-N76","v":0},{"$f":"FlowDataAnalysis!H26+FlowDataAnalysis!J26","v":0},{"$f":"FlowDataAnalysis!I53+FlowDataAnalysis!K53","v":0},{"$f":"IFERROR(Q76/P76*100,0)","v":0},{"$f":"P76*$F$75/100","v":0},{"$f":"Q76-S76","v":0},{"$f":"FlowDataAnalysis!M26+FlowDataAnalysis!O26","v":0},{"$f":"FlowDataAnalysis!N53+FlowDataAnalysis!P53","v":0},{"$f":"IFERROR(V76/U76*100,0)","v":0},{"$f":"U76*$F$75/100","v":0},{"$f":"V76-X76","v":0}]
[12,"Semi-Skilled Manual Workers",{"$f":"WorkforceAnalysis!C$11","v":0},{"$f":"WorkforceAnalysis!C29","v":0},{"$f":"WorkforceAnalysis!D61","v":0},0,{"$f":"WorkforceAnalysis!E61","v":0},0,{"$f":"E77-H77","v":0},0]
[null,null,{"$f":"WorkforceAnalysis!G$11","v":0},{"$f":"WorkforceAnalysis!G29","v":0},{"$f":"WorkforceAnalysis!H61","v":0},0,{"$f":"WorkforceAnalysis!I61","v":0},0,{"$f":"E78-H78","v":0},0,{"$f":"FlowDataAnalysis!C27+FlowDataAnalysis!E27","v":0},{"$f":"FlowDataAnalysis!D54+FlowDataAnalysis!F54","v":0},{"$f":"IFERROR(L78/K78*100,0)","v":0},{"$f":"K78*G78/100","v":0},{"$f":"L78-N78","v":0},{"$f":"FlowDataAnalysis!H27+FlowDataAnalysis!J27","v":0},{"$f":"FlowDataAnalysis!I54+FlowDataAnalysis!K54","v":0},{"$f":"IFERROR(Q78/P78*100,0)","v":0},{"$f":"P78*$F$77/100","v":0},{"$f":"Q78-S78","v":0},{"$f":"FlowDataAnalysis!M27+FlowDataAnalysis!O27","v":0},{"$f":"FlowDataAnalysis!N54+FlowDataAnalysis!P54","v":0},{"$f":"IFERROR(V78/U78*100,0)","v":0},{"$f":"U78*$F$77/100","v":0},{"$f":"V78-X78","v":0}]
[]
["Data sources:",null,null,"Part 2: Flow Data Analysis","Part 2: Flow Data Analysis","E ÷ D x 100","Part 3: Goals","E ÷ G x 100","Part 3: Goals","F ÷ I x 100 ","Part 3: Goals","E ÷ K x 100","Part 3: Goals","F ÷ M x 100 "]
[]
[]
[]
[null,null,null,"i","i","i","i","i","i","i","i","i","i","i"]
["Employment Equity Occupational Group (EEOG)",null,"Year","New Entrants",null,null,"Goals",{"$nulls":7},"Comments"]
[null,null,null,"Flow Data",null,null,"Short-term Goals",null,null,null,"Long-term Goals"]
[null,null,null,"All Employees","Aboriginal Peoples",null,"Aboriginal Peoples",null,null,null,"Aboriginal Peoples"]
[{"$nulls":4},"Actual",null,"Goal","Percent of Goal Met","Goal","Percent of Goal Met","Goal","Percent of Goal Met","Goal","Percent of Goal Met"]
[null,null,"#","#","#","%","#","%","%","%","#","%","%","%"]
["07","Administrative & Senior Clerical",{"$f":"WorkforceAnalysis!G$11","v":0},{"$f":"K68+P68","v":0},{"$f":"L68+Q68","v":0},{"$f":"IFERROR(E90/D90*100,0)","v":0},{"$f":"Goals!C104","v":0},{"$f":"IFERROR(E90/G90*100,0)","v":0},{"$f":"Goals!D104","v":0},{"$f":"IFERROR(F90/I90*100,0)","v":0},{"$f":"Goals!E104","v":0},{"$f":"IFERROR(E90/K90*100,0)","v":0},{"$f":"Goals!F104","v":0},{"$f":"IFERROR(F90/M90*100,0)","v":0}]
[null,null,{"$f":"WorkforceAnalysis!G$11+3","v":3},{"$f":"D90","v":0},{"$f":"E90","v":0},{"$f":"IFERROR(E91/D91*100,0)","v":0},null,null,{"$f":"Goals!D319","v":0},{"$f":"IFERROR(F91/I91*100,0)","v":0},null,null,{"$f":"Goals!F319","v":0},{"$f":"IFERROR(F91/M91*100,0)","v":0}]
["08","Skilled Sales & Service Personnel ",{"$f":"WorkforceAnalysis!G$11","v":0},{"$f":"K70+P70","v":0},{"$f":"L70+Q70","v":0},0,{"$f":"Goals!C105","v":0},{"$f":"IFERROR(E92/G92*100,0)","v":0},{"$f":"Goals!D105","v":0},0,{"$f":"Goals!E105","v":0},{"$f":"IFERROR(E92/K92*100,0)","v":0},{"$f":"Goals!F105","v":0},0]
[null,null,{"$f":"WorkforceAnalysis!G$11+3","v":3},{"$f":"D92","v":0},{"$f":"E92","v":0},0,null,null,{"$f":"Goals!D320","v":0},0,null,null,{"$f":"Goals!F320","v":0},0]
["09","Skilled Crafts & Trades Workers ",{"$f":"WorkforceAnalysis!G$11","v":0},{"$f":"K72+P72","v":0},{"$f":"L72+Q72","v":0},0,{"$f":"Goals!C106","v":0},0,{"$f":"Goals!D106","v":0},0,{"$f":"Goals!E106","v":0},0,{"$f":"Goals!F106","v":0},0]
[null,null,{"$f":"WorkforceAnalysis!G$11+3","v":3},{"$f":"D94","v":0},{"$f":"E94","v":0},0,null,null,{"$f":"Goals!D321","v":0},0,null,null,{"$f":"Goals!F321","v":0},0]
[10,"Clerical Personnel",{"$f":"WorkforceAnalysis!G$11","v":0},{"$f":"K74+P74","v":0},{"$f":"L74+Q74","v":0},{"$f":"IFERROR(E96/D96*100,0)","v":0},{"$f":"Goals!C107","v":0},{"$f":"IFERROR(E96/G96*100,0)","v":0},{"$f":"Goals!D107","v":0},{"$f":"IFERROR(F96/I96*100,0)","v":0},{"$f":"Goals!E107","v":0},{"$f":"IFERROR(E96/K96*100,0)","v":0},{"$f":"Goals!F107","v":0},{"$f":"IFERROR(F96/M96*100,0)","v":0}]
[null,null,{"$f":"WorkforceAnalysis!G$11+3","v":3},{"$f":"D96","v":0},{"$f":"E96","v":0},{"$f":"IFERROR(E97/D97*100,0)","v":0},null,null,{"$f":"Goals!D322","v":0},{"$f":"IFERROR(F97/I97*100,0)","v":0},null,null,{"$f":"Goals!F322","v":0},{"$f":"IFERROR(F97/M97*100,0)","v":0}]
[11,"Intermediate Sales & Service Personnel",{"$f":"WorkforceAnalysis!G$11","v":0},{"$f":"K76+P76","v":0},{"$f":"L76+Q76","v":0},0,{"$f":"Goals!C108","v":0},{"$f":"IFERROR(E98/G98*100,0)","v":0},{"$f":"Goals!D108","v":0},0,{"$f":"Goals!E108","v":0},{"$f":"IFERROR(E98/K98*100,0)","v":0},{"$f":"Goals!F108","v":0},0]
[null,null,{"$f":"WorkforceAnalysis!G$11+3","v":3},{"$f":"D98","v":0},{"$f":"E98","v":0},0,null,null,{"$f":"Goals!D323","v":0},0,null,null,{"$f":"Goals!F323","v":0},0]
[12,"Semi-Skilled Manual Workers",{"$f":"WorkforceAnalysis!G$11","v":0},{"$f":"K78+P78","v":0},{"$f":"L78+Q78","v":0},0,{"$f":"Goals!C109","v":0},0,{"$f":"Goals!D109","v":0},0,{"$f":"Goals!E109","v":0},0,{"$f":"Goals!F109","v":0},0]
[null,null,{"$f":"WorkforceAnalysis!G$11+3","v":3},{"$f":"D100","v":0},{"$f":"E100","v":0},0,null,null,{"$f":"Goals!D324","v":0},0,null,null,{"$f":"Goals!F324","v":0},0]
[]
[]
["A","B","C","D","E","F","G","H","I","J","K","L","M","N","O","P","Q","R","S","T","U","V","W","X","Y"]
[]
["Data sources:",null,null,"Part 1: Workforce Analysis","Part 1: Workforce Analysis",null,"Part 1: Workforce Analysis",null,"E - H",null,"Part 2: Flow Data Analysis","Part 2: Flow Data Analysis",null,"K x G ÷ 100","L - N","Part 2: Flow Data Analysis","Part 2: Flow Data Analysis","Q ÷ P x 100 ","P x F ÷ 100","Q - S","Part 2: Flow Data Analysis","Part 2: Flow Data Analysis","V ÷ U x 100 ","U x F ÷ 100","V - X"]
[{"$nulls":5},"E ÷ D",null,"D x G",null,"E ÷ H",null,null,"L ÷ K"]
[{"$nulls":5},"x 100",null,"÷ 100",null,"x 100 ",null,null,"x 100 "]
[]
[null,null,null,"i","i","i","i","i","i","i","i","i","i","i","i","i","i","i","i","i","i","i","i","i","i"]
["Employment Equity Occupational Group (EEOG)",null,"Year","Workforce Analysis",{"$nulls":6},"Flow Data Analysis"]
[null,null,null,"Workforce",{"$nulls":6},"Hires",{"$nulls":4},"Promotions",{"$nulls":4},"Terminations"]
[null,null,null,"All Employees","Aboriginal Peoples",{"$nulls":5},"All Employees","Aboriginal Peoples",null,null,null,"All Employees","Aboriginal Peoples",null,null,null,"All Employees","Aboriginal Peoples"]
[{"$nulls":4},"Representation",null,"Availability",null,"Gap","EE Result",null,"Actual",null,"Expected","Difference",null,"Actual",null,"Expected","Difference",null,"Actual",null,"Expected","Difference"]
[null,null,"#","#","#","%","%","#","#","%","#","#","%","#","#","#","#","%","#","#","#","#","%","#","#"]
[13,"Other Sales & Service Personnel ",{"$f":"WorkforceAnalysis!C$11","v":0},{"$f":"WorkforceAnalysis!C30","v":0},{"$f":"WorkforceAnalysis!D62","v":0},{"$f":"IFERROR(E116/D116*100,0)","v":0},{"$f":"WorkforceAnalysis!E62","v":0},{"$f":"D116*G116/100","v":0},{"$f":"E116-H116","v":0},{"$f":"IFERROR(E116/H116*100,0)","v":0}]
[null,null,{"$f":"WorkforceAnalysis!G$11","v":0},{"$f":"WorkforceAnalysis!G30","v":0},{"$f":"WorkforceAnalysis!H62","v":0},0,{"$f":"WorkforceAnalysis!I62","v":0},0,{"$f":"E117-H117","v":0},0,{"$f":"FlowDataAnalysis!C28+FlowDataAnalysis!E28","v":0},{"$f":"FlowDataAnalysis!D55+FlowDataAnalysis!F55","v":0},{"$f":"IFERROR(L117/K117*100,0)","v":0},{"$f":"K117*G117/100","v":0},{"$f":"L117-N117","v":0},{"$f":"FlowDataAnalysis!H28+FlowDataAnalysis!J28","v":0},{"$f":"FlowDataAnalysis!I55+FlowDataAnalysis!K55","v":0},{"$f":"IFERROR(Q117/P117*100,0)","v":0},{"$f":"P117*$F$116/100","v":0},{"$f":"Q117-S117","v":0},{"$f":"FlowDataAnalysis!M28+FlowDataAnalysis!O28","v":0},{"$f":"FlowDataAnalysis!N55+FlowDataAnalysis!P55","v":0},{"$f":"IFERROR(V117/U117*100,0)","v":0},{"$f":"U117*$F$116/100","v":0},{"$f":"V117-X117","v":0}]
[14,"Other Manual Workers",{"$f":"WorkforceAnalysis!C$11","v":0},{"$f":"WorkforceAnalysis!C31","v":0},{"$f":"WorkforceAnalysis!D63","v":0},0,{"$f":"WorkforceAnalysis!E63","v":0},0,{"$f":"E118-H118","v":0},0]
[null,null,{"$f":"WorkforceAnalysis!G$11","v":0},{"$f":"WorkforceAnalysis!G31","v":0},{"$f":"WorkforceAnalysis!H63","v":0},0,{"$f":"WorkforceAnalysis!I63","v":0},0,{"$f":"E119-H119","v":0},0,{"$f":"FlowDataAnalysis!C29+FlowDataAnalysis!E29","v":0},{"$f":"FlowDataAnalysis!D56+FlowDataAnalysis!F56","v":0},{"$f":"IFERROR(L119/K119*100,0)","v":0},{"$f":"K119*G119/100","v":0},{"$f":"L119-N119","v":0},{"$f":"FlowDataAnalysis!H29+FlowDataAnalysis!J29","v":0},{"$f":"FlowDataAnalysis!I56+FlowDataAnalysis!K56","v":0},{"$f":"IFERROR(Q119/P119*100,0)","v":0},{"$f":"P119*$F$118/100","v":0},{"$f":"Q119-S119","v":0},{"$f":"FlowDataAnalysis!M29+FlowDataAnalysis!O29","v":0},{"$f":"FlowDataAnalysis!N56+FlowDataAnalysis!P56","v":0},{"$f":"IFERROR(V119/U119*100,0)","v":0},{"$f":"U119*$F$118/100","v":0},{"$f":"V119-X119","v":0}]
["Total",null,{"$f":"WorkforceAnalysis!C$11","v":0},{"$f":"WorkforceAnalysis!C32","v":0},{"$f":"WorkforceAnalysis!D64","v":0},0,{"$f":"WorkforceAnalysis!E64","v":0},0,{"$f":"E120-H120","v":0},0]
[null,null,{"$f":"WorkforceAnalysis!G$11","v":0},{"$f":"WorkforceAnalysis!G32","v":0},{"$f":"WorkforceAnalysis!H64","v":0},0,{"$f":"WorkforceAnalysis!I64","v":0},0,{"$f":"E121-H121","v":0},0,{"$f":"FlowDataAnalysis!C30+FlowDataAnalysis!E30","v":0},{"$f":"FlowDataAnalysis!D57+FlowDataAnalysis!F57","v":0},{"$f":"IFERROR(L121/K121*100,0)","v":0},{"$f":"K121*G121/100","v":0},{"$f":"L121-N121","v":0},{"$f":"FlowDataAnalysis!H30+FlowDataAnalysis!J30","v":0},{"$f":"FlowDataAnalysis!I57+FlowDataAnalysis!K57","v":0},{"$f":"IFERROR(Q121/P121*100,0)","v":0},{"$f":"P121*$F$120/100","v":0},{"$f":"Q121-S121","v":0},{"$f":"FlowDataAnalysis!M30+FlowDataAnalysis!O30","v":0},{"$f":"FlowDataAnalysis!N57+FlowDataAnalysis!P57","v":0},{"$f":"IFERROR(V121/U121*100,0)","v":0},{"$f":"U121*$F$120/100","v":0},{"$f":"V121-X121","v":0}]
[]
["Data sources:",null,null,"Part 2: Flow Data Analysis","Part 2: Flow Data Analysis","E ÷ D x 100","Part 3: Goals","E ÷ G x 100","Part 3: Goals","F ÷ I x 100 ","Part 3: Goals","E ÷ K x 100","Part 3: Goals","F ÷ M x 100 "]
[]
[]
[]
[null,null,null,"i","i","i","i","i","i","i","i","i","i","i"]
["Employment Equity Occupational Group (EEOG)",null,"Year","New Entrants",null,null,"Goals",{"$nulls":7},"Comments"]
[null,null,null,"Flow Data",null,null,"Short-term Goals",null,null,null,"Long-term Goals"]
[null,null,null,"All Employees","Aboriginal Peoples",null,"Aboriginal Peoples",null,null,null,"Aboriginal Peoples"]
[{"$nulls":4},"Actual",null,"Goal","Percent of Goal Met","Goal","Percent of Goal Met","Goal","Percent of Goal Met","Goal","Percent of Goal Met"]
[null,null,"#","#","#","%","#","%","%","%","#","%","%","%"]
[13,"Other Sales & Service Personnel ",{"$f":"WorkforceAnalysis!G$11","v":0},{"$f":"K117+P117","v":0},{"$f":"L117+Q117","v":0},{"$f":"IFERROR(E133/D133*100,0)","v":0},{"$f":"Goals!C110","v":0},{"$f":"IFERROR(E133/G133*100,0)","v":0},{"$f":"Goals!D110","v":0},{"$f":"IFERROR(F133/I133*100,0)","v":0},{"$f":"Goals!E110","v":0},{"$f":"IFERROR(E133/K133*100,0)","v":0},{"$f":"Goals!F110","v":0},{"$f":"IFERROR(F133/M133*100,0)","v":0}]
[null,null,{"$f":"WorkforceAnalysis!G$11+3","v":3},{"$f":"D133","v":0},{"$f":"E133","v":0},{"$f":"IFERROR(E134/D134*100,0)","v":0},null,null,{"$f":"Goals!D325","v":0},{"$f":"IFERROR(F134/I134*100,0)","v":0},null,null,{"$f":"Goals!F325","v":0},{"$f":"IFERROR(F134/M134*100,0)","v":0}]
[14,"Other Manual Workers",{"$f":"WorkforceAnalysis!G$11","v":0},{"$f":"K119+P119","v":0},{"$f":"L119+Q119","v":0},0,{"$f":"Goals!C111","v":0},{"$f":"IFERROR(E135/G135*100,0)","v":0},{"$f":"Goals!D111","v":0},0,{"$f":"Goals!E111","v":0},{"$f":"IFERROR(E135/K135*100,0)","v":0},{"$f":"Goals!F111","v":0},0]
[null,null,{"$f":"WorkforceAnalysis!G$11+3","v":3},{"$f":"D135","v":0},{"$f":"E135","v":0},0,null,null,{"$f":"Goals!D326","v":0},0,null,null,{"$f":"Goals!F326","v":0},0]
["Total",null,{"$f":"WorkforceAnalysis!G$11","v":0},{"$f":"K121+P121","v":0},{"$f":"L121+Q121","v":0},0,{"$f":"Goals!C112","v":0},0,{"$f":"Goals!D112","v":0},0,{"$f":"Goals!E112","v":0},0,{"$f":"Goals!F112","v":0},0]
[null,null,{"$f":"WorkforceAnalysis!G$11+3","v":3},{"$f":"D137","v":0},{"$f":"E137","v":0},0,null,null,{"$f":"Goals!D327","v":0},0,null,null,{"$f":"Goals!F327","v":0},0]

{"sheet":"ResultsPersonsDisabilities","index":5,"n_rows":134,"n_cols":25,"rows_kept":134,"cut":false,"hidden":false,"merged":[[7,0,10,1],[7,2,10,2],[7,3,10,3],[7,4,10,4],[7,6,10,6],[7,8,10,8],[7,23,10,23],[7,24,10,24],[0,0,0,24],[1,0,1,24],[2,0,2,24],[3,0,3,24],[7,17,10,17],[7,18,10,18],[7,19,10,19],[7,20,10,20],[7,21,10,21],[7,22,10,22],[7,10,10,10],[7,11,10,11],[7,13,10,13],[7,14,10,14],[7,15,10,15],[7,16,10,16],[19,0,20,0],[19,1,20,1],[17,0,18,0],[17,1,18,1],[14,20,15,20],[14,21,14,24],[15,4,15,5],[15,6,15,7],[15,11,15,12],[15,16,15,17],[15,21,15,22],[14,3,15,3],[14,4,14,9],[14,10,15,10],[14,11,14,14],[14,15,15,15],[14,16,14,19],[12,0,16,1],[12,2,15,2],[12,3,12,9],[13,3,13,9],[13,10,13,14],[13,15,13,19],[12,10,12,24],[28,7,31,7],[28,8,31,8],[28,9,31,9],[28,10,31,10],[28,11,31,11],[28,12,31,12],[28,0,31,1],[28,2,31,2],[28,3,31,3],[28,4,31,4],[28,5,31,5],[28,6,31,6],[28,19,31,19],[28,20,31,20],[28,21,31,21],[28,22,31,22],[28,23,31,23],[28,24,31,24],[28,13,31,13],[28,14,31,14],[28,15,31,15],[28,16,31,16],[28,17,31,17],[28,18,31,18],[35,6,35,9],[36,4,36,5],[38,0,39,0],[38,1,39,1],[33,0,37,1],[33,2,36,2],[33,3,33,5],[33,6,33,13],[34,3,34,5],[34,6,34,9],[34,10,34,13],[35,3,36,3],[35,4,35,5],[35,10,35,13],[42,0,43,0],[42,1,43,1],[44,0,45,0],[44,1,45,1],[40,0,41,0],[40,1,41,1],[21,0,22,0],[21,1,22,1],[23,0,24,0],[23,1,24,1],[25,0,26,0],[25,1,26,1],[46,0,47,0],[46,1,47,1],[58,15,58,19],[52,17,55,17],[52,18,55,18],[52,19,55,19],[52,0,55,1],[52,2,55,2],[52,3,55,3],[52,4,55,4],[52,6,55,6],[52,8,55,8],[52,10,55,10],[52,11,55,11],[52,13,55,13],[52,14,55,14],[52,15,55,15],[52,16,55,16],[62,0,63,0],[62,1,63,1],[64,0,65,0],[64,1,65,1],[66,0,67,0],[66,1,67,1],[59,20,60,20],[59,21,59,24],[60,4,60,5],[60,6,60,7],[60,11,60,12],[60,16,60,17],[60,21,60,22],[59,3,60,3],[59,4,59,9],[59,10,60,10],[59,11,59,14],[59,15,60,15],[59,16,59,19],[57,0,61,1],[57,2,60,2],[57,3,57,9],[58,3,58,9],[58,10,58,14],[75,7,78,7],[75,8,78,8],[75,9,78,9],[75,10,78,10],[75,11,78,11],[75,12,78,12],[75,0,78,1],[75,2,78,2],[75,3,78,3],[75,4,78,4],[75,5,78,5],[75,6,78,6],[68,0,69,0],[68,1,69,1],[70,0,71,0],[70,1,71,1],[72,0,73,0],[72,1,73,1],[89,0,90,0],[89,1,90,1],[82,6,82,9],[83,4,83,5],[85,0,86,0],[85,1,86,1],[80,0,84,1],[80,2,83,2],[80,3,80,5],[80,6,80,13],[81,3,81,5],[81,6,81,9],[81,10,81,13],[82,3,83,3],[82,4,82,5],[87,0,88,0],[87,1,88,1],[75,13,78,13],[93,0,94,0],[93,1,94,1],[95,0,96,0],[95,1,96,1],[101,23,104,23],[101,24,104,24],[91,0,92,0],[91,1,92,1],[101,14,104,14],[101,15,104,15],[101,16,104,16],[101,0,104,1],[95,14,96,24],[113,0,114,0],[113,1,114,1],[106,10,106,24],[107,20,107,24],[101,2,104,2],[108,20,109,20],[108,21,108,24],[101,3,104,3],[101,4,104,4],[101,6,104,6],[101,8,104,8],[109,16,109,17],[109,21,109,22],[108,3,109,3],[108,4,108,9],[108,10,109,10],[108,11,108,14],[108,15,109,15],[108,16,108,19],[107,15,107,19],[115,0,116,1],[118,0,121,1],[109,4,109,5],[109,6,109,7],[109,11,109,12],[118,8,121,8],[118,9,121,9],[118,10,121,10],[118,11,121,11],[118,12,121,12],[106,0,110,1],[106,2,109,2],[106,3,106,9],[107,3,107,9],[107,10,107,14],[118,13,121,13],[118,2,121,2],[118,3,121,3],[118,4,121,4],[118,5,121,5],[118,6,121,6],[118,7,121,7],[111,0,112,0],[111,1,112,1],[123,14,127,24],[128,14,129,24],[130,14,131,24],[132,14,133,24],[118,20,121,20],[118,21,121,21],[118,22,121,22],[118,23,121,23],[118,24,121,24],[118,14,121,14],[118,15,121,15],[118,16,121,16],[118,17,121,17],[118,18,121,18],[118,19,121,19],[132,0,133,1],[128,0,129,0],[128,1,129,1],[130,0,131,0],[130,1,131,1],[124,3,124,5],[124,6,124,9],[124,10,124,13],[125,3,126,3],[125,4,125,5],[125,6,125,9],[125,10,125,13],[126,4,126,5],[123,0,127,1],[123,2,126,2],[123,3,123,5],[123,6,123,13],[13,20,13,24],[57,10,57,24],[58,20,58,24],[52,23,55,23],[52,24,55,24],[101,17,104,17],[101,18,104,18],[101,19,104,19],[101,20,104,20],[101,21,104,21],[101,22,104,22],[101,10,104,10],[101,11,104,11],[101,13,104,13],[82,10,82,13],[75,19,78,19],[75,20,78,20],[75,21,78,21],[75,22,78,22],[75,23,78,23],[75,24,78,24],[33,14,37,24],[38,14,39,24],[40,14,41,24],[42,14,43,24],[44,14,45,24],[46,14,47,24],[80,14,84,24],[85,14,86,24],[87,14,88,24],[89,14,90,24],[91,14,92,24],[93,14,94,24],[75,14,78,14],[75,15,78,15],[75,16,78,16],[75,17,78,17],[75,18,78,18],[52,20,55,20],[52,21,55,21],[52,22,55,22]]}
["Federal Contractors Program Achievement Report"]
["Part 6: Results - Persons with Disabilities"]
[{"$f":"WorkforceAnalysis!A3:I3","v":"[Organization's Legal Name]"}]
[{"$f":"WorkforceAnalysis!A4:I4","v":"YYYY-MM-DD"}]
[]
["A","B","C","D","E","F","G","H","I","J","K","L","M","N","O","P","Q","R","S","T","U","V","W","X","Y"]
[]
["Data sources:",null,null,"Part 1: Workforce Analysis","Part 1: Workforce Analysis",null,"Part 1: Workforce Analysis",null,"E - H",null,"Part 2: Flow Data Analysis","Part 2: Flow Data Analysis",null,"K x G ÷ 100","L - N","Part 2: Flow Data Analysis","Part 2: Flow Data Analysis","Q ÷ P x 100 ","P x F ÷ 100","Q - S","Part 2: Flow Data Analysis","Part 2: Flow Data Analysis","V ÷ U x 100 ","U x F ÷ 100","V - X"]
[{"$nulls":5},"E ÷ D",null,"D x G",null,"E ÷ H",null,null,"L ÷ K"]
[{"$nulls":5},"x 100",null,"÷ 100",null,"x 100 ",null,null,"x 100 "]
[]
[null,null,null,"i","i","i","i","i","i","i","i","i","i","i","i","i","i","i","i","i","i","i","i","i","i"]
["Employment Equity Occupational Group (EEOG)",null,"Year","Workforce Analysis",{"$nulls":6},"Flow Data Analysis"]
[null,null,null,"Workforce",{"$nulls":6},"Hires",{"$nulls":4},"Promotions",{"$nulls":4},"Terminations"]
[null,null,null,"All Employees","Persons with Disabilities",{"$nulls":5},"All Employees","Persons with Disabilities",null,null,null,"All Employees","Persons with Disabilities",null,null,null,"All Employees","Persons with Disabilities"]
[{"$nulls":4},"Representation",null,"Availability",null,"Gap","EE Result",null,"Actual",null,"Expected","Difference",null,"Actual",null,"Expected","Difference",null,"Actual",null,"Expected","Difference"]
[null,null,"#","#","#","%","%","#","#","%","#","#","%","#","#","#","#","%","#","#","#","#","%","#","#"]
["01& 02","Managers",{"$f":"WorkforceAnalysis!C$11","v":0},{"$f":"WorkforceAnalysis!C114","v":0},{"$f":"WorkforceAnalysis!D114","v":0},{"$f":"IFERROR(E18/D18*100,0)","v":0},{"$f":"WorkforceAnalysis!E114","v":0},{"$f":"D18*G18/100","v":0},{"$f":"E18-H18","v":0},{"$f":"IFERROR(E18/H18*100,0)","v":0}]
[null,null,{"$f":"WorkforceAnalysis!G$11","v":0},{"$f":"WorkforceAnalysis!G114","v":0},{"$f":"WorkforceAnalysis!H114","v":0},{"$f":"IFERROR(E19/D19*100,0)","v":0},{"$f":"WorkforceAnalysis!I114","v":0},0,{"$f":"E19-H19","v":0},{"$f":"IFERROR(E19/H19*100,0)","v":0},{"$f":"FlowDataAnalysis!C16+FlowDataAnalysis!E16+FlowDataAnalysis!C17+FlowDataAnalysis!E17","v":0},{"$f":"FlowDataAnalysis!D70+FlowDataAnalysis!F70+FlowDataAnalysis!D71+FlowDataAnalysis!F71","v":0},{"$f":"IFERROR(L19/K19*100,0)","v":0},{"$f":"K19*G19/100","v":0},{"$f":"L19-N19","v":0},{"$f":"FlowDataAnalysis!H16+FlowDataAnalysis!J16+FlowDataAnalysis!H17+FlowDataAnalysis!J17","v":0},{"$f":"FlowDataAnalysis!I70+FlowDataAnalysis!K70+FlowDataAnalysis!I71+FlowDataAnalysis!K71","v":0},{"$f":"IFERROR(Q19/P19*100,0)","v":0},{"$f":"P19*$F$18/100","v":0},{"$f":"Q19-S19","v":0},{"$f":"FlowDataAnalysis!M16+FlowDataAnalysis!O16+FlowDataAnalysis!M17+FlowDataAnalysis!O17","v":0},{"$f":"FlowDataAnalysis!N70+FlowDataAnalysis!P70+FlowDataAnalysis!N71+FlowDataAnalysis!P71","v":0},{"$f":"IFERROR(V19/U19*100,0)","v":0},{"$f":"U19*$F$18/100","v":0},{"$f":"V19-X19","v":0}]
["03","Professionals",{"$f":"WorkforceAnalysis!C$11","v":0},{"$f":"WorkforceAnalysis!C20","v":0},{"$f":"WorkforceAnalysis!D115","v":0},{"$f":"IFERROR(E20/D20*100,0)","v":0},{"$f":"WorkforceAnalysis!E115","v":0},0,{"$f":"E20-H20","v":0},{"$f":"IFERROR(E20/H20*100,0)","v":0}]
[null,null,{"$f":"WorkforceAnalysis!G$11","v":0},{"$f":"WorkforceAnalysis!G20","v":0},{"$f":"WorkforceAnalysis!H115","v":0},{"$f":"IFERROR(E21/D21*100,0)","v":0},{"$f":"WorkforceAnalysis!I115","v":0},0,0,{"$f":"IFERROR(E21/H21*100,0)","v":0},{"$f":"FlowDataAnalysis!C18+FlowDataAnalysis!E18","v":0},{"$f":"FlowDataAnalysis!D72+FlowDataAnalysis!F72","v":0},{"$f":"IFERROR(L21/K21*100,0)","v":0},{"$f":"K21*G21/100","v":0},{"$f":"L21-N21","v":0},{"$f":"FlowDataAnalysis!H18+FlowDataAnalysis!J18","v":0},{"$f":"FlowDataAnalysis!I72+FlowDataAnalysis!K72","v":0},{"$f":"IFERROR(Q21/P21*100,0)","v":0},{"$f":"P21*$F$20/100","v":0},{"$f":"Q21-S21","v":0},{"$f":"FlowDataAnalysis!M18+FlowDataAnalysis!O18","v":0},{"$f":"FlowDataAnalysis!N72+FlowDataAnalysis!P72","v":0},{"$f":"IFERROR(V21/U21*100,0)","v":0},{"$f":"U21*$F$20/100","v":0},{"$f":"V21-X21","v":0}]
["04","Semi-Professionals & Technicians",{"$f":"WorkforceAnalysis!C$11","v":0},{"$f":"WorkforceAnalysis!C21","v":0},{"$f":"WorkforceAnalysis!D116","v":0},{"$f":"IFERROR(E22/D22*100,0)","v":0},{"$f":"WorkforceAnalysis!E116","v":0},{"$f":"D22*G22/100","v":0},{"$f":"E22-H22","v":0},{"$f":"IFERROR(E22/H22*100,0)","v":0}]
[null,null,{"$f":"WorkforceAnalysis!G$11","v":0},{"$f":"WorkforceAnalysis!G21","v":0},{"$f":"WorkforceAnalysis!H116","v":0},0,{"$f":"WorkforceAnalysis!I116","v":0},0,{"$f":"E23-H23","v":0},0,{"$f":"FlowDataAnalysis!C19+FlowDataAnalysis!E19","v":0},{"$f":"FlowDataAnalysis!D73+FlowDataAnalysis!F73","v":0},{"$f":"IFERROR(L23/K23*100,0)","v":0},{"$f":"K23*G23/100","v":0},{"$f":"L23-N23","v":0},{"$f":"FlowDataAnalysis!H19+FlowDataAnalysis!J19","v":0},{"$f":"FlowDataAnalysis!I73+FlowDataAnalysis!K73","v":0},{"$f":"IFERROR(Q23/P23*100,0)","v":0},{"$f":"P23*$F$22/100","v":0},{"$f":"Q23-S23","v":0},{"$f":"FlowDataAnalysis!M19+FlowDataAnalysis!O19","v":0},{"$f":"FlowDataAnalysis!N73+FlowDataAnalysis!P73","v":0},{"$f":"IFERROR(V23/U23*100,0)","v":0},{"$f":"U23*$F$22/100","v":0},{"$f":"V23-X23","v":0}]
["05","Supervisors",{"$f":"WorkforceAnalysis!C$11","v":0},{"$f":"WorkforceAnalysis!C22","v":0},{"$f":"WorkforceAnalysis!D117","v":0},0,{"$f":"WorkforceAnalysis!E117","v":0},0,{"$f":"E24-H24","v":0},0]
[null,null,{"$f":"WorkforceAnalysis!G$11","v":0},{"$f":"WorkforceAnalysis!G22","v":0},{"$f":"WorkforceAnalysis!H117","v":0},0,{"$f":"WorkforceAnalysis!I117","v":0},0,{"$f":"E25-H25","v":0},0,{"$f":"FlowDataAnalysis!C20+FlowDataAnalysis!E20","v":0},{"$f":"FlowDataAnalysis!D74+FlowDataAnalysis!F74","v":0},{"$f":"IFERROR(L25/K25*100,0)","v":0},{"$f":"K25*G25/100","v":0},{"$f":"L25-N25","v":0},{"$f":"FlowDataAnalysis!H20+FlowDataAnalysis!J20","v":0},{"$f":"FlowDataAnalysis!I74+FlowDataAnalysis!K74","v":0},{"$f":"IFERROR(Q25/P25*100,0)","v":0},{"$f":"P25*$F$24/100","v":0},{"$f":"Q25-S25","v":0},{"$f":"FlowDataAnalysis!M20+FlowDataAnalysis!O20","v":0},{"$f":"FlowDataAnalysis!N74+FlowDataAnalysis!P74","v":0},{"$f":"IFERROR(V25/U25*100,0)","v":0},{"$f":"U25*$F$24/100","v":0},{"$f":"V25-X25","v":0}]
["06","Supervisors: Crafts & Trades",{"$f":"WorkforceAnalysis!C$11","v":0},{"$f":"WorkforceAnalysis!C23","v":0},{"$f":"WorkforceAnalysis!D118","v":0},0,{"$f":"WorkforceAnalysis!E118","v":0},0,{"$f":"E26-H26","v":0},0]
[null,null,{"$f":"WorkforceAnalysis!G$11","v":0},{"$f":"WorkforceAnalysis!G23","v":0},{"$f":"WorkforceAnalysis!H118","v":0},0,{"$f":"WorkforceAnalysis!I118","v":0},0,{"$f":"E27-H27","v":0},0,{"$f":"FlowDataAnalysis!C21+FlowDataAnalysis!E21","v":0},{"$f":"FlowDataAnalysis!D75+FlowDataAnalysis!F75","v":0},{"$f":"IFERROR(L27/K27*100,0)","v":0},{"$f":"K27*G27/100","v":0},{"$f":"L27-N27","v":0},{"$f":"FlowDataAnalysis!H21+FlowDataAnalysis!J21","v":0},{"$f":"FlowDataAnalysis!I75+FlowDataAnalysis!K75","v":0},{"$f":"IFERROR(Q27/P27*100,0)","v":0},{"$f":"P27*$F$26/100","v":0},{"$f":"Q27-S27","v":0},{"$f":"FlowDataAnalysis!M21+FlowDataAnalysis!O21","v":0},{"$f":"FlowDataAnalysis!N75+FlowDataAnalysis!P75","v":0},{"$f":"IFERROR(V27/U27*100,0)","v":0},{"$f":"U27*$F$26/100","v":0},{"$f":"V27-X27","v":0}]
[]
["Data sources:",null,null,"Part 2: Flow Data Analysis","Part 2: Flow Data Analysis","E ÷ D x 100","Part 3: Goals","E ÷ G x 100","Part 3: Goals","F ÷ I x 100 ","Part 3: Goals","E ÷ K x 100","Part 3: Goals","F ÷ M x 100 "]
[]
[]
[]
[null,null,null,"i","i","i","i","i","i","i","i","i","i","i"]
["Employment Equity Occupational Group (EEOG)",null,"Year","New Entrants",null,null,"Goals",{"$nulls":7},"Comments"]
[null,null,null,"Flow Data",null,null,"Short-term Goals",null,null,null,"Long-term Goals"]
[null,null,null,"All Employees","Persons with Disabilities",null,"Persons with Disabilities",null,null,null,"Persons with Disabilities"]
[{"$nulls":4},"Actual",null,"Goal","Percent of Goal Met","Goal","Percent of Goal Met","Goal","Percent of Goal Met","Goal","Percent of Goal Met"]
[null,null,"#","#","#","%","#","%","%","%","#","%","%","%"]
["01& 02","Managers",{"$f":"WorkforceAnalysis!G$11","v":0},{"$f":"K19+P19","v":0},{"$f":"L19+Q19","v":0},{"$f":"IFERROR(E39/D39*100,0)","v":0},{"$f":"Goals!C151","v":0},{"$f":"IFERROR(E39/G39*100,0)","v":0},{"$f":"Goals!D151","v":0},{"$f":"IFERROR(F39/I39*100,0)","v":0},{"$f":"Goals!E151","v":0},{"$f":"IFERROR(E39/K39*100,0)","v":0},{"$f":"Goals!F151","v":0},{"$f":"IFERROR(F39/M39*100,0)","v":0}]
[null,null,{"$f":"WorkforceAnalysis!G$11+3","v":3},{"$f":"D39","v":0},{"$f":"E39","v":0},{"$f":"IFERROR(E40/D40*100,0)","v":0},null,null,{"$f":"Goals!D366","v":0},0,null,null,{"$f":"Goals!F366","v":0},0]
["03","Professionals",{"$f":"WorkforceAnalysis!G$11","v":0},{"$f":"K21+P21","v":0},{"$f":"L21+Q21","v":0},{"$f":"IFERROR(E41/D41*100,0)","v":0},{"$f":"Goals!C152","v":0},0,{"$f":"Goals!D152","v":0},0,{"$f":"Goals!E152","v":0},0,{"$f":"Goals!F152","v":0},0]
[null,null,{"$f":"WorkforceAnalysis!G$11+3","v":3},{"$f":"D41","v":0},{"$f":"E41","v":0},{"$f":"IFERROR(E42/D42*100,0)","v":0},null,null,{"$f":"Goals!D367","v":0},0,null,null,{"$f":"Goals!F367","v":0},0]
["04","Semi-Professionals & Technicians",{"$f":"WorkforceAnalysis!G$11","v":0},{"$f":"K23+P23","v":0},{"$f":"L23+Q23","v":0},{"$f":"IFERROR(E43/D43*100,0)","v":0},{"$f":"Goals!C153","v":0},{"$f":"IFERROR(E43/G43*100,0)","v":0},{"$f":"Goals!D153","v":0},{"$f":"IFERROR(F43/I43*100,0)","v":0},{"$f":"Goals!E153","v":0},{"$f":"IFERROR(E43/K43*100,0)","v":0},{"$f":"Goals!F153","v":0},{"$f":"IFERROR(F43/M43*100,0)","v":0}]
[null,null,{"$f":"WorkforceAnalysis!G$11+3","v":3},{"$f":"D43","v":0},{"$f":"E43","v":0},0,null,null,{"$f":"Goals!D368","v":0},{"$f":"IFERROR(F44/I44*100,0)","v":0},null,null,{"$f":"Goals!F368","v":0},{"$f":"IFERROR(F44/M44*100,0)","v":0}]
["05","Supervisors",{"$f":"WorkforceAnalysis!G$11","v":0},{"$f":"K25+P25","v":0},{"$f":"L25+Q25","v":0},0,{"$f":"Goals!C154","v":0},{"$f":"IFERROR(E45/G45*100,0)","v":0},{"$f":"Goals!D154","v":0},0,{"$f":"Goals!E154","v":0},{"$f":"IFERROR(E45/K45*100,0)","v":0},{"$f":"Goals!F154","v":0},{"$f":"IFERROR(F45/M45*100,0)","v":0}]
[null,null,{"$f":"WorkforceAnalysis!G$11+3","v":3},{"$f":"D45","v":0},{"$f":"E45","v":0},0,null,null,{"$f":"Goals!D369","v":0},0,null,null,{"$f":"Goals!F369","v":0},{"$f":"IFERROR(F46/M46*100,0)","v":0}]
["06","Supervisors: Crafts & Trades",{"$f":"WorkforceAnalysis!G$11","v":0},{"$f":"K27+P27","v":0},{"$f":"L27+Q27","v":0},0,{"$f":"Goals!C155","v":0},0,{"$f":"Goals!D155","v":0},0,{"$f":"Goals!E155","v":0},{"$f":"IFERROR(E47/K47*100,0)","v":0},{"$f":"Goals!F155","v":0},{"$f":"IFERROR(F47/M47*100,0)","v":0}]
[null,null,{"$f":"WorkforceAnalysis!G$11+3","v":3},{"$f":"D47","v":0},{"$f":"E47","v":0},0,null,null,{"$f":"Goals!D370","v":0},0,null,null,{"$f":"Goals!F370","v":0},0]
[]
[]
["A","B","C","D","E","F","G","H","I","J","K","L","M","N","O","P","Q","R","S","T","U","V","W","X","Y"]
[]
["Data sources:",null,null,"Part 1: Workforce Analysis","Part 1: Workforce Analysis",null,"Part 1: Workforce Analysis",null,"E - H",null,"Part 2: Flow Data Analysis","Part 2: Flow Data Analysis",null,"K x G ÷ 100","L - N","Part 2: Flow Data Analysis","Part 2: Flow Data Analysis","Q ÷ P x 100 ","P x F ÷ 100","Q - S","Part 2: Flow Data Analysis","Part 2: Flow Data Analysis","V ÷ U x 100 ","U x F ÷ 100","V - X"]
[{"$nulls":5},"E ÷ D",null,"D x G",null,"E ÷ H",null,null,"L ÷ K"]
[{"$nulls":5},"x 100",null,"÷ 100",null,"x 100 ",null,null,"x 100 "]
[]
[null,null,null,"i","i","i","i","i","i","i","i","i","i","i","i","i","i","i","i","i","i","i","i","i","i"]
["Employment Equity Occupational Group (EEOG)",null,"Year","Workforce Analysis",{"$nulls":6},"Flow Data Analysis"]
[null,null,null,"Workforce",{"$nulls":6},"Hires",{"$nulls":4},"Promotions",{"$nulls":4},"Terminations"]
[null,null,null,"All Employees","Persons with Disabilities",{"$nulls":5},"All Employees","Persons with Disabilities",null,null,null,"All Employees","Persons with Disabilities",null,null,null,"All Employees","Persons with Disabilities"]
[{"$nulls":4},"Representation",null,"Availability",null,"Gap","EE Result",null,"Actual",null,"Expected","Difference",null,"Actual",null,"Expected","Difference",null,"Actual",null,"Expected","Difference"]
[null,null,"#","#","#","%","%","#","#","%","#","#","%","#","#","#","#","%","#","#","#","#","%","#","#"]
["07","Administrative & Senior Clerical",{"$f":"WorkforceAnalysis!C$11","v":0},{"$f":"WorkforceAnalysis!C24","v":0},{"$f":"WorkforceAnalysis!D119","v":0},{"$f":"IFERROR(E63/D63*100,0)","v":0},{"$f":"WorkforceAnalysis!E119","v":0},{"$f":"D63*G63/100","v":0},{"$f":"E63-H63","v":0},{"$f":"IFERROR(E63/H63*100,0)","v":0}]
[null,null,{"$f":"WorkforceAnalysis!G$11","v":0},{"$f":"WorkforceAnalysis!G24","v":0},{"$f":"WorkforceAnalysis!H119","v":0},0,{"$f":"WorkforceAnalysis!I119","v":0},0,{"$f":"E64-H64","v":0},0,{"$f":"FlowDataAnalysis!C22+FlowDataAnalysis!E22","v":0},{"$f":"FlowDataAnalysis!D76+FlowDataAnalysis!F76","v":0},{"$f":"IFERROR(L64/K64*100,0)","v":0},{"$f":"K64*G64/100","v":0},{"$f":"L64-N64","v":0},{"$f":"FlowDataAnalysis!H22+FlowDataAnalysis!J22","v":0},{"$f":"FlowDataAnalysis!I76+FlowDataAnalysis!K76","v":0},{"$f":"IFERROR(Q64/P64*100,0)","v":0},{"$f":"P64*$F$63/100","v":0},{"$f":"Q64-S64","v":0},{"$f":"FlowDataAnalysis!M22+FlowDataAnalysis!O22","v":0},{"$f":"FlowDataAnalysis!N76+FlowDataAnalysis!P76","v":0},{"$f":"IFERROR(V64/U64*100,0)","v":0},{"$f":"U64*$F$63/100","v":0},{"$f":"V64-X64","v":0}]
["08","Skilled Sales & Service Personnel ",{"$f":"WorkforceAnalysis!C$11","v":0},{"$f":"WorkforceAnalysis!C25","v":0},{"$f":"WorkforceAnalysis!D120","v":0},0,{"$f":"WorkforceAnalysis!E120","v":0},0,{"$f":"E65-H65","v":0},0]
[null,null,{"$f":"WorkforceAnalysis!G$11","v":0},{"$f":"WorkforceAnalysis!G25","v":0},{"$f":"WorkforceAnalysis!H120","v":0},0,{"$f":"WorkforceAnalysis!I120","v":0},0,{"$f":"E66-H66","v":0},0,{"$f":"FlowDataAnalysis!C23+FlowDataAnalysis!E23","v":0},{"$f":"FlowDataAnalysis!D77+FlowDataAnalysis!F77","v":0},{"$f":"IFERROR(L66/K66*100,0)","v":0},{"$f":"K66*G66/100","v":0},{"$f":"L66-N66","v":0},{"$f":"FlowDataAnalysis!H23+FlowDataAnalysis!J23","v":0},{"$f":"FlowDataAnalysis!I77+FlowDataAnalysis!K77","v":0},{"$f":"IFERROR(Q66/P66*100,0)","v":0},{"$f":"P66*$F$65/100","v":0},{"$f":"Q66-S66","v":0},{"$f":"FlowDataAnalysis!M23+FlowDataAnalysis!O23","v":0},{"$f":"FlowDataAnalysis!N77+FlowDataAnalysis!P77","v":0},{"$f":"IFERROR(V66/U66*100,0)","v":0},{"$f":"U66*$F$65/100","v":0},{"$f":"V66-X66","v":0}]
["09","Skilled Crafts & Trades Workers ",{"$f":"WorkforceAnalysis!C$11","v":0},{"$f":"WorkforceAnalysis!C26","v":0},{"$f":"WorkforceAnalysis!D121","v":0},0,{"$f":"WorkforceAnalysis!E121","v":0},0,{"$f":"E67-H67","v":0},0]
[null,null,{"$f":"WorkforceAnalysis!G$11","v":0},{"$f":"WorkforceAnalysis!G26","v":0},{"$f":"WorkforceAnalysis!H121","v":0},0,{"$f":"WorkforceAnalysis!I121","v":0},0,{"$f":"E68-H68","v":0},0,{"$f":"FlowDataAnalysis!C24+FlowDataAnalysis!E24","v":0},{"$f":"FlowDataAnalysis!D78+FlowDataAnalysis!F78","v":0},{"$f":"IFERROR(L68/K68*100,0)","v":0},{"$f":"K68*G68/100","v":0},{"$f":"L68-N68","v":0},{"$f":"FlowDataAnalysis!H24+FlowDataAnalysis!J24","v":0},{"$f":"FlowDataAnalysis!I78+FlowDataAnalysis!K78","v":0},{"$f":"IFERROR(Q68/P68*100,0)","v":0},{"$f":"P68*$F$67/100","v":0},{"$f":"Q68-S68","v":0},{"$f":"FlowDataAnalysis!M24+FlowDataAnalysis!O24","v":0},{"$f":"FlowDataAnalysis!N78+FlowDataAnalysis!P78","v":0},{"$f":"IFERROR(V68/U68*100,0)","v":0},{"$f":"U68*$F$67/100","v":0},{"$f":"V68-X68","v":0}]
[10,"Clerical Personnel",{"$f":"WorkforceAnalysis!C$11","v":0},{"$f":"WorkforceAnalysis!C27","v":0},{"$f":"WorkforceAnalysis!D122","v":0},{"$f":"IFERROR(E69/D69*100,0)","v":0},{"$f":"WorkforceAnalysis!E122","v":0},{"$f":"D69*G69/100","v":0},{"$f":"E69-H69","v":0},{"$f":"IFERROR(E69/H69*100,0)","v":0}]
[null,null,{"$f":"WorkforceAnalysis!G$11","v":0},{"$f":"WorkforceAnalysis!G27","v":0},{"$f":"WorkforceAnalysis!H122","v":0},0,{"$f":"WorkforceAnalysis!I122","v":0},0,{"$f":"E70-H70","v":0},0,{"$f":"FlowDataAnalysis!C25+FlowDataAnalysis!E25","v":0},{"$f":"FlowDataAnalysis!D79+FlowDataAnalysis!F79","v":0},{"$f":"IFERROR(L70/K70*100,0)","v":0},{"$f":"K70*G70/100","v":0},{"$f":"L70-N70","v":0},{"$f":"FlowDataAnalysis!H25+FlowDataAnalysis!J25","v":0},{"$f":"FlowDataAnalysis!I79+FlowDataAnalysis!K79","v":0},{"$f":"IFERROR(Q70/P70*100,0)","v":0},{"$f":"P70*$F$69/100","v":0},{"$f":"Q70-S70","v":0},{"$f":"FlowDataAnalysis!M25+FlowDataAnalysis!O25","v":0},{"$f":"FlowDataAnalysis!N79+FlowDataAnalysis!P79","v":0},{"$f":"IFERROR(V70/U70*100,0)","v":0},{"$f":"U70*$F$69/100","v":0},{"$f":"V70-X70","v":0}]
[11,"Intermediate Sales & Service Personnel",{"$f":"WorkforceAnalysis!C$11","v":0},{"$f":"WorkforceAnalysis!C28","v":0},{"$f":"WorkforceAnalysis!D123","v":0},0,{"$f":"WorkforceAnalysis!E123","v":0},0,{"$f":"E71-H71","v":0},0]
[null,null,{"$f":"WorkforceAnalysis!G$11","v":0},{"$f":"WorkforceAnalysis!G28","v":0},{"$f":"WorkforceAnalysis!H123","v":0},0,{"$f":"WorkforceAnalysis!I123","v":0},0,{"$f":"E72-H72","v":0},0,{"$f":"FlowDataAnalysis!C26+FlowDataAnalysis!E26","v":0},{"$f":"FlowDataAnalysis!D80+FlowDataAnalysis!F80","v":0},{"$f":"IFERROR(L72/K72*100,0)","v":0},{"$f":"K72*G72/100","v":0},{"$f":"L72-N72","v":0},{"$f":"FlowDataAnalysis!H26+FlowDataAnalysis!J26","v":0},{"$f":"FlowDataAnalysis!I80+FlowDataAnalysis!K80","v":0},{"$f":"IFERROR(Q72/P72*100,0)","v":0},{"$f":"P72*$F$71/100","v":0},{"$f":"Q72-S72","v":0},{"$f":"FlowDataAnalysis!M26+FlowDataAnalysis!O26","v":0},{"$f":"FlowDataAnalysis!N80+FlowDataAnalysis!P80","v":0},{"$f":"IFERROR(V72/U72*100,0)","v":0},{"$f":"U72*$F$71/100","v":0},{"$f":"V72-X72","v":0}]
[12,"Semi-Skilled Manual Workers",{"$f":"WorkforceAnalysis!C$11","v":0},{"$f":"WorkforceAnalysis!C29","v":0},{"$f":"WorkforceAnalysis!D124","v":0},0,{"$f":"WorkforceAnalysis!E124","v":0},0,{"$f":"E73-H73","v":0},0]
[null,null,{"$f":"WorkforceAnalysis!G$11","v":0},{"$f":"WorkforceAnalysis!G29","v":0},{"$f":"WorkforceAnalysis!H124","v":0},0,{"$f":"WorkforceAnalysis!I124","v":0},0,{"$f":"E74-H74","v":0},0,{"$f":"FlowDataAnalysis!C27+FlowDataAnalysis!E27","v":0},{"$f":"FlowDataAnalysis!D81+FlowDataAnalysis!F81","v":0},{"$f":"IFERROR(L74/K74*100,0)","v":0},{"$f":"K74*G74/100","v":0},{"$f":"L74-N74","v":0},{"$f":"FlowDataAnalysis!H27+FlowDataAnalysis!J27","v":0},{"$f":"FlowDataAnalysis!I81+FlowDataAnalysis!K81","v":0},{"$f":"IFERROR(Q74/P74*100,0)","v":0},{"$f":"P74*$F$73/100","v":0},{"$f":"Q74-S74","v":0},{"$f":"FlowDataAnalysis!M27+FlowDataAnalysis!O27","v":0},{"$f":"FlowDataAnalysis!N81+FlowDataAnalysis!P81","v":0},{"$f":"IFERROR(V74/U74*100,0)","v":0},{"$f":"U74*$F$73/100","v":0},{"$f":"V74-X74","v":0}]
[]
["Data sources:",null,null,"Part 2: Flow Data Analysis","Part 2: Flow Data Analysis","E ÷ D x 100","Part 3: Goals","E ÷ G x 100","Part 3: Goals","F ÷ I x 100 ","Part 3: Goals","E ÷ K x 100","Part 3: Goals","F ÷ M x 100 "]
[]
[]
[]
[null,null,null,"i","i","i","i","i","i","i","i","i","i","i"]
["Employment Equity Occupational Group (EEOG)",null,"Year","New Entrants",null,null,"Goals",{"$nulls":7},"Comments"]
[null,null,null,"Flow Data",null,null,"Short-term Goals",null,null,null,"Long-term Goals"]
[null,null,null,"All Employees","Persons with Disabilities",null,"Persons with Disabilities",null,null,null,"Persons with Disabilities"]
[{"$nulls":4},"Actual",null,"Goal","Percent of Goal Met","Goal","Percent of Goal Met","Goal","Percent of Goal Met","Goal","Percent of Goal Met"]
[null,null,"#","#","#","%","#","%","%","%","#","%","%","%"]
["07","Administrative & Senior Clerical",{"$f":"WorkforceAnalysis!G$11","v":0},{"$f":"K64+P64","v":0},{"$f":"L64+Q64","v":0},{"$f":"IFERROR(E86/D86*100,0)","v":0},{"$f":"Goals!C156","v":0},{"$f":"IFERROR(E86/G86*100,0)","v":0},{"$f":"Goals!D156","v":0},{"$f":"IFERROR(F86/I86*100,0)","v":0},{"$f":"Goals!E156","v":0},{"$f":"IFERROR(E86/K86*100,0)","v":0},{"$f":"Goals!F156","v":0},{"$f":"IFERROR(F86/M86*100,0)","v":0}]
[null,null,{"$f":"WorkforceAnalysis!G$11+3","v":3},{"$f":"D86","v":0},{"$f":"E86","v":0},0,null,null,{"$f":"Goals!D371","v":0},{"$f":"IFERROR(F87/I87*100,0)","v":0},null,null,{"$f":"Goals!F371","v":0},0]
["08","Skilled Sales & Service Personnel ",{"$f":"WorkforceAnalysis!G$11","v":0},{"$f":"K66+P66","v":0},{"$f":"L66+Q66","v":0},0,{"$f":"Goals!C157","v":0},{"$f":"IFERROR(E88/G88*100,0)","v":0},{"$f":"Goals!D157","v":0},0,{"$f":"Goals!E157","v":0},0,{"$f":"Goals!F157","v":0},0]
[null,null,{"$f":"WorkforceAnalysis!G$11+3","v":3},{"$f":"D88","v":0},{"$f":"E88","v":0},0,null,null,{"$f":"Goals!D372","v":0},0,null,null,{"$f":"Goals!F372","v":0},0]
["09","Skilled Crafts & Trades Workers ",{"$f":"WorkforceAnalysis!G$11","v":0},{"$f":"K68+P68","v":0},{"$f":"L68+Q68","v":0},0,{"$f":"Goals!C158","v":0},0,{"$f":"Goals!D158","v":0},0,{"$f":"Goals!E158","v":0},0,{"$f":"Goals!F158","v":0},0]
[null,null,{"$f":"WorkforceAnalysis!G$11+3","v":3},{"$f":"D90","v":0},{"$f":"E90","v":0},0,null,null,{"$f":"Goals!D373","v":0},0,null,null,{"$f":"Goals!F373","v":0},0]
[10,"Clerical Personnel",{"$f":"WorkforceAnalysis!G$11","v":0},{"$f":"K70+P70","v":0},{"$f":"L70+Q70","v":0},{"$f":"IFERROR(E92/D92*100,0)","v":0},{"$f":"Goals!C159","v":0},{"$f":"IFERROR(E92/G92*100,0)","v":0},{"$f":"Goals!D159","v":0},{"$f":"IFERROR(F92/I92*100,0)","v":0},{"$f":"Goals!E159","v":0},{"$f":"IFERROR(E92/K92*100,0)","v":0},{"$f":"Goals!F159","v":0},{"$f":"IFERROR(F92/M92*100,0)","v":0}]
[null,null,{"$f":"WorkforceAnalysis!G$11+3","v":3},{"$f":"D92","v":0},{"$f":"E92","v":0},0,null,null,{"$f":"Goals!D374","v":0},{"$f":"IFERROR(F93/I93*100,0)","v":0},null,null,{"$f":"Goals!F374","v":0},0]
[11,"Intermediate Sales & Service Personnel",{"$f":"WorkforceAnalysis!G$11","v":0},{"$f":"K72+P72","v":0},{"$f":"L72+Q72","v":0},0,{"$f":"Goals!C160","v":0},{"$f":"IFERROR(E94/G94*100,0)","v":0},{"$f":"Goals!D160","v":0},0,{"$f":"Goals!E160","v":0},0,{"$f":"Goals!F160","v":0},0]
[null,null,{"$f":"WorkforceAnalysis!G$11+3","v":3},{"$f":"D94","v":0},{"$f":"E94","v":0},0,null,null,{"$f":"Goals!D375","v":0},0,null,null,{"$f":"Goals!F375","v":0},0]
[12,"Semi-Skilled Manual Workers",{"$f":"WorkforceAnalysis!G$11","v":0},{"$f":"K74+P74","v":0},{"$f":"L74+Q74","v":0},0,{"$f":"Goals!C161","v":0},0,{"$f":"Goals!D161","v":0},0,{"$f":"Goals!E161","v":0},0,{"$f":"Goals!F161","v":0},0]
[null,null,{"$f":"WorkforceAnalysis!G$11+3","v":3},{"$f":"D96","v":0},{"$f":"E96","v":0},0,null,null,{"$f":"Goals!D376","v":0},0,null,null,{"$f":"Goals!F376","v":0},0]
[]
[]
["A","B","C","D","E","F","G","H","I","J","K","L","M","N","O","P","Q","R","S","T","U","V","W","X","Y"]
[]
["Data sources:",null,null,"Part 1: Workforce Analysis","Part 1: Workforce Analysis",null,"Part 1: Workforce Analysis",null,"E - H",null,"Part 2: Flow Data Analysis","Part 2: Flow Data Analysis",null,"K x G ÷ 100","L - N","Part 2: Flow Data Analysis","Part 2: Flow Data Analysis","Q ÷ P x 100 ","P x F ÷ 100","Q - S","Part 2: Flow Data Analysis","Part 2: Flow Data Analysis","V ÷ U x 100 ","U x F ÷ 100","V - X"]
[{"$nulls":5},"E ÷ D",null,"D x G",null,"E ÷ H",null,null,"L ÷ K"]
[{"$nulls":5},"x 100",null,"÷ 100",null,"x 100 ",null,null,"x 100 "]
[]
[null,null,null,"i","i","i","i","i","i","i","i","i","i","i","i","i","i","i","i","i","i","i","i","i","i"]
["Employment Equity Occupational Group (EEOG)",null,"Year","Workforce Analysis",{"$nulls":6},"Flow Data Analysis"]
[null,null,null,"Workforce",{"$nulls":6},"Hires",{"$nulls":4},"Promotions",{"$nulls":4},"Terminations"]
[null,null,null,"All Employees","Persons with Disabilities",{"$nulls":5},"All Employees","Persons with Disabilities",null,null,null,"All Employees","Persons with Disabilities",null,null,null,"All Employees","Persons with Disabilities"]
[{"$nulls":4},"Representation",null,"Availability",null,"Gap","EE Result",null,"Actual",null,"Expected","Difference",null,"Actual",null,"Expected","Difference",null,"Actual",null,"Expected","Difference"]
[null,null,"#","#","#","%","%","#","#","%","#","#","%","#","#","#","#","%","#","#","#","#","%","#","#"]
[13,"Other Sales & Service Personnel ",{"$f":"WorkforceAnalysis!C$11","v":0},{"$f":"WorkforceAnalysis!C30","v":0},{"$f":"WorkforceAnalysis!D125","v":0},{"$f":"IFERROR(E112/D112*100,0)","v":0},{"$f":"WorkforceAnalysis!E125","v":0},{"$f":"D112*G112/100","v":0},{"$f":"E112-H112","v":0},{"$f":"IFERROR(E112/H112*100,0)","v":0}]
[null,null,{"$f":"WorkforceAnalysis!G$11","v":0},{"$f":"WorkforceAnalysis!G30","v":0},{"$f":"WorkforceAnalysis!H125","v":0},0,{"$f":"WorkforceAnalysis!I125","v":0},0,{"$f":"E113-H113","v":0},0,{"$f":"FlowDataAnalysis!C28+FlowDataAnalysis!E28","v":0},{"$f":"FlowDataAnalysis!D82+FlowDataAnalysis!F82","v":0},{"$f":"IFERROR(L113/K113*100,0)","v":0},{"$f":"K113*G113/100","v":0},{"$f":"L113-N113","v":0},{"$f":"FlowDataAnalysis!H28+FlowDataAnalysis!J28","v":0},{"$f":"FlowDataAnalysis!I82+FlowDataAnalysis!K82","v":0},{"$f":"IFERROR(Q113/P113*100,0)","v":0},{"$f":"P113*$F$112/100","v":0},{"$f":"Q113-S113","v":0},{"$f":"FlowDataAnalysis!M28+FlowDataAnalysis!O28","v":0},{"$f":"FlowDataAnalysis!N82+FlowDataAnalysis!P82","v":0},{"$f":"IFERROR(V113/U113*100,0)","v":0},{"$f":"U113*$F$112/100","v":0},{"$f":"V113-X113","v":0}]
[14,"Other Manual Workers",{"$f":"WorkforceAnalysis!C$11","v":0},{"$f":"WorkforceAnalysis!C31","v":0},{"$f":"WorkforceAnalysis!D126","v":0},0,{"$f":"WorkforceAnalysis!E126","v":0},0,{"$f":"E114-H114","v":0},0]
[null,null,{"$f":"WorkforceAnalysis!G$11","v":0},{"$f":"WorkforceAnalysis!G31","v":0},{"$f":"WorkforceAnalysis!H126","v":0},0,{"$f":"WorkforceAnalysis!I126","v":0},0,{"$f":"E115-H115","v":0},0,{"$f":"FlowDataAnalysis!C29+FlowDataAnalysis!E29","v":0},{"$f":"FlowDataAnalysis!D83+FlowDataAnalysis!F83","v":0},{"$f":"IFERROR(L115/K115*100,0)","v":0},{"$f":"K115*G115/100","v":0},{"$f":"L115-N115","v":0},{"$f":"FlowDataAnalysis!H29+FlowDataAnalysis!J29","v":0},{"$f":"FlowDataAnalysis!I83+FlowDataAnalysis!K83","v":0},{"$f":"IFERROR(Q115/P115*100,0)","v":0},{"$f":"P115*$F$114/100","v":0},{"$f":"Q115-S115","v":0},{"$f":"FlowDataAnalysis!M29+FlowDataAnalysis!O29","v":0},{"$f":"FlowDataAnalysis!N83+FlowDataAnalysis!P83","v":0},{"$f":"IFERROR(V115/U115*100,0)","v":0},{"$f":"U115*$F$114/100","v":0},{"$f":"V115-X115","v":0}]
["Total",null,{"$f":"WorkforceAnalysis!C$11","v":0},{"$f":"WorkforceAnalysis!C32","v":0},{"$f":"WorkforceAnalysis!D127","v":0},0,{"$f":"WorkforceAnalysis!E127","v":0},0,{"$f":"E116-H116","v":0},0]
[null,null,{"$f":"WorkforceAnalysis!G$11","v":0},{"$f":"WorkforceAnalysis!G32","v":0},{"$f":"WorkforceAnalysis!H127","v":0},0,{"$f":"WorkforceAnalysis!I127","v":0},0,{"$f":"E117-H117","v":0},0,{"$f":"FlowDataAnalysis!C30+FlowDataAnalysis!E30","v":0},{"$f":"FlowDataAnalysis!D84+FlowDataAnalysis!F84","v":0},{"$f":"IFERROR(L117/K117*100,0)","v":0},{"$f":"K117*G117/100","v":0},{"$f":"L117-N117","v":0},{"$f":"FlowDataAnalysis!H30+FlowDataAnalysis!J30","v":0},{"$f":"FlowDataAnalysis!I84+FlowDataAnalysis!K84","v":0},{"$f":"IFERROR(Q117/P117*100,0)","v":0},{"$f":"P117*$F$116/100","v":0},{"$f":"Q117-S117","v":0},{"$f":"FlowDataAnalysis!M30+FlowDataAnalysis!O30","v":0},{"$f":"FlowDataAnalysis!N84+FlowDataAnalysis!P84","v":0},{"$f":"IFERROR(V117/U117*100,0)","v":0},{"$f":"U117*$F$116/100","v":0},{"$f":"V117-X117","v":0}]
[]
["Data sources:",null,null,"Part 2: Flow Data Analysis","Part 2: Flow Data Analysis","E ÷ D x 100","Part 3: Goals","E ÷ G x 100","Part 3: Goals","F ÷ I x 100 ","Part 3: Goals","E ÷ K x 100","Part 3: Goals","F ÷ M x 100 "]
[]
[]
[]
[null,null,null,"i","i","i","i","i","i","i","i","i","i","i"]
["Employment Equity Occupational Group (EEOG)",null,"Year","New Entrants",null,null,"Goals",{"$nulls":7},"Comments"]
[null,null,null,"Flow Data",null,null,"Short-term Goals",null,null,null,"Long-term Goals"]
[null,null,null,"All Employees","Persons with Disabilities",null,"Persons with Disabilities",null,null,null,"Persons with Disabilities"]
[{"$nulls":4},"Actual",null,"Goal","Percent of Goal Met","Goal","Percent of Goal Met","Goal","Percent of Goal Met","Goal","Percent of Goal Met"]
[null,null,"#","#","#","%","#","%","%","%","#","%","%","%"]
[13,"Other Sales & Service Personnel ",{"$f":"WorkforceAnalysis!G$11","v":0},{"$f":"K113+P113","v":0},{"$f":"L113+Q113","v":0},{"$f":"IFERROR(E129/D129*100,0)","v":0},{"$f":"Goals!C162","v":0},{"$f":"IFERROR(E129/G129*100,0)","v":0},{"$f":"Goals!D162","v":0},{"$f":"IFERROR(F129/I129*100,0)","v":0},{"$f":"Goals!E162","v":0},{"$f":"IFERROR(E129/K129*100,0)","v":0},{"$f":"Goals!F162","v":0},{"$f":"IFERROR(F129/M129*100,0)","v":0}]
[null,null,{"$f":"WorkforceAnalysis!G$11+3","v":3},{"$f":"D129","v":0},{"$f":"E129","v":0},0,null,null,{"$f":"Goals!D377","v":0},{"$f":"IFERROR(F130/I130*100,0)","v":0},null,null,{"$f":"Goals!F377","v":0},0]
[14,"Other Manual Workers",{"$f":"WorkforceAnalysis!G$11","v":0},{"$f":"K115+P115","v":0},{"$f":"L115+Q115","v":0},0,{"$f":"Goals!C163","v":0},{"$f":"IFERROR(E131/G131*100,0)","v":0},{"$f":"Goals!D163","v":0},0,{"$f":"Goals!E163","v":0},0,{"$f":"Goals!F163","v":0},0]
[null,null,{"$f":"WorkforceAnalysis!G$11+3","v":3},{"$f":"D131","v":0},{"$f":"E131","v":0},0,null,null,{"$f":"Goals!D378","v":0},0,null,null,{"$f":"Goals!F378","v":0},0]
["Total",null,{"$f":"WorkforceAnalysis!G$11","v":0},{"$f":"K117+P117","v":0},{"$f":"L117+Q117","v":0},0,{"$f":"Goals!C164","v":0},0,{"$f":"Goals!D164","v":0},0,{"$f":"Goals!E164","v":0},0,{"$f":"Goals!F164","v":0},0]
[null,null,{"$f":"WorkforceAnalysis!G$11+3","v":3},{"$f":"D133","v":0},{"$f":"E133","v":0},0,null,null,{"$f":"Goals!D379","v":0},0,null,null,{"$f":"Goals!F379","v":0},0]

{"sheet":"ResultsVisibleMinorities","index":6,"n_rows":138,"n_cols":25,"rows_kept":138,"cut":false,"hidden":false,"merged":[[7,0,10,1],[7,2,10,2],[7,3,10,3],[7,4,10,4],[7,6,10,6],[7,8,10,8],[7,23,10,23],[7,24,10,24],[0,0,0,24],[1,0,1,24],[2,0,2,24],[3,0,3,24],[13,15,13,19],[7,17,10,17],[7,18,10,18],[7,19,10,19],[7,20,10,20],[7,21,10,21],[7,22,10,22],[7,10,10,10],[7,11,10,11],[7,13,10,13],[7,14,10,14],[7,15,10,15],[7,16,10,16],[12,10,12,24],[13,20,13,24],[17,0,18,0],[17,1,18,1],[19,0,20,0],[19,1,20,1],[21,0,22,0],[21,1,22,1],[14,20,15,20],[14,21,14,24],[15,4,15,5],[15,6,15,7],[15,11,15,12],[15,16,15,17],[15,21,15,22],[14,3,15,3],[14,4,14,9],[14,10,15,10],[14,11,14,14],[14,15,15,15],[14,16,14,19],[12,0,16,1],[12,2,15,2],[12,3,12,9],[13,3,13,9],[13,10,13,14],[30,10,33,10],[30,11,33,11],[30,12,33,12],[30,0,33,1],[30,2,33,2],[30,3,33,3],[30,4,33,4],[30,5,33,5],[30,6,33,6],[30,19,33,19],[30,20,33,20],[30,21,33,21],[30,22,33,22],[30,23,33,23],[30,24,33,24],[30,13,33,13],[30,14,33,14],[30,15,33,15],[30,16,33,16],[30,17,33,17],[30,18,33,18],[37,10,37,13],[38,4,38,5],[40,0,41,0],[40,1,41,1],[35,0,39,1],[35,2,38,2],[35,3,35,5],[35,6,35,13],[36,3,36,5],[36,6,36,9],[36,10,36,13],[37,3,38,3],[37,4,37,5],[23,0,24,0],[23,1,24,1],[25,0,26,0],[25,1,26,1],[27,0,28,0],[27,1,28,1],[44,0,45,0],[44,1,45,1],[37,6,37,9],[42,0,43,0],[42,1,43,1],[30,7,33,7],[30,8,33,8],[30,9,33,9],[46,0,47,0],[46,1,47,1],[56,0,59,1],[56,2,59,2],[56,3,59,3],[56,4,59,4],[56,6,59,6],[56,8,59,8],[48,0,49,0],[48,1,49,1],[50,0,51,0],[50,1,51,1],[56,20,59,20],[56,21,59,21],[56,22,59,22],[56,10,59,10],[56,11,59,11],[56,13,59,13],[56,14,59,14],[56,15,59,15],[56,16,59,16],[66,0,67,0],[66,1,67,1],[68,0,69,0],[68,1,69,1],[70,0,71,0],[70,1,71,1],[63,20,64,20],[63,21,63,24],[64,4,64,5],[64,6,64,7],[64,11,64,12],[64,16,64,17],[64,21,64,22],[63,3,64,3],[63,4,63,9],[63,10,64,10],[63,11,63,14],[63,15,64,15],[63,16,63,19],[61,0,65,1],[61,2,64,2],[61,3,61,9],[62,3,62,9],[62,10,62,14],[79,7,82,7],[79,8,82,8],[79,9,82,9],[79,10,82,10],[79,11,82,11],[79,12,82,12],[79,0,82,1],[79,2,82,2],[79,3,82,3],[79,4,82,4],[79,5,82,5],[79,6,82,6],[72,0,73,0],[72,1,73,1],[74,0,75,0],[74,1,75,1],[76,0,77,0],[76,1,77,1],[93,0,94,0],[93,1,94,1],[86,6,86,9],[87,4,87,5],[89,0,90,0],[89,1,90,1],[84,0,88,1],[84,2,87,2],[84,3,84,5],[84,6,84,13],[85,3,85,5],[85,6,85,9],[85,10,85,13],[86,3,87,3],[86,4,86,5],[91,0,92,0],[91,1,92,1],[79,13,82,13],[97,0,98,0],[97,1,98,1],[99,0,100,0],[99,1,100,1],[105,23,108,23],[105,24,108,24],[95,0,96,0],[95,1,96,1],[105,13,108,13],[105,14,108,14],[105,15,108,15],[105,16,108,16],[105,0,108,1],[105,2,108,2],[105,22,108,22],[105,10,108,10],[105,11,108,11],[111,15,111,19],[110,10,110,24],[111,20,111,24],[115,0,116,0],[115,1,116,1],[112,20,113,20],[112,21,112,24],[105,3,108,3],[105,4,108,4],[105,6,108,6],[105,8,108,8],[113,16,113,17],[113,21,113,22],[112,3,113,3],[112,4,112,9],[112,10,113,10],[112,11,112,14],[112,15,113,15],[112,16,112,19],[105,17,108,17],[105,18,108,18],[105,19,108,19],[105,20,108,20],[105,21,108,21],[117,0,118,0],[117,1,118,1],[119,0,120,1],[122,0,125,1],[113,4,113,5],[113,6,113,7],[113,11,113,12],[122,8,125,8],[122,9,125,9],[122,10,125,10],[122,11,125,11],[122,12,125,12],[110,0,114,1],[110,2,113,2],[110,3,110,9],[111,3,111,9],[111,10,111,14],[122,13,125,13],[122,2,125,2],[122,3,125,3],[122,4,125,4],[122,5,125,5],[122,6,125,6],[122,7,125,7],[127,14,131,24],[132,14,133,24],[134,14,135,24],[136,14,137,24],[122,20,125,20],[122,21,125,21],[122,22,125,22],[122,23,125,23],[122,24,125,24],[122,14,125,14],[122,15,125,15],[122,16,125,16],[122,17,125,17],[122,18,125,18],[122,19,125,19],[136,0,137,1],[132,0,133,0],[132,1,133,1],[134,0,135,0],[134,1,135,1],[128,3,128,5],[128,6,128,9],[128,10,128,13],[129,3,130,3],[129,4,129,5],[129,6,129,9],[129,10,129,13],[130,4,130,5],[127,0,131,1],[127,2,130,2],[127,3,127,5],[127,6,127,13],[79,21,82,21],[79,22,82,22],[79,23,82,23],[79,24,82,24],[79,14,82,14],[79,15,82,15],[79,16,82,16],[79,17,82,17],[79,18,82,18],[79,20,82,20],[86,10,86,13],[56,23,59,23],[56,24,59,24],[35,14,39,24],[84,14,88,24],[95,14,96,24],[97,14,98,24],[99,14,100,24],[89,14,90,24],[91,14,92,24],[93,14,94,24],[46,14,47,24],[48,14,49,24],[50,14,51,24],[40,14,41,24],[42,14,43,24],[44,14,45,24],[62,15,62,19],[56,17,59,17],[56,18,59,18],[56,19,59,19],[61,10,61,24],[62,20,62,24],[79,19,82,19]]}
["Federal Contractors Program Achievement Report"]
["Part 7: Results - Members of Visible Minorities"]
[{"$f":"WorkforceAnalysis!A3:I3","v":"[Organization's Legal Name]"}]
[{"$f":"WorkforceAnalysis!A4:I4","v":"YYYY-MM-DD"}]
[]
["A","B","C","D","E","F","G","H","I","J","K","L","M","N","O","P","Q","R","S","T","U","V","W","X","Y"]
[]
["Data sources:",null,null,"Part 1: Workforce Analysis","Part 1: Workforce Analysis",null,"Part 1: Workforce Analysis",null,"E - H",null,"Part 2: Flow Data Analysis","Part 2: Flow Data Analysis",null,"K x G ÷ 100","L - N","Part 2: Flow Data Analysis","Part 2: Flow Data Analysis","Q ÷ P x 100 ","P x F ÷ 100","Q - S","Part 2: Flow Data Analysis","Part 2: Flow Data Analysis","V ÷ U x 100 ","U x F ÷ 100","V - X"]
[{"$nulls":5},"E ÷ D",null,"D x G",null,"E ÷ H",null,null,"L ÷ K"]
[{"$nulls":5},"x 100",null,"÷ 100",null,"x 100 ",null,null,"x 100 "]
[]
[null,null,null,"i","i","i","i","i","i","i","i","i","i","i","i","i","i","i","i","i","i","i","i","i","i"]
["Employment Equity Occupational Group (EEOG)",null,"Year","Workforce Analysis",{"$nulls":6},"Flow Data Analysis"]
[null,null,null,"Workforce",{"$nulls":6},"Hires",{"$nulls":4},"Promotions",{"$nulls":4},"Terminations"]
[null,null,null,"All Employees","Visible Minorities",{"$nulls":5},"All Employees","Visible Minorities",null,null,null,"All Employees","Visible Minorities",null,null,null,"All Employees","Visible Minorities"]
[{"$nulls":4},"Representation",null,"Availability",null,"Gap","EE Result",null,"Actual",null,"Expected","Difference",null,"Actual",null,"Expected","Difference",null,"Actual",null,"Expected","Difference"]
[null,null,"#","#","#","%","%","#","#","%","#","#","%","#","#","#","#","%","#","#","#","#","%","#","#"]
["01","Senior Managers",{"$f":"WorkforceAnalysis!C$11","v":0},{"$f":"WorkforceAnalysis!C18","v":0},{"$f":"WorkforceAnalysis!D82","v":0},{"$f":"IFERROR(E18/D18*100,0)","v":0},{"$f":"WorkforceAnalysis!E82","v":0},{"$f":"D18*G18/100","v":0},{"$f":"E18-H18","v":0},{"$f":"IFERROR(E18/H18*100,0)","v":0}]
[null,null,{"$f":"WorkforceAnalysis!G$11","v":0},{"$f":"WorkforceAnalysis!G18","v":0},{"$f":"WorkforceAnalysis!H82","v":0},0,{"$f":"WorkforceAnalysis!I82","v":0},0,{"$f":"E19-H19","v":0},0,{"$f":"FlowDataAnalysis!C16+FlowDataAnalysis!E16","v":0},{"$f":"FlowDataAnalysis!D97+FlowDataAnalysis!F97","v":0},{"$f":"IFERROR(L19/K19*100,0)","v":0},{"$f":"K19*G19/100","v":0},{"$f":"L19-N19","v":0},{"$f":"FlowDataAnalysis!H16+FlowDataAnalysis!J16","v":0},{"$f":"FlowDataAnalysis!I97+FlowDataAnalysis!K97","v":0},{"$f":"IFERROR(Q19/P19*100,0)","v":0},{"$f":"P19*$F$18/100","v":0},{"$f":"Q19-S19","v":0},{"$f":"FlowDataAnalysis!M16+FlowDataAnalysis!O16","v":0},{"$f":"FlowDataAnalysis!N97+FlowDataAnalysis!P97","v":0},{"$f":"IFERROR(V19/U19*100,0)","v":0},{"$f":"U19*$F$18/100","v":0},{"$f":"V19-X19","v":0}]
["02","Middle & Other Managers",{"$f":"WorkforceAnalysis!C$11","v":0},{"$f":"WorkforceAnalysis!C19","v":0},{"$f":"WorkforceAnalysis!D83","v":0},0,{"$f":"WorkforceAnalysis!E83","v":0},0,{"$f":"E20-H20","v":0},0]
[null,null,{"$f":"WorkforceAnalysis!G$11","v":0},{"$f":"WorkforceAnalysis!G19","v":0},{"$f":"WorkforceAnalysis!H83","v":0},0,{"$f":"WorkforceAnalysis!I83","v":0},0,0,0,{"$f":"FlowDataAnalysis!C17+FlowDataAnalysis!E17","v":0},{"$f":"FlowDataAnalysis!D98+FlowDataAnalysis!F98","v":0},{"$f":"IFERROR(L21/K21*100,0)","v":0},{"$f":"K21*G21/100","v":0},{"$f":"L21-N21","v":0},{"$f":"FlowDataAnalysis!H17+FlowDataAnalysis!J17","v":0},{"$f":"FlowDataAnalysis!I98+FlowDataAnalysis!K98","v":0},{"$f":"IFERROR(Q21/P21*100,0)","v":0},{"$f":"P21*$F$20/100","v":0},{"$f":"Q21-S21","v":0},{"$f":"FlowDataAnalysis!M17+FlowDataAnalysis!O17","v":0},{"$f":"FlowDataAnalysis!N98+FlowDataAnalysis!P98","v":0},{"$f":"IFERROR(V21/U21*100,0)","v":0},{"$f":"U21*$F$20/100","v":0},{"$f":"V21-X21","v":0}]
["03","Professionals",{"$f":"WorkforceAnalysis!C$11","v":0},{"$f":"WorkforceAnalysis!C20","v":0},{"$f":"WorkforceAnalysis!D84","v":0},0,{"$f":"WorkforceAnalysis!E84","v":0},0,{"$f":"E22-H22","v":0},0]
[null,null,{"$f":"WorkforceAnalysis!G$11","v":0},{"$f":"WorkforceAnalysis!G20","v":0},{"$f":"WorkforceAnalysis!H84","v":0},0,{"$f":"WorkforceAnalysis!I84","v":0},0,0,0,{"$f":"FlowDataAnalysis!C18+FlowDataAnalysis!E18","v":0},{"$f":"FlowDataAnalysis!D99+FlowDataAnalysis!F99","v":0},{"$f":"IFERROR(L23/K23*100,0)","v":0},{"$f":"K23*G23/100","v":0},{"$f":"L23-N23","v":0},{"$f":"FlowDataAnalysis!H18+FlowDataAnalysis!J18","v":0},{"$f":"FlowDataAnalysis!I99+FlowDataAnalysis!K99","v":0},{"$f":"IFERROR(Q23/P23*100,0)","v":0},{"$f":"P23*$F$22/100","v":0},{"$f":"Q23-S23","v":0},{"$f":"FlowDataAnalysis!M18+FlowDataAnalysis!O18","v":0},{"$f":"FlowDataAnalysis!N99+FlowDataAnalysis!P99","v":0},{"$f":"IFERROR(V23/U23*100,0)","v":0},{"$f":"U23*$F$22/100","v":0},{"$f":"V23-X23","v":0}]
["04","Semi-Professionals & Technicians",{"$f":"WorkforceAnalysis!C$11","v":0},{"$f":"WorkforceAnalysis!C21","v":0},{"$f":"WorkforceAnalysis!D85","v":0},{"$f":"IFERROR(E24/D24*100,0)","v":0},{"$f":"WorkforceAnalysis!E85","v":0},{"$f":"D24*G24/100","v":0},{"$f":"E24-H24","v":0},{"$f":"IFERROR(E24/H24*100,0)","v":0}]
[null,null,{"$f":"WorkforceAnalysis!G$11","v":0},{"$f":"WorkforceAnalysis!G21","v":0},{"$f":"WorkforceAnalysis!H85","v":0},0,{"$f":"WorkforceAnalysis!I85","v":0},0,{"$f":"E25-H25","v":0},0,{"$f":"FlowDataAnalysis!C19+FlowDataAnalysis!E19","v":0},{"$f":"FlowDataAnalysis!D100+FlowDataAnalysis!F100","v":0},{"$f":"IFERROR(L25/K25*100,0)","v":0},{"$f":"K25*G25/100","v":0},{"$f":"L25-N25","v":0},{"$f":"FlowDataAnalysis!H19+FlowDataAnalysis!J19","v":0},{"$f":"FlowDataAnalysis!I100+FlowDataAnalysis!K100","v":0},{"$f":"IFERROR(Q25/P25*100,0)","v":0},{"$f":"P25*$F$24/100","v":0},{"$f":"Q25-S25","v":0},{"$f":"FlowDataAnalysis!M19+FlowDataAnalysis!O19","v":0},{"$f":"FlowDataAnalysis!N100+FlowDataAnalysis!P100","v":0},{"$f":"IFERROR(V25/U25*100,0)","v":0},{"$f":"U25*$F$24/100","v":0},{"$f":"V25-X25","v":0}]
["05","Supervisors",{"$f":"WorkforceAnalysis!C$11","v":0},{"$f":"WorkforceAnalysis!C22","v":0},{"$f":"WorkforceAnalysis!D86","v":0},0,{"$f":"WorkforceAnalysis!E86","v":0},0,{"$f":"E26-H26","v":0},0]
[null,null,{"$f":"WorkforceAnalysis!G$11","v":0},{"$f":"WorkforceAnalysis!G22","v":0},{"$f":"WorkforceAnalysis!H86","v":0},0,{"$f":"WorkforceAnalysis!I86","v":0},0,{"$f":"E27-H27","v":0},0,{"$f":"FlowDataAnalysis!C20+FlowDataAnalysis!E20","v":0},{"$f":"FlowDataAnalysis!D101+FlowDataAnalysis!F101","v":0},{"$f":"IFERROR(L27/K27*100,0)","v":0},{"$f":"K27*G27/100","v":0},{"$f":"L27-N27","v":0},{"$f":"FlowDataAnalysis!H20+FlowDataAnalysis!J20","v":0},{"$f":"FlowDataAnalysis!I101+FlowDataAnalysis!K101","v":0},{"$f":"IFERROR(Q27/P27*100,0)","v":0},{"$f":"P27*$F$26/100","v":0},{"$f":"Q27-S27","v":0},{"$f":"FlowDataAnalysis!M20+FlowDataAnalysis!O20","v":0},{"$f":"FlowDataAnalysis!N101+FlowDataAnalysis!P101","v":0},{"$f":"IFERROR(V27/U27*100,0)","v":0},{"$f":"U27*$F$26/100","v":0},{"$f":"V27-X27","v":0}]
["06","Supervisors: Crafts & Trades",{"$f":"WorkforceAnalysis!C$11","v":0},{"$f":"WorkforceAnalysis!C23","v":0},{"$f":"WorkforceAnalysis!D87","v":0},0,{"$f":"WorkforceAnalysis!E87","v":0},0,{"$f":"E28-H28","v":0},0]
[null,null,{"$f":"WorkforceAnalysis!G$11","v":0},{"$f":"WorkforceAnalysis!G23","v":0},{"$f":"WorkforceAnalysis!H87","v":0},0,{"$f":"WorkforceAnalysis!I87","v":0},0,{"$f":"E29-H29","v":0},0,{"$f":"FlowDataAnalysis!C21+FlowDataAnalysis!E21","v":0},{"$f":"FlowDataAnalysis!D102+FlowDataAnalysis!F102","v":0},{"$f":"IFERROR(L29/K29*100,0)","v":0},{"$f":"K29*G29/100","v":0},{"$f":"L29-N29","v":0},{"$f":"FlowDataAnalysis!H21+FlowDataAnalysis!J21","v":0},{"$f":"FlowDataAnalysis!I102+FlowDataAnalysis!K102","v":0},{"$f":"IFERROR(Q29/P29*100,0)","v":0},{"$f":"P29*$F$28/100","v":0},{"$f":"Q29-S29","v":0},{"$f":"FlowDataAnalysis!M21+FlowDataAnalysis!O21","v":0},{"$f":"FlowDataAnalysis!N102+FlowDataAnalysis!P102","v":0},{"$f":"IFERROR(V29/U29*100,0)","v":0},{"$f":"U29*$F$28/100","v":0},{"$f":"V29-X29","v":0}]
[]
["Data sources:",null,null,"Part 2: Flow Data Analysis","Part 2: Flow Data Analysis","E ÷ D x 100","Part 3: Goals","E ÷ G x 100","Part 3: Goals","F ÷ I x 100 ","Part 3: Goals","E ÷ K x 100","Part 3: Goals","F ÷ M x 100 "]
[]
[]
[]
[null,null,null,"i","i","i","i","i","i","i","i","i","i","i"]
["Employment Equity Occupational Group (EEOG)",null,"Year","New Entrants",null,null,"Goals",{"$nulls":7},"Comments"]
[null,null,null,"Flow Data",null,null,"Short-term Goals",null,null,null,"Long-term Goals"]
[null,null,null,"All Employees","Visible Minorities",null,"Visible Minorities",null,null,null,"Visible Minorities"]
[{"$nulls":4},"Actual",null,"Goal","Percent of Goal Met","Goal","Percent of Goal Met","Goal","Percent of Goal Met","Goal","Percent of Goal Met"]
[null,null,"#","#","#","%","#","%","%","%","#","%","%","%"]
["01","Senior Managers",{"$f":"WorkforceAnalysis!G$11","v":0},{"$f":"K19+P19","v":0},{"$f":"L19+Q19","v":0},{"$f":"IFERROR(E41/D41*100,0)","v":0},{"$f":"Goals!C205","v":0},{"$f":"IFERROR(E41/G41*100,0)","v":0},{"$f":"Goals!D205","v":0},{"$f":"IFERROR(F41/I41*100,0)","v":0},{"$f":"Goals!E205","v":0},{"$f":"IFERROR(E41/K41*100,0)","v":0},{"$f":"Goals!F205","v":0},{"$f":"IFERROR(F41/M41*100,0)","v":0}]
[null,null,{"$f":"WorkforceAnalysis!G$11+3","v":3},{"$f":"D41","v":0},{"$f":"E41","v":0},{"$f":"IFERROR(E42/D42*100,0)","v":0},null,null,{"$f":"Goals!D419","v":0},{"$f":"IFERROR(F42/I42*100,0)","v":0},null,null,{"$f":"Goals!F419","v":0},{"$f":"IFERROR(F42/M42*100,0)","v":0}]
["02","Middle & Other Managers",{"$f":"WorkforceAnalysis!G$11","v":0},{"$f":"K21+P21","v":0},{"$f":"L21+Q21","v":0},0,{"$f":"Goals!C206","v":0},{"$f":"IFERROR(E43/G43*100,0)","v":0},{"$f":"Goals!D206","v":0},0,{"$f":"Goals!E206","v":0},{"$f":"IFERROR(E43/K43*100,0)","v":0},{"$f":"Goals!F206","v":0},0]
[null,null,{"$f":"WorkforceAnalysis!G$11+3","v":3},{"$f":"D43","v":0},{"$f":"E43","v":0},0,null,null,{"$f":"Goals!D420","v":0},0,null,null,{"$f":"Goals!F420","v":0},0]
["03","Professionals",{"$f":"WorkforceAnalysis!G$11","v":0},{"$f":"K23+P23","v":0},{"$f":"L23+Q23","v":0},0,{"$f":"Goals!C207","v":0},0,{"$f":"Goals!D207","v":0},0,{"$f":"Goals!E207","v":0},0,{"$f":"Goals!F207","v":0},0]
[null,null,{"$f":"WorkforceAnalysis!G$11+3","v":3},{"$f":"D45","v":0},{"$f":"E45","v":0},0,null,null,{"$f":"Goals!D421","v":0},0,null,null,{"$f":"Goals!F421","v":0},0]
["04","Semi-Professionals & Technicians",{"$f":"WorkforceAnalysis!G$11","v":0},{"$f":"K25+P25","v":0},{"$f":"L25+Q25","v":0},{"$f":"IFERROR(E47/D47*100,0)","v":0},{"$f":"Goals!C208","v":0},{"$f":"IFERROR(E47/G47*100,0)","v":0},{"$f":"Goals!D208","v":0},{"$f":"IFERROR(F47/I47*100,0)","v":0},{"$f":"Goals!E208","v":0},{"$f":"IFERROR(E47/K47*100,0)","v":0},{"$f":"Goals!F208","v":0},{"$f":"IFERROR(F47/M47*100,0)","v":0}]
[null,null,{"$f":"WorkforceAnalysis!G$11+3","v":3},{"$f":"D47","v":0},{"$f":"E47","v":0},{"$f":"IFERROR(E48/D48*100,0)","v":0},null,null,{"$f":"Goals!D422","v":0},{"$f":"IFERROR(F48/I48*100,0)","v":0},null,null,{"$f":"Goals!F422","v":0},{"$f":"IFERROR(F48/M48*100,0)","v":0}]
["05","Supervisors",{"$f":"WorkforceAnalysis!G$11","v":0},{"$f":"K27+P27","v":0},{"$f":"L27+Q27","v":0},{"$f":"IFERROR(E49/D49*100,0)","v":0},{"$f":"Goals!C209","v":0},{"$f":"IFERROR(E49/G49*100,0)","v":0},{"$f":"Goals!D209","v":0},{"$f":"IFERROR(F49/I49*100,0)","v":0},{"$f":"Goals!E209","v":0},{"$f":"IFERROR(E49/K49*100,0)","v":0},{"$f":"Goals!F209","v":0},{"$f":"IFERROR(F49/M49*100,0)","v":0}]
[null,null,{"$f":"WorkforceAnalysis!G$11+3","v":3},{"$f":"D49","v":0},{"$f":"E49","v":0},{"$f":"IFERROR(E50/D50*100,0)","v":0},null,null,{"$f":"Goals!D423","v":0},{"$f":"IFERROR(F50/I50*100,0)","v":0},null,null,{"$f":"Goals!F423","v":0},{"$f":"IFERROR(F50/M50*100,0)","v":0}]
["06","Supervisors: Crafts & Trades",{"$f":"WorkforceAnalysis!G$11","v":0},{"$f":"K29+P29","v":0},{"$f":"L29+Q29","v":0},{"$f":"IFERROR(E51/D51*100,0)","v":0},{"$f":"Goals!C210","v":0},{"$f":"IFERROR(E51/G51*100,0)","v":0},{"$f":"Goals!D210","v":0},{"$f":"IFERROR(F51/I51*100,0)","v":0},{"$f":"Goals!E210","v":0},{"$f":"IFERROR(E51/K51*100,0)","v":0},{"$f":"Goals!F210","v":0},{"$f":"IFERROR(F51/M51*100,0)","v":0}]
[null,null,{"$f":"WorkforceAnalysis!G$11+3","v":3},{"$f":"D51","v":0},{"$f":"E51","v":0},0,null,null,{"$f":"Goals!D424","v":0},0,null,null,{"$f":"Goals!F424","v":0},0]
[]
[]
["A","B","C","D","E","F","G","H","I","J","K","L","M","N","O","P","Q","R","S","T","U","V","W","X","Y"]
[]
["Data sources:",null,null,"Part 1: Workforce Analysis","Part 1: Workforce Analysis",null,"Part 1: Workforce Analysis",null,"E - H",null,"Part 2: Flow Data Analysis","Part 2: Flow Data Analysis",null,"K x G ÷ 100","L - N","Part 2: Flow Data Analysis","Part 2: Flow Data Analysis","Q ÷ P x 100 ","P x F ÷ 100","Q - S","Part 2: Flow Data Analysis","Part 2: Flow Data Analysis","V ÷ U x 100 ","U x F ÷ 100","V - X"]
[{"$nulls":5},"E ÷ D",null,"D x G",null,"E ÷ H",null,null,"L ÷ K"]
[{"$nulls":5},"x 100",null,"÷ 100",null,"x 100 ",null,null,"x 100 "]
[]
[null,null,null,"i","i","i","i","i","i","i","i","i","i","i","i","i","i","i","i","i","i","i","i","i","i"]
["Employment Equity Occupational Group (EEOG)",null,"Year","Workforce Analysis",{"$nulls":6},"Flow Data Analysis"]
[null,null,null,"Workforce",{"$nulls":6},"Hires",{"$nulls":4},"Promotions",{"$nulls":4},"Terminations"]
[null,null,null,"All Employees","Visible Minorities",{"$nulls":5},"All Employees","Visible Minorities",null,null,null,"All Employees","Visible Minorities",null,null,null,"All Employees","Visible Minorities"]
[{"$nulls":4},"Representation",null,"Availability",null,"Gap","EE Result",null,"Actual",null,"Expected","Difference",null,"Actual",null,"Expected","Difference",null,"Actual",null,"Expected","Difference"]
[null,null,"#","#","#","%","%","#","#","%","#","#","%","#","#","#","#","%","#","#","#","#","%","#","#"]
["07","Administrative & Senior Clerical",{"$f":"WorkforceAnalysis!C$11","v":0},{"$f":"WorkforceAnalysis!C24","v":0},{"$f":"WorkforceAnalysis!D88","v":0},{"$f":"IFERROR(E67/D67*100,0)","v":0},{"$f":"WorkforceAnalysis!E88","v":0},{"$f":"D67*G67/100","v":0},{"$f":"E67-H67","v":0},{"$f":"IFERROR(E67/H67*100,0)","v":0}]
[null,null,{"$f":"WorkforceAnalysis!G$11","v":0},{"$f":"WorkforceAnalysis!G24","v":0},{"$f":"WorkforceAnalysis!H88","v":0},0,{"$f":"WorkforceAnalysis!I88","v":0},0,{"$f":"E68-H68","v":0},0,{"$f":"FlowDataAnalysis!C22+FlowDataAnalysis!E22","v":0},{"$f":"FlowDataAnalysis!D103+FlowDataAnalysis!F103","v":0},{"$f":"IFERROR(L68/K68*100,0)","v":0},{"$f":"K68*G68/100","v":0},{"$f":"L68-N68","v":0},{"$f":"FlowDataAnalysis!H22+FlowDataAnalysis!J22","v":0},{"$f":"FlowDataAnalysis!I103+FlowDataAnalysis!K103","v":0},{"$f":"IFERROR(Q68/P68*100,0)","v":0},{"$f":"P68*$F$67/100","v":0},{"$f":"Q68-S68","v":0},{"$f":"FlowDataAnalysis!M22+FlowDataAnalysis!O22","v":0},{"$f":"FlowDataAnalysis!N103+FlowDataAnalysis!P103","v":0},{"$f":"IFERROR(V68/U68*100,0)","v":0},{"$f":"U68*$F$67/100","v":0},{"$f":"V68-X68","v":0}]
["08","Skilled Sales & Service Personnel ",{"$f":"WorkforceAnalysis!C$11","v":0},{"$f":"WorkforceAnalysis!C25","v":0},{"$f":"WorkforceAnalysis!D89","v":0},0,{"$f":"WorkforceAnalysis!E89","v":0},0,{"$f":"E69-H69","v":0},0]
[null,null,{"$f":"WorkforceAnalysis!G$11","v":0},{"$f":"WorkforceAnalysis!G25","v":0},{"$f":"WorkforceAnalysis!H89","v":0},0,{"$f":"WorkforceAnalysis!I89","v":0},0,{"$f":"E70-H70","v":0},0,{"$f":"FlowDataAnalysis!C23+FlowDataAnalysis!E23","v":0},{"$f":"FlowDataAnalysis!D104+FlowDataAnalysis!F104","v":0},{"$f":"IFERROR(L70/K70*100,0)","v":0},{"$f":"K70*G70/100","v":0},{"$f":"L70-N70","v":0},{"$f":"FlowDataAnalysis!H23+FlowDataAnalysis!J23","v":0},{"$f":"FlowDataAnalysis!I104+FlowDataAnalysis!K104","v":0},{"$f":"IFERROR(Q70/P70*100,0)","v":0},{"$f":"P70*$F$69/100","v":0},{"$f":"Q70-S70","v":0},{"$f":"FlowDataAnalysis!M23+FlowDataAnalysis!O23","v":0},{"$f":"FlowDataAnalysis!N104+FlowDataAnalysis!P104","v":0},{"$f":"IFERROR(V70/U70*100,0)","v":0},{"$f":"U70*$F$69/100","v":0},{"$f":"V70-X70","v":0}]
["09","Skilled Crafts & Trades Workers ",{"$f":"WorkforceAnalysis!C$11","v":0},{"$f":"WorkforceAnalysis!C26","v":0},{"$f":"WorkforceAnalysis!D90","v":0},0,{"$f":"WorkforceAnalysis!E90","v":0},0,{"$f":"E71-H71","v":0},0]
[null,null,{"$f":"WorkforceAnalysis!G$11","v":0},{"$f":"WorkforceAnalysis!G26","v":0},{"$f":"WorkforceAnalysis!H90","v":0},0,{"$f":"WorkforceAnalysis!I90","v":0},0,{"$f":"E72-H72","v":0},0,{"$f":"FlowDataAnalysis!C24+FlowDataAnalysis!E24","v":0},{"$f":"FlowDataAnalysis!D105+FlowDataAnalysis!F105","v":0},{"$f":"IFERROR(L72/K72*100,0)","v":0},{"$f":"K72*G72/100","v":0},{"$f":"L72-N72","v":0},{"$f":"FlowDataAnalysis!H24+FlowDataAnalysis!J24","v":0},{"$f":"FlowDataAnalysis!I105+FlowDataAnalysis!K105","v":0},{"$f":"IFERROR(Q72/P72*100,0)","v":0},{"$f":"P72*$F$71/100","v":0},{"$f":"Q72-S72","v":0},{"$f":"FlowDataAnalysis!M24+FlowDataAnalysis!O24","v":0},{"$f":"FlowDataAnalysis!N105+FlowDataAnalysis!P105","v":0},{"$f":"IFERROR(V72/U72*100,0)","v":0},{"$f":"U72*$F$71/100","v":0},{"$f":"V72-X72","v":0}]
[10,"Clerical Personnel",{"$f":"WorkforceAnalysis!C$11","v":0},{"$f":"WorkforceAnalysis!C27","v":0},{"$f":"WorkforceAnalysis!D91","v":0},{"$f":"IFERROR(E73/D73*100,0)","v":0},{"$f":"WorkforceAnalysis!E91","v":0},{"$f":"D73*G73/100","v":0},{"$f":"E73-H73","v":0},{"$f":"IFERROR(E73/H73*100,0)","v":0}]
[null,null,{"$f":"WorkforceAnalysis!G$11","v":0},{"$f":"WorkforceAnalysis!G27","v":0},{"$f":"WorkforceAnalysis!H91","v":0},0,{"$f":"WorkforceAnalysis!I91","v":0},0,{"$f":"E74-H74","v":0},0,{"$f":"FlowDataAnalysis!C25+FlowDataAnalysis!E25","v":0},{"$f":"FlowDataAnalysis!D106+FlowDataAnalysis!F106","v":0},{"$f":"IFERROR(L74/K74*100,0)","v":0},{"$f":"K74*G74/100","v":0},{"$f":"L74-N74","v":0},{"$f":"FlowDataAnalysis!H25+FlowDataAnalysis!J25","v":0},{"$f":"FlowDataAnalysis!I106+FlowDataAnalysis!K106","v":0},{"$f":"IFERROR(Q74/P74*100,0)","v":0},{"$f":"P74*$F$73/100","v":0},{"$f":"Q74-S74","v":0},{"$f":"FlowDataAnalysis!M25+FlowDataAnalysis!O25","v":0},{"$f":"FlowDataAnalysis!N106+FlowDataAnalysis!P106","v":0},{"$f":"IFERROR(V74/U74*100,0)","v":0},{"$f":"U74*$F$73/100","v":0},{"$f":"V74-X74","v":0}]
[11,"Intermediate Sales & Service Personnel",{"$f":"WorkforceAnalysis!C$11","v":0},{"$f":"WorkforceAnalysis!C28","v":0},{"$f":"WorkforceAnalysis!D92","v":0},0,{"$f":"WorkforceAnalysis!E92","v":0},0,{"$f":"E75-H75","v":0},0]
[null,null,{"$f":"WorkforceAnalysis!G$11","v":0},{"$f":"WorkforceAnalysis!G28","v":0},{"$f":"WorkforceAnalysis!H92","v":0},0,{"$f":"WorkforceAnalysis!I92","v":0},0,{"$f":"E76-H76","v":0},0,{"$f":"FlowDataAnalysis!C26+FlowDataAnalysis!E26","v":0},{"$f":"FlowDataAnalysis!D107+FlowDataAnalysis!F107","v":0},{"$f":"IFERROR(L76/K76*100,0)","v":0},{"$f":"K76*G76/100","v":0},{"$f":"L76-N76","v":0},{"$f":"FlowDataAnalysis!H26+FlowDataAnalysis!J26","v":0},{"$f":"FlowDataAnalysis!I107+FlowDataAnalysis!K107","v":0},{"$f":"IFERROR(Q76/P76*100,0)","v":0},{"$f":"P76*$F$75/100","v":0},{"$f":"Q76-S76","v":0},{"$f":"FlowDataAnalysis!M26+FlowDataAnalysis!O26","v":0},{"$f":"FlowDataAnalysis!N107+FlowDataAnalysis!P107","v":0},{"$f":"IFERROR(V76/U76*100,0)","v":0},{"$f":"U76*$F$75/100","v":0},{"$f":"V76-X76","v":0}]
[12,"Semi-Skilled Manual Workers",{"$f":"WorkforceAnalysis!C$11","v":0},{"$f":"WorkforceAnalysis!C29","v":0},{"$f":"WorkforceAnalysis!D93","v":0},0,{"$f":"WorkforceAnalysis!E93","v":0},0,{"$f":"E77-H77","v":0},0]
[null,null,{"$f":"WorkforceAnalysis!G$11","v":0},{"$f":"WorkforceAnalysis!G29","v":0},{"$f":"WorkforceAnalysis!H93","v":0},0,{"$f":"WorkforceAnalysis!I93","v":0},0,{"$f":"E78-H78","v":0},0,{"$f":"FlowDataAnalysis!C27+FlowDataAnalysis!E27","v":0},{"$f":"FlowDataAnalysis!D108+FlowDataAnalysis!F108","v":0},{"$f":"IFERROR(L78/K78*100,0)","v":0},{"$f":"K78*G78/100","v":0},{"$f":"L78-N78","v":0},{"$f":"FlowDataAnalysis!H27+FlowDataAnalysis!J27","v":0},{"$f":"FlowDataAnalysis!I108+FlowDataAnalysis!K108","v":0},{"$f":"IFERROR(Q78/P78*100,0)","v":0},{"$f":"P78*$F$77/100","v":0},{"$f":"Q78-S78","v":0},{"$f":"FlowDataAnalysis!M27+FlowDataAnalysis!O27","v":0},{"$f":"FlowDataAnalysis!N108+FlowDataAnalysis!P108","v":0},{"$f":"IFERROR(V78/U78*100,0)","v":0},{"$f":"U78*$F$77/100","v":0},{"$f":"V78-X78","v":0}]
[]
["Data sources:",null,null,"Part 2: Flow Data Analysis","Part 2: Flow Data Analysis","E ÷ D x 100","Part 3: Goals","E ÷ G x 100","Part 3: Goals","F ÷ I x 100 ","Part 3: Goals","E ÷ K x 100","Part 3: Goals","F ÷ M x 100 "]
[]
[]
[]
[null,null,null,"i","i","i","i","i","i","i","i","i","i","i"]
["Employment Equity Occupational Group (EEOG)",null,"Year","New Entrants",null,null,"Goals",{"$nulls":7},"Comments"]
[null,null,null,"Flow Data",null,null,"Short-term Goals",null,null,null,"Long-term Goals"]
[null,null,null,"All Employees","Visible Minorities",null,"Visible Minorities",null,null,null,"Visible Minorities"]
[{"$nulls":4},"Actual",null,"Goal","Percent of Goal Met","Goal","Percent of Goal Met","Goal","Percent of Goal Met","Goal","Percent of Goal Met"]
[null,null,"#","#","#","%","#","%","%","%","#","%","%","%"]
["07","Administrative & Senior Clerical",{"$f":"WorkforceAnalysis!G$11","v":0},{"$f":"K68+P68","v":0},{"$f":"L68+Q68","v":0},{"$f":"IFERROR(E90/D90*100,0)","v":0},{"$f":"Goals!C211","v":0},{"$f":"IFERROR(E90/G90*100,0)","v":0},{"$f":"Goals!D211","v":0},{"$f":"IFERROR(F90/I90*100,0)","v":0},{"$f":"Goals!E211","v":0},{"$f":"IFERROR(E90/K90*100,0)","v":0},{"$f":"Goals!F211","v":0},{"$f":"IFERROR(F90/M90*100,0)","v":0}]
[null,null,{"$f":"WorkforceAnalysis!G$11+3","v":3},{"$f":"D90","v":0},{"$f":"E90","v":0},{"$f":"IFERROR(E91/D91*100,0)","v":0},null,null,{"$f":"Goals!D425","v":0},{"$f":"IFERROR(F91/I91*100,0)","v":0},null,null,{"$f":"Goals!F425","v":0},{"$f":"IFERROR(F91/M91*100,0)","v":0}]
["08","Skilled Sales & Service Personnel ",{"$f":"WorkforceAnalysis!G$11","v":0},{"$f":"K70+P70","v":0},{"$f":"L70+Q70","v":0},0,{"$f":"Goals!C212","v":0},{"$f":"IFERROR(E92/G92*100,0)","v":0},{"$f":"Goals!D212","v":0},0,{"$f":"Goals!E212","v":0},{"$f":"IFERROR(E92/K92*100,0)","v":0},{"$f":"Goals!F212","v":0},0]
[null,null,{"$f":"WorkforceAnalysis!G$11+3","v":3},{"$f":"D92","v":0},{"$f":"E92","v":0},0,null,null,{"$f":"Goals!D426","v":0},0,null,null,{"$f":"Goals!F426","v":0},0]
["09","Skilled Crafts & Trades Workers ",{"$f":"WorkforceAnalysis!G$11","v":0},{"$f":"K72+P72","v":0},{"$f":"L72+Q72","v":0},0,{"$f":"Goals!C213","v":0},0,{"$f":"Goals!D213","v":0},0,{"$f":"Goals!E213","v":0},0,{"$f":"Goals!F213","v":0},0]
[null,null,{"$f":"WorkforceAnalysis!G$11+3","v":3},{"$f":"D94","v":0},{"$f":"E94","v":0},0,null,null,{"$f":"Goals!D427","v":0},0,null,null,{"$f":"Goals!F427","v":0},0]
[10,"Clerical Personnel",{"$f":"WorkforceAnalysis!G$11","v":0},{"$f":"K74+P74","v":0},{"$f":"L74+Q74","v":0},{"$f":"IFERROR(E96/D96*100,0)","v":0},{"$f":"Goals!C214","v":0},{"$f":"IFERROR(E96/G96*100,0)","v":0},{"$f":"Goals!D214","v":0},{"$f":"IFERROR(F96/I96*100,0)","v":0},{"$f":"Goals!E214","v":0},{"$f":"IFERROR(E96/K96*100,0)","v":0},{"$f":"Goals!F214","v":0},{"$f":"IFERROR(F96/M96*100,0)","v":0}]
[null,null,{"$f":"WorkforceAnalysis!G$11+3","v":3},{"$f":"D96","v":0},{"$f":"E96","v":0},{"$f":"IFERROR(E97/D97*100,0)","v":0},null,null,{"$f":"Goals!D428","v":0},{"$f":"IFERROR(F97/I97*100,0)","v":0},null,null,{"$f":"Goals!F428","v":0},{"$f":"IFERROR(F97/M97*100,0)","v":0}]
[11,"Intermediate Sales & Service Personnel",{"$f":"WorkforceAnalysis!G$11","v":0},{"$f":"K76+P76","v":0},{"$f":"L76+Q76","v":0},0,{"$f":"Goals!C215","v":0},{"$f":"IFERROR(E98/G98*100,0)","v":0},{"$f":"Goals!D215","v":0},0,{"$f":"Goals!E215","v":0},{"$f":"IFERROR(E98/K98*100,0)","v":0},{"$f":"Goals!F215","v":0},0]
[null,null,{"$f":"WorkforceAnalysis!G$11+3","v":3},{"$f":"D98","v":0},{"$f":"E98","v":0},0,null,null,{"$f":"Goals!D429","v":0},0,null,null,{"$f":"Goals!F429","v":0},0]
[12,"Semi-Skilled Manual Workers",{"$f":"WorkforceAnalysis!G$11","v":0},{"$f":"K78+P78","v":0},{"$f":"L78+Q78","v":0},0,{"$f":"Goals!C216","v":0},0,{"$f":"Goals!D216","v":0},0,{"$f":"Goals!E216","v":0},0,{"$f":"Goals!F216","v":0},0]
[null,null,{"$f":"WorkforceAnalysis!G$11+3","v":3},{"$f":"D100","v":0},{"$f":"E100","v":0},0,null,null,{"$f":"Goals!D430","v":0},0,null,null,{"$f":"Goals!F430","v":0},0]
[]
[]
["A","B","C","D","E","F","G","H","I","J","K","L","M","N","O","P","Q","R","S","T","U","V","W","X","Y"]
[]
["Data sources:",null,null,"Part 1: Workforce Analysis","Part 1: Workforce Analysis",null,"Part 1: Workforce Analysis",null,"E - H",null,"Part 2: Flow Data Analysis","Part 2: Flow Data Analysis",null,"K x G ÷ 100","L - N","Part 2: Flow Data Analysis","Part 2: Flow Data Analysis","Q ÷ P x 100 ","P x F ÷ 100","Q - S","Part 2: Flow Data Analysis","Part 2: Flow Data Analysis","V ÷ U x 100 ","U x F ÷ 100","V - X"]
[{"$nulls":5},"E ÷ D",null,"D x G",null,"E ÷ H",null,null,"L ÷ K"]
[{"$nulls":5},"x 100",null,"÷ 100",null,"x 100 ",null,null,"x 100 "]
[]
[null,null,null,"i","i","i","i","i","i","i","i","i","i","i","i","i","i","i","i","i","i","i","i","i","i"]
["Employment Equity Occupational Group (EEOG)",null,"Year","Workforce Analysis",{"$nulls":6},"Flow Data Analysis"]
[null,null,null,"Workforce",{"$nulls":6},"Hires",{"$nulls":4},"Promotions",{"$nulls":4},"Terminations"]
[null,null,null,"All Employees","Visible Minorities",{"$nulls":5},"All Employees","Visible Minorities",null,null,null,"All Employees","Visible Minorities",null,null,null,"All Employees","Visible Minorities"]
[{"$nulls":4},"Representation",null,"Availability",null,"Gap","EE Result",null,"Actual",null,"Expected","Difference",null,"Actual",null,"Expected","Difference",null,"Actual",null,"Expected","Difference"]
[null,null,"#","#","#","%","%","#","#","%","#","#","%","#","#","#","#","%","#","#","#","#","%","#","#"]
[13,"Other Sales & Service Personnel ",{"$f":"WorkforceAnalysis!C$11","v":0},{"$f":"WorkforceAnalysis!C30","v":0},{"$f":"WorkforceAnalysis!D94","v":0},{"$f":"IFERROR(E116/D116*100,0)","v":0},{"$f":"WorkforceAnalysis!E94","v":0},{"$f":"D116*G116/100","v":0},{"$f":"E116-H116","v":0},{"$f":"IFERROR(E116/H116*100,0)","v":0}]
[null,null,{"$f":"WorkforceAnalysis!G$11","v":0},{"$f":"WorkforceAnalysis!G30","v":0},{"$f":"WorkforceAnalysis!H94","v":0},0,{"$f":"WorkforceAnalysis!I94","v":0},0,{"$f":"E117-H117","v":0},0,{"$f":"FlowDataAnalysis!C28+FlowDataAnalysis!E28","v":0},{"$f":"FlowDataAnalysis!D109+FlowDataAnalysis!F109","v":0},{"$f":"IFERROR(L117/K117*100,0)","v":0},{"$f":"K117*G117/100","v":0},{"$f":"L117-N117","v":0},{"$f":"FlowDataAnalysis!H28+FlowDataAnalysis!J28","v":0},{"$f":"FlowDataAnalysis!I109+FlowDataAnalysis!K109","v":0},{"$f":"IFERROR(Q117/P117*100,0)","v":0},{"$f":"P117*$F$116/100","v":0},{"$f":"Q117-S117","v":0},{"$f":"FlowDataAnalysis!M28+FlowDataAnalysis!O28","v":0},{"$f":"FlowDataAnalysis!N109+FlowDataAnalysis!P109","v":0},{"$f":"IFERROR(V117/U117*100,0)","v":0},{"$f":"U117*$F$116/100","v":0},{"$f":"V117-X117","v":0}]
[14,"Other Manual Workers",{"$f":"WorkforceAnalysis!C$11","v":0},{"$f":"WorkforceAnalysis!C31","v":0},{"$f":"WorkforceAnalysis!D95","v":0},0,{"$f":"WorkforceAnalysis!E95","v":0},0,{"$f":"E118-H118","v":0},0]
[null,null,{"$f":"WorkforceAnalysis!G$11","v":0},{"$f":"WorkforceAnalysis!G31","v":0},{"$f":"WorkforceAnalysis!H95","v":0},0,{"$f":"WorkforceAnalysis!I95","v":0},0,{"$f":"E119-H119","v":0},0,{"$f":"FlowDataAnalysis!C29+FlowDataAnalysis!E29","v":0},{"$f":"FlowDataAnalysis!D110+FlowDataAnalysis!F110","v":0},{"$f":"IFERROR(L119/K119*100,0)","v":0},{"$f":"K119*G119/100","v":0},{"$f":"L119-N119","v":0},{"$f":"FlowDataAnalysis!H29+FlowDataAnalysis!J29","v":0},{"$f":"FlowDataAnalysis!I110+FlowDataAnalysis!K110","v":0},{"$f":"IFERROR(Q119/P119*100,0)","v":0},{"$f":"P119*$F$118/100","v":0},{"$f":"Q119-S119","v":0},{"$f":"FlowDataAnalysis!M29+FlowDataAnalysis!O29","v":0},{"$f":"FlowDataAnalysis!N110+FlowDataAnalysis!P110","v":0},{"$f":"IFERROR(V119/U119*100,0)","v":0},{"$f":"U119*$F$118/100","v":0},{"$f":"V119-X119","v":0}]
["Total",null,{"$f":"WorkforceAnalysis!C$11","v":0},{"$f":"WorkforceAnalysis!C32","v":0},{"$f":"WorkforceAnalysis!D96","v":0},0,{"$f":"WorkforceAnalysis!E96","v":0},0,{"$f":"E120-H120","v":0},0]
[null,null,{"$f":"WorkforceAnalysis!G$11","v":0},{"$f":"WorkforceAnalysis!G32","v":0},{"$f":"WorkforceAnalysis!H96","v":0},0,{"$f":"WorkforceAnalysis!I96","v":0},0,{"$f":"E121-H121","v":0},0,{"$f":"FlowDataAnalysis!C30+FlowDataAnalysis!E30","v":0},{"$f":"FlowDataAnalysis!D111+FlowDataAnalysis!F111","v":0},{"$f":"IFERROR(L121/K121*100,0)","v":0},{"$f":"K121*G121/100","v":0},{"$f":"L121-N121","v":0},{"$f":"FlowDataAnalysis!H30+FlowDataAnalysis!J30","v":0},{"$f":"FlowDataAnalysis!I111+FlowDataAnalysis!K111","v":0},{"$f":"IFERROR(Q121/P121*100,0)","v":0},{"$f":"P121*$F$120/100","v":0},{"$f":"Q121-S121","v":0},{"$f":"FlowDataAnalysis!M30+FlowDataAnalysis!O30","v":0},{"$f":"FlowDataAnalysis!N111+FlowDataAnalysis!P111","v":0},{"$f":"IFERROR(V121/U121*100,0)","v":0},{"$f":"U121*$F$120/100","v":0},{"$f":"V121-X121","v":0}]
[]
["Data sources:",null,null,"Part 2: Flow Data Analysis","Part 2: Flow Data Analysis","E ÷ D x 100","Part 3: Goals","E ÷ G x 100","Part 3: Goals","F ÷ I x 100 ","Part 3: Goals","E ÷ K x 100","Part 3: Goals","F ÷ M x 100 "]
[]
[]
[]
[null,null,null,"i","i","i","i","i","i","i","i","i","i","i"]
["Employment Equity Occupational Group (EEOG)",null,"Year","New Entrants",null,null,"Goals",{"$nulls":7},"Comments"]
[null,null,null,"Flow Data",null,null,"Short-term Goals",null,null,null,"Long-term Goals"]
[null,null,null,"All Employees","Visible Minorities",null,"Visible Minorities",null,null,null,"Visible Minorities"]
[{"$nulls":4},"Actual",null,"Goal","Percent of Goal Met","Goal","Percent of Goal Met","Goal","Percent of Goal Met","Goal","Percent of Goal Met"]
[null,null,"#","#","#","%","#","%","%","%","#","%","%","%"]
[13,"Other Sales & Service Personnel ",{"$f":"WorkforceAnalysis!G$11","v":0},{"$f":"K117+P117","v":0},{"$f":"L117+Q117","v":0},{"$f":"IFERROR(E133/D133*100,0)","v":0},{"$f":"Goals!C217","v":0},{"$f":"IFERROR(E133/G133*100,0)","v":0},{"$f":"Goals!D217","v":0},{"$f":"IFERROR(F133/I133*100,0)","v":0},{"$f":"Goals!E217","v":0},{"$f":"IFERROR(E133/K133*100,0)","v":0},{"$f":"Goals!F217","v":0},{"$f":"IFERROR(F133/M133*100,0)","v":0}]
[null,null,{"$f":"WorkforceAnalysis!G$11+3","v":3},{"$f":"D133","v":0},{"$f":"E133","v":0},{"$f":"IFERROR(E134/D134*100,0)","v":0},null,null,{"$f":"Goals!D431","v":0},{"$f":"IFERROR(F134/I134*100,0)","v":0},null,null,{"$f":"Goals!F431","v":0},{"$f":"IFERROR(F134/M134*100,0)","v":0}]
[14,"Other Manual Workers",{"$f":"WorkforceAnalysis!G$11","v":0},{"$f":"K119+P119","v":0},{"$f":"L119+Q119","v":0},0,{"$f":"Goals!C218","v":0},{"$f":"IFERROR(E135/G135*100,0)","v":0},{"$f":"Goals!D218","v":0},0,{"$f":"Goals!E218","v":0},{"$f":"IFERROR(E135/K135*100,0)","v":0},{"$f":"Goals!F218","v":0},0]
[null,null,{"$f":"WorkforceAnalysis!G$11+3","v":3},{"$f":"D135","v":0},{"$f":"E135","v":0},0,null,null,{"$f":"Goals!D432","v":0},0,null,null,{"$f":"Goals!F432","v":0},0]
["Total",null,{"$f":"WorkforceAnalysis!G$11","v":0},{"$f":"K121+P121","v":0},{"$f":"L121+Q121","v":0},0,{"$f":"Goals!C219","v":0},0,{"$f":"Goals!D219","v":0},0,{"$f":"Goals!E219","v":0},0,{"$f":"Goals!F219","v":0},0]
[null,null,{"$f":"WorkforceAnalysis!G$11+3","v":3},{"$f":"D137","v":0},{"$f":"E137","v":0},0,null,null,{"$f":"Goals!D433","v":0},0,null,null,{"$f":"Goals!F433","v":0},0]

{"sheet":"Drop-downLists","index":7,"n_rows":33,"n_cols":5,"rows_kept":33,"cut":false,"hidden":true,"merged":[]}
["DATE",null,null,null,"SOURCE"]
["YYYY","MM","DD"]
[2013,"01","01",null,"2006 Census of Canada"]
[2014,"02","02",null,"2011 National Household Survey"]
[2015,"03","03",null,"2016 Census"]
[2016,"04","04",null,"2021 Census"]
[2017,"05","05"]
[2018,"06","06",null,"2006 Participation and Activity Limitation Survey"]
[2019,"07","07",null,"2012 Canadian Survey on Disability"]
[2020,"08","08",null,"2017 Canadian Survey on Disability"]
[2021,"09","09",null,"2022 Canadian Survey on Disability"]
[2022,10,10]
[2023,11,11]
[2024,12,12]
[2025,null,13]
[2026,null,14]
[2027,null,15]
[2028,null,16]
[2029,null,17]
[2030,null,18]
[null,null,19]
[null,null,20]
[null,null,21]
[null,null,22]
[null,null,23]
[null,null,24]
[null,null,25]
[null,null,26]
[null,null,27]
[null,null,28]
[null,null,29]
[null,null,30]
[null,null,31]

{"sheet":"Efforts","index":8,"n_rows":121,"n_cols":3,"rows_kept":121,"cut":false,"hidden":false,"merged":[[45,1,45,9],[47,1,47,9],[49,1,49,9],[37,1,37,9],[39,1,39,9],[41,1,41,9],[43,1,43,9],[35,1,35,9],[23,1,23,9],[25,1,25,9],[29,1,29,9],[31,1,31,9],[33,1,33,9],[0,0,0,9],[1,0,1,9],[2,0,2,9],[3,0,3,9],[7,0,7,9],[11,1,11,9],[13,1,13,9],[15,1,15,9],[17,1,17,9],[21,1,21,9],[19,1,19,9],[122,1,127,9],[53,1,58,9],[62,0,62,9],[64,1,64,9],[66,1,71,9],[75,1,80,9],[84,1,89,9],[91,1,91,9],[93,1,98,9],[100,1,100,9],[102,1,107,9],[111,1,116,9]]}
["Federal Contractors Program Achievement Report"]
["Part 8: Reasonable Efforts"]
[{"$f":"WorkforceAnalysis!A3:I3","v":"[Organization's Legal Name]"}]
[{"$f":"WorkforceAnalysis!A4:I4","v":"YYYY-MM-DD"}]
[]
["Efforts"]
[]
["Please check the appropriate boxes next to the efforts that your organization made to implement the Federal Contractors Program."]
[]
["Required measures:"]
[]
[null,"Ensured new employees were given the opportunity to self-identify and adjusted survey results accordingly."]
[]
[null,"Provided a self-identification questionnaire to employees who wished to change information previously submitted and to those who requested it, and adjusted survey results accordingly."]
[]
[null,"Adjusted survey results to reflect hires, promotions and terminations."]
[]
[null,"Updated the workforce analysis to reflect new hires, promotions and terminations; any changes employees made to their self-identification questionnaires; and any revisions made to the availability estimates."]
[]
[null,"Adjusted the availability estimates to reflect major changes in the workforce (e.g., changes in geographic recruitment areas, addition of new occupational groups or changes in the composition of occupational groups)."]
[]
[null,"Updated the availability estimates to incorporate new Census data as it is made available for employment equity purposes."]
[]
[null,"Ensured that any new gaps identified are addressed accordingly."]
[]
[null,"Maintained appropriate records in all required areas."]
[]
["Other measures:"]
[]
[null,"Reviewed employment systems, policies and practices to ensure that they do not result in barriers to employment of designated group members, monitored their implementation and adjusted as appropriate."]
[]
[null,"Have an accommodation policy and/or procedures which was communicated to all staff and ensured accommodation takes place."]
[]
[null,"Ensured ongoing senior-level support for employment equity and its implementation."]
[]
[null,"Established accountability mechanisms to ensure that the short-term goals would be met."]
[]
[null,"Communicated the goals to relevant managers as well as monitored and recorded the results."]
[]
[null,"Devoted adequate resources (financial and human) to ensure that the short-term goals would be met."]
[]
[null,"Consulted employee/union representatives on communication and implementation of employment equity."]
[]
[null,"Kept all staff, including new employees and managers, informed of the purpose of employment equity, the steps taken to implement it and the progress made in its implementation."]
[]
[null,"Put in place a strategy to ensure a barrier-free workplace."]
[]
[null,"Undertook initiatives to increase representation where gaps in representation were found."]
[]
[null,"Did all that might reasonably be expected to increase representation, taking into account resources and constraints."]
[]
[null,"Other (please describe):"]
{"$rows_empty":8}
["Operational Context"]
[]
["Please check the appropriate boxes and provide a brief overview of the events that have influenced your organization’s activities during the period between the first/previous and subsequent/current compliance assessment."]
[]
[null,"Impact of economic and industrial conditions on the organization."]
{"$rows_empty":8}
[null,"Any reorganization or other corporate structural changes."]
{"$rows_empty":8}
[null,"Acquisitions, mergers or transfers of employees."]
{"$rows_empty":7}
[null,null,"     "]
[null,"Significant layoffs (include the number of employees affected and the occupational groups of those employees)."]
{"$rows_empty":8}
[null,"Strikes (include dates, the number of employees affected and the occupational groups of those employees)."]
{"$rows_empty":8}
[null,"Other."]
{"$rows_empty":8}
["Additional Details"]
[null,null,"     "]
["Please provide any additional information (optional):"]